{"text_format":"1","workbook":"xlsx","n_sheets":14,"sheets":["入力シート１","入力シート２","印刷シート1","入力・印刷シート1(承認申請書)","入力・印刷シート2(営業所一覧表)","印刷シート２","社保等申告書","誓約書","データシート","受理票","承認書","【組合使用】","業種","都道府県"],"not_rendered":{"charts":0,"images":0,"macros":1,"external_links":0,"defined_names":7,"comments":1,"pivot_tables":0},"unopened":[],"bounds":{"document_bytes":16777216,"sheet_cells":100000,"rows_first":2000,"rows_last":500,"rows_between":2000,"halvings":0,"cell_chars":16384,"cell_head_chars":4096},"cells_cut":0,"cells_raw":0,"read":"whole","date_system":"1900"}

{"sheet":"入力シート１","index":0,"n_rows":71,"n_cols":8,"rows_kept":71,"cut":false,"hidden":false,"merged":[[65,0,70,0],[1,7,2,14],[3,7,4,14],[48,2,48,3],[5,2,5,3],[11,0,25,0],[6,0,10,0],[41,2,41,3],[26,0,38,0],[39,2,39,3],[40,2,40,3]]}
["入力シート1",null,null,null,null,"全ての入力が終わったらこのボタンを押すことでデスクトップに保存されます→",null,{"$f":"IF(【組合使用】!A4=\"\",\"\",CONCATENATE(【組合使用】!A4,\"･\"))&\"建設工事・\"&E12&\"・\"&SUBSTITUTE(SUBSTITUTE(ASC(E24),\"-\",\"\"),\"ｰ\",\"\")","v":"建設工事・・"}]
[null,"色のシートのところにデータを入力してください。",null,null,null,null,null,"↑ 作成するパソコンがセキュリティ等の理由によりマクロを有効にできないときは、\n　　上の表示内容どおりにこのファイルの名前を変更してください。"]
["「入力方法」欄に「入力」とある欄については、直接入力をしてください。"]
["「選択」とある欄については、カーソルを持っていくと下向き矢印が出るので、それをクリックし選択してください。",null,null,null,null,null,null,"↓　下のボタンは、仙南地域広域行政事務組合が使用しますので押さないでください。"]
[]
[null,"ｺｰﾄﾞ","記入項目",null,"データ入力欄","記入上の注意事項","入力\n方法"]
["建設業許可","1-1","法人・個人の別",null,null,"「法人」又は「個人」を選択","選択"]
[null,"1-2","建設業許可","許可者",null,"「大臣」又は「知事」を選択","選択"]
[null,"1-3",null,"特定・一般の別",null,"「一般」「特定」を選択\n両方の許可がある場合は「特定・一般」を選択","選択"]
[null,"1-4",null,"許可番号",null,"数字を入力","入力"]
[null,"1-5",null,"許可有効期限",null,"「H22.12.31」の形式で入力","入力"]
["本社（店）情報","2-1","商号","名称",null,"会社名を入力（例:株式会社□□□）","入力"]
[null,"2-2",null,"ﾌﾘｶﾞﾅ",null,"半角カタカナで入力","入力"]
[null,"2-3","代表者","役職名",null,"役職名を入力（例:代表取締役）","入力"]
[null,"2-4",null,"氏名",null,"氏名を入力","入力"]
[null,"2-5",null,"ﾌﾘｶﾞﾅ",null,"半角カタカナで入力","入力"]
[null,"2-6","所在地","郵便番号",null,"数字７桁で入力（ハイフンは自動）","入力"]
[null,"2-7",null,"都道府県",null,"都道府県名を入力","選択"]
[null,"2-8",null,"都道府県ﾌﾘｶﾞﾅ",{"$f":"IF(E18=\"\",\"\",VLOOKUP(E18,都道府県!B:C,2,FALSE))","v":""},"自動入力"]
[null,"2-9",null,"市区・郡町村名",null,"市区町村名まで入力","入力"]
[null,"2-10",null,"市区・郡町村名ﾌﾘｶﾞﾅ",null,"半角カタカナで入力","入力"]
[null,"2-11",null,"所在地",null,"市区町村名以下を入力","入力"]
[null,"2-12",null,"所在地ﾌﾘｶﾞﾅ",null,"半角カタカナで入力","入力"]
[null,"2-13","電話番号(入札・契約関係担当部門)",null,null,"ハイフンつきで入力（例0224-52-1320）","入力"]
[null,"2-14","FAX番号(　　　　　同　　 上　　　　　)",null,null,"ハイフンつきで入力（例0224-52-2660）","入力"]
[null,"2-15","Eメールアドレス（　　　同　　上　　　）",null,null,"半角英数字で入力","入力"]
["受任者情報","3-1","受任者の有無",null,null,"有無を選択","選択"]
[null,"3-1","商号","名称",null,"会社名と支店名などを入力\n（例:株式会社□□□　大河原支店）","入力"]
[null,"3-2",null,"ﾌﾘｶﾞﾅ",null,"半角カタカナで入力","入力"]
[null,"3-3","受任者名","役職名",null,"受任者の役職名を入力","入力"]
[null,"3-4",null,"氏名",null,"氏名を入力","入力"]
[null,"3-5",null,"ﾌﾘｶﾞﾅ",null,"半角カタカナで入力","入力"]
[null,"3-6","所在地","郵便番号",null,"数字７桁で入力（ハイフンは自動）","入力"]
[null,"3-7",null,"都道府県",null,"都道府県名を選択","選択"]
[null,"3-8",null,"市区・郡村名",null,"市区町村名まで入力","入力"]
[null,"3-9",null,"所在地",null,"市区町村名以下を入力","入力"]
[null,"3-10","電話番号",null,null,"ハイフンつきで入力（例0224-52-1320）","入力"]
[null,"3-11","FAX番号",null,null,"ハイフンつきで入力（例0224-52-2660）","入力"]
[null,"3-12","Eメールアドレス",null,null,"半角英数字で入力","入力"]
[null,"4-1","建設業退職金共済事業",null,null,"加入の有無を選択","選択"]
[null,"4-2","産業廃棄物処理業許可",null,null,"許可の有無を選択","選択"]
[null,"4-3","総合評点基準日",null,null,"「R1.6.30」の形式で入力","入力"]
[null,"4-4","営業年数",null,null,"数字で入力","入力"]
[null,"4-5","資本金",null,null,"数字で入力（単位:千円）","入力"]
[null,"4-6","総職員数",null,null,"数字で入力","入力"]
[null,"4-7","技術職員数","技術職員（1級）",null,"数字で入力","入力"]
[null,"4-8",null,"技術職員（2級）",null,"数字で入力","入力"]
[null,"4-9",null,"その他の技術職員",null,"数字で入力","入力"]
[null,"4-10","建設業従業者職員数",null,null,"数字で入力","入力"]
[null,"4-11","有資格者数","土木施工管理技士（1級）",null,"数字で入力","入力"]
[null,"4-12",null,"土木施工管理技士（2級）",null,"数字で入力","入力"]
[null,"4-13",null,"建築施工管理技士（1級）",null,"数字で入力","入力"]
[null,"4-14",null,"建築施工管理技士（2級）",null,"数字で入力","入力"]
[null,"4-15",null,"建築士（1級）",null,"数字で入力","入力"]
[null,"4-16",null,"建築士（2級）",null,"数字で入力","入力"]
[null,"4-17",null,"木造建築士",null,"数字で入力","入力"]
[null,"4-18",null,"建築設備士",null,"数字で入力","入力"]
[null,"4-19",null,"舗装施工管理技術者（1級）",null,"数字で入力","入力"]
[null,"4-20",null,"舗装施工管理技術者（2級）",null,"数字で入力","入力"]
[null,"4-21",null,"管工事施工管理技士(1級）",null,"数字で入力","入力"]
[null,"4-22",null,"管工事施工管理技士(2級）",null,"数字で入力","入力"]
[null,"4-23",null,"建設機械施工管理技士（1級）",null,"数字で入力","入力"]
[null,"4-24",null,"建設機械施工管理技士（2級）",null,"数字で入力","入力"]
[null,"4-25",null,"造園施工管理技士（1級）",null,"数字で入力","入力"]
[null,"4-26",null,"造園施工管理技士（2級）",null,"数字で入力","入力"]
["担当者","4-27","入札参加資格","申請担当部署、事務所名",null,"この申請に係る担当部署、事務所等の名称を入力","入力"]
[null,"4-28","承認申請関係","申請担当者氏名",null,"この申請に係る担当者氏名を入力","入力"]
[null,"4-29","連絡先","ﾌﾘｶﾞﾅ",null,"氏名のフリガナを半角ｶﾀｶﾅで入力","入力"]
[null,"4-30",null,"電話番号",null,"ハイフンつきで入力（例:0224-53-2111）","入力"]
[null,"4-31",null,"FAX番号",null,"ハイフンつきで入力（例:0224-53-2112）","入力"]
[null,"4-32",null,"Eメールアドレス",null,"半角英数字で入力","入力"]

{"sheet":"入力シート２","index":1,"n_rows":45,"n_cols":32,"rows_kept":45,"cut":false,"hidden":false,"merged":[[40,5,40,10],[40,11,40,12],[40,15,40,19],[40,20,40,21],[40,22,40,23],[40,24,40,25],[40,26,40,27],[42,20,42,21],[42,22,42,23],[42,24,42,25],[42,26,42,27],[41,24,41,25],[41,26,41,27],[41,11,41,12],[41,15,41,19],[41,20,41,21],[41,22,41,23],[9,28,41,30],[7,28,8,30],[10,20,10,21],[17,20,17,21],[17,22,17,23],[16,24,16,25],[16,26,16,27],[15,20,15,21],[15,22,15,23],[15,24,15,25],[15,26,15,27],[16,20,16,21],[16,22,16,23],[17,24,17,25],[17,26,17,27],[18,24,18,25],[18,26,18,27],[19,24,19,25],[19,26,19,27],[18,20,18,21],[18,22,18,23],[20,24,20,25],[20,26,20,27],[23,24,23,25],[6,0,6,3],[6,4,6,10],[7,11,8,12],[7,4,8,10],[7,0,8,1],[9,15,9,19],[7,13,8,13],[7,2,8,3],[7,26,8,27],[7,15,8,19],[9,26,9,27],[9,24,9,25],[9,22,9,23],[9,20,9,21],[7,14,8,14],[7,20,7,25],[8,20,8,21],[8,22,8,23],[8,24,8,25],[11,5,11,10],[10,22,10,23],[10,24,10,25],[10,26,10,27],[11,26,11,27],[14,5,14,10],[10,5,10,10],[9,11,9,12],[9,5,9,10],[14,20,14,21],[14,22,14,23],[14,24,14,25],[14,26,14,27],[12,26,12,27],[11,20,11,21],[11,22,11,23],[13,20,13,21],[13,22,13,23],[13,24,13,25],[13,26,13,27],[11,24,11,25],[12,20,12,21],[12,22,12,23],[12,24,12,25],[12,5,12,10],[12,15,12,19],[13,5,13,10],[26,5,26,10],[35,5,35,10],[20,5,20,10],[21,5,21,10],[22,5,22,10],[15,5,15,10],[16,5,16,10],[17,5,17,10],[18,5,18,10],[14,11,14,12],[14,15,14,19],[15,15,15,19],[17,11,17,12],[17,15,17,19],[16,15,16,19],[18,15,18,19],[19,11,19,12],[19,15,19,19],[22,15,22,19],[38,5,38,10],[31,5,31,10],[32,5,32,10],[33,5,33,10],[34,5,34,10],[25,5,25,10],[19,5,19,10],[16,11,16,12],[18,11,18,12],[22,11,22,12],[19,20,19,21],[19,22,19,23],[21,24,21,25],[21,26,21,27],[22,24,22,25],[22,26,22,27],[39,5,39,10],[41,5,41,10],[10,11,10,12],[10,15,10,19],[11,11,11,12],[11,15,11,19],[13,11,13,12],[13,15,13,19],[15,11,15,12],[12,11,12,12],[36,5,36,10],[37,5,37,10],[27,5,27,10],[28,5,28,10],[29,5,29,10],[30,5,30,10],[23,5,23,10],[24,5,24,10],[22,20,22,21],[22,22,22,23],[21,11,21,12],[21,15,21,19],[21,20,21,21],[21,22,21,23],[20,11,20,12],[20,15,20,19],[20,20,20,21],[20,22,20,23],[24,24,24,25],[24,26,24,27],[23,11,23,12],[23,15,23,19],[24,11,24,12],[24,15,24,19],[24,20,24,21],[24,22,24,23],[23,20,23,21],[23,22,23,23],[23,26,23,27],[25,24,25,25],[25,26,25,27],[26,24,26,25],[26,26,26,27],[27,24,27,25],[27,26,27,27],[26,11,26,12],[26,15,26,19],[26,20,26,21],[26,22,26,23],[25,11,25,12],[25,15,25,19],[25,20,25,21],[25,22,25,23],[28,24,28,25],[28,26,28,27],[27,11,27,12],[27,15,27,19],[28,11,28,12],[28,15,28,19],[28,20,28,21],[28,22,28,23],[27,20,27,21],[27,22,27,23],[29,24,29,25],[29,26,29,27],[30,24,30,25],[30,26,30,27],[31,24,31,25],[31,26,31,27],[30,11,30,12],[30,15,30,19],[30,20,30,21],[30,22,30,23],[29,11,29,12],[29,15,29,19],[29,20,29,21],[29,22,29,23],[32,24,32,25],[32,26,32,27],[31,11,31,12],[31,15,31,19],[32,11,32,12],[32,15,32,19],[32,20,32,21],[32,22,32,23],[31,20,31,21],[31,22,31,23],[33,24,33,25],[33,26,33,27],[34,24,34,25],[34,26,34,27],[35,24,35,25],[35,26,35,27],[34,11,34,12],[34,15,34,19],[34,20,34,21],[34,22,34,23],[33,11,33,12],[33,15,33,19],[33,20,33,21],[33,22,33,23],[36,24,36,25],[36,26,36,27],[35,11,35,12],[35,15,35,19],[36,11,36,12],[36,15,36,19],[36,20,36,21],[36,22,36,23],[35,20,35,21],[35,22,35,23],[37,24,37,25],[37,26,37,27],[38,24,38,25],[38,26,38,27],[39,24,39,25],[39,26,39,27],[38,11,38,12],[38,15,38,19],[38,20,38,21],[38,22,38,23],[37,11,37,12],[37,15,37,19],[37,20,37,21],[37,22,37,23],[39,11,39,12],[39,15,39,19],[39,20,39,21],[39,22,39,23],[13,0,13,1],[13,2,13,3],[14,0,15,1],[14,2,15,3],[9,0,10,1],[11,0,11,1],[11,2,11,3],[12,0,12,1],[12,2,12,3],[9,2,10,3],[20,0,20,1],[20,2,20,3],[21,0,22,1],[21,2,22,3],[18,0,18,1],[18,2,18,3],[19,0,19,1],[19,2,19,3],[16,0,16,1],[16,2,16,3],[17,0,17,1],[17,2,17,3],[27,0,27,1],[27,2,27,3],[28,0,28,1],[28,2,28,3],[25,0,25,1],[25,2,25,3],[26,0,26,1],[26,2,26,3],[23,0,23,1],[23,2,23,3],[24,0,24,1],[24,2,24,3],[33,0,33,1],[33,2,33,3],[34,0,34,1],[34,2,34,3],[31,0,31,1],[31,2,31,3],[32,0,32,1],[32,2,32,3],[29,0,29,1],[29,2,29,3],[30,0,30,1],[30,2,30,3],[39,0,39,1],[39,2,39,3],[41,0,41,1],[41,2,41,3],[37,0,37,1],[37,2,37,3],[38,0,38,1],[38,2,38,3],[35,0,35,1],[35,2,35,3],[36,0,36,1],[36,2,36,3],[40,0,40,1],[40,2,40,3]]}
["入力シート2",null,null,null,null,null,null,null,null,null,null,null,null,null,null,null,null,null,null,null,null,null,null,null,null,null,null,null,null,null,null,"本"]
[null,"色のシートのところにデータを入力してください。",null,null,null,null,null,null,null,null,null,null,null,null,null,null,null,null,null,null,null,null,null,null,null,null,null,null,null,null,null,"受"]
["[申請区分]：入札参加を希望するものには必ず「1」を入力してください。"]
["[許可区分]：一般であれば「1」、特定であれば「2」を入力してください。"]
["その他の項目は、経営規模等評定結果通知書・総合評定値通知書の各数値をご記入ください。なお、解体に係る経過措置が無い場合は総合評点欄に『無し』と入力して下さい。"]
["本店は「本」を、受任機関は、「受」を選択して入力してください。"]
["総合評定基準日",null,null,null,{"$f":"入力シート１!E42","v":"00:00:00"}]
["申請区分",null,"許可区分",null,"建設工事の種類",null,null,null,null,null,null,"総合評点\n(P)",null,"組合等級","本・受","完成工事高\n（2年又は3年平均）\n単位:千円",null,null,null,null,"技術職員数",null,null,null,null,null,"監理\n技術者数",null,"備考"]
[null,null,null,null,null,null,null,null,null,null,null,null,null,null,null,null,null,null,null,null,"1級",null,"2級",null,"その他"]
[null,null,null,null,"010","土木工事",null,null,null,null,null,null,null,{"$f":"IF(L10=\"\",\"\",IF(L10>=700,\"A\",IF(L10>=600,\"B\",\"C\")))","v":""}]
[null,null,null,null,null,"011プレストレストコンクリート",null,null,null,null,null,null,null,{"$f":"IF(L11=\"\",\"\",IF(L11>=700,\"A\",IF(L11>=600,\"B\",\"C\")))","v":""}]
[null,null,null,null,"020","建築一式",null,null,null,null,null,null,null,""]
[null,null,null,null,"030","大工",null,null,null,null,null,null,null,""]
[null,null,null,null,"040","左官",null,null,null,null,null,null,null,""]
[null,null,null,null,"050","とび・土工・コンクリート",null,null,null,null,null,null,null,""]
[null,null,null,null,null,"051　法面処理",null,null,null,null,null,null,null,""]
[null,null,null,null,"060","石",null,null,null,null,null,null,null,""]
[null,null,null,null,"070","屋根",null,null,null,null,null,null,null,""]
[null,null,null,null,"080","電気",null,null,null,null,null,null,null,""]
[null,null,null,null,"090","管",null,null,null,null,null,null,null,""]
[null,null,null,null,"100","タイル・れんが・ブロック",null,null,null,null,null,null,null,""]
[null,null,null,null,"110","鋼構造物",null,null,null,null,null,null,null,""]
[null,null,null,null,null,"111　鋼橋上部",null,null,null,null,null,null,null,""]
[null,null,null,null,"120","鉄筋",null,null,null,null,null,null,null,""]
[null,null,null,null,"130","ほ装",null,null,null,null,null,null,null,""]
[null,null,null,null,"140","しゅんせつ",null,null,null,null,null,null,null,""]
[null,null,null,null,"150","板金",null,null,null,null,null,null,null,""]
[null,null,null,null,"160","ガラス",null,null,null,null,null,null,null,""]
[null,null,null,null,"170","塗装",null,null,null,null,null,null,null,""]
[null,null,null,null,"180","防水",null,null,null,null,null,null,null,""]
[null,null,null,null,"190","内装仕上げ",null,null,null,null,null,null,null,""]
[null,null,null,null,"200","機械器具設置",null,null,null,null,null,null,null,""]
[null,null,null,null,"210","熱絶縁",null,null,null,null,null,null,null,""]
[null,null,null,null,"220","電気通信",null,null,null,null,null,null,null,""]
[null,null,null,null,"230","造園",null,null,null,null,null,null,null,""]
[null,null,null,null,240,"さく井",null,null,null,null,null,null,null,""]
[null,null,null,null,250,"建具",null,null,null,null,null,null,null,""]
[null,null,null,null,260,"水道施設",null,null,null,null,null,null,null,""]
[null,null,null,null,270,"消防施設",null,null,null,null,null,null,null,""]
[null,null,null,null,280,"清掃施設",null,null,null,null,null,null,null,{"$f":"IF(L40=\"\",\"\",IF(L40>=700,\"A\",IF(L40>=600,\"B\",\"C\")))","v":""}]
[null,null,null,null,"290","解体工事",null,null,null,null,null,null,null,{"$f":"IF(L41=\"\",\"\",IF(L41>=700,\"A\",IF(L41>=600,\"B\",\"C\")))","v":""}]
[null,null,null,null,null,"その他",null,null,null,null,null,null,null,""]
[]
[null,null,null,null,null,null,null,null,null,null,null,"無し"]
[null,null,null,null,null,null,null,null,null,null,null,"有り"]

{"sheet":"印刷シート1","index":2,"n_rows":59,"n_cols":30,"rows_kept":59,"cut":false,"hidden":false,"merged":[[57,0,57,1],[57,2,57,3],[57,5,57,10],[57,11,57,12],[57,15,57,18],[57,19,57,20],[57,21,57,22],[57,23,57,24],[57,25,57,26],[58,15,58,18],[28,15,28,18],[29,15,29,18],[30,15,30,18],[31,15,31,18],[32,15,32,18],[33,15,33,18],[34,15,34,18],[35,15,35,18],[36,15,36,18],[1,24,1,25],[1,26,1,30],[1,20,1,21],[10,17,10,19],[10,20,10,30],[0,0,0,11],[0,12,0,14],[0,22,0,25],[0,26,0,30],[4,17,4,19],[1,0,1,3],[1,4,1,6],[1,8,1,10],[1,11,1,13],[1,14,1,15],[1,16,1,18],[4,20,4,30],[5,17,5,19],[5,20,5,30],[6,27,6,30],[7,25,7,26],[7,27,7,30],[8,17,9,19],[6,17,7,19],[9,20,9,30],[50,2,50,3],[51,0,51,1],[11,17,11,19],[11,20,11,30],[11,3,11,13],[24,27,25,30],[26,27,58,30],[18,16,18,23],[15,16,17,18],[12,20,12,30],[12,3,12,13],[12,17,12,19],[51,2,51,3],[58,23,58,24],[58,25,58,26],[46,0,46,1],[46,2,46,3],[58,0,58,1],[58,2,58,3],[58,11,58,12],[58,19,58,20],[58,21,58,22],[56,19,56,20],[54,0,54,1],[54,2,54,3],[55,0,55,1],[55,2,55,3],[56,0,56,1],[56,2,56,3],[56,25,56,26],[55,11,55,12],[55,19,55,20],[55,21,55,22],[54,23,54,24],[54,25,54,26],[55,23,55,24],[55,25,55,26],[56,23,56,24],[55,5,55,10],[56,21,56,22],[54,11,54,12],[54,19,54,20],[54,21,54,22],[56,11,56,12],[54,15,54,18],[55,15,55,18],[56,15,56,18],[53,23,53,24],[53,25,53,26],[6,8,6,9],[7,8,7,9],[6,5,7,7],[6,0,7,2],[53,0,53,1],[53,2,53,3],[47,0,47,1],[47,2,47,3],[48,0,48,1],[48,2,48,3],[9,3,9,13],[8,0,9,2],[24,13,25,13],[50,0,50,1],[38,0,39,1],[38,2,39,3],[52,0,52,1],[52,2,52,3],[42,0,42,1],[42,2,42,3],[43,0,43,1],[43,2,43,3],[49,0,49,1],[49,2,49,3],[5,0,5,2],[8,4,8,6],[6,3,7,4],[10,3,10,13],[6,10,6,13],[7,10,7,13],[40,0,40,1],[40,2,40,3],[41,0,41,1],[41,2,41,3],[38,11,38,12],[33,5,33,10],[34,5,34,10],[35,5,35,10],[36,5,36,10],[37,5,37,10],[38,5,38,10],[39,5,39,10],[40,5,40,10],[41,5,41,10],[22,0,22,11],[22,12,22,14],[44,0,44,1],[44,2,44,3],[45,0,45,1],[45,2,45,3],[33,0,33,1],[33,2,33,3],[34,0,34,1],[34,2,34,3],[35,0,35,1],[35,2,35,3],[36,0,36,1],[36,2,36,3],[37,0,37,1],[37,2,37,3],[53,11,53,12],[53,19,53,20],[53,21,53,22],[52,19,52,20],[52,21,52,22],[52,15,52,18],[53,15,53,18],[50,11,50,12],[50,19,50,20],[50,21,50,22],[52,23,52,24],[52,25,52,26],[51,11,51,12],[51,19,51,20],[51,21,51,22],[50,23,50,24],[50,25,50,26],[51,23,51,24],[51,25,51,26],[50,15,50,18],[51,15,51,18],[52,11,52,12],[49,23,49,24],[49,25,49,26],[48,11,48,12],[49,11,49,12],[49,19,49,20],[49,21,49,22],[48,19,48,20],[48,21,48,22],[48,15,48,18],[49,15,49,18],[46,11,46,12],[46,19,46,20],[46,21,46,22],[48,23,48,24],[48,25,48,26],[47,11,47,12],[47,19,47,20],[47,21,47,22],[46,23,46,24],[46,25,46,26],[47,23,47,24],[47,25,47,26],[46,15,46,18],[47,15,47,18],[45,23,45,24],[45,25,45,26],[44,11,44,12],[45,11,45,12],[45,19,45,20],[45,21,45,22],[44,19,44,20],[44,21,44,22],[44,15,44,18],[45,15,45,18],[42,19,42,20],[42,21,42,22],[44,23,44,24],[44,25,44,26],[43,11,43,12],[43,19,43,20],[43,21,43,22],[42,23,42,24],[42,25,42,26],[43,23,43,24],[43,25,43,26],[42,15,42,18],[43,15,43,18],[41,23,41,24],[41,25,41,26],[40,11,40,12],[41,11,41,12],[41,19,41,20],[41,21,41,22],[40,19,40,20],[40,21,40,22],[40,15,40,18],[41,15,41,18],[38,19,38,20],[38,21,38,22],[38,23,38,24],[38,25,38,26],[40,23,40,24],[40,25,40,26],[39,11,39,12],[39,19,39,20],[39,21,39,22],[39,23,39,24],[39,25,39,26],[38,15,38,18],[39,15,39,18],[34,23,34,24],[34,25,34,26],[35,23,35,24],[35,25,35,26],[36,23,36,24],[36,25,36,26],[37,11,37,12],[37,19,37,20],[37,21,37,22],[37,23,37,24],[37,25,37,26],[36,11,36,12],[34,11,34,12],[34,19,34,20],[34,21,34,22],[35,19,35,20],[35,21,35,22],[36,19,36,20],[36,21,36,22],[37,15,37,18],[33,23,33,24],[33,25,33,26],[32,19,32,20],[32,21,32,22],[32,23,32,24],[32,25,32,26],[33,19,33,20],[33,21,33,22],[29,23,29,24],[29,25,29,26],[28,19,28,20],[28,21,28,22],[28,23,28,24],[28,25,28,26],[29,19,29,20],[29,21,29,22],[31,23,31,24],[31,25,31,26],[30,19,30,20],[30,21,30,22],[30,23,30,24],[30,25,30,26],[31,19,31,20],[31,21,31,22],[48,5,48,10],[49,5,49,10],[50,5,50,10],[51,5,51,10],[42,5,42,10],[43,5,43,10],[58,5,58,10],[27,11,27,12],[28,11,28,12],[30,11,30,12],[32,11,32,12],[52,5,52,10],[29,11,29,12],[31,11,31,12],[33,11,33,12],[35,11,35,12],[56,5,56,10],[53,5,53,10],[54,5,54,10],[44,5,44,10],[45,5,45,10],[46,5,46,10],[47,5,47,10],[42,11,42,12],[24,25,25,26],[24,19,24,24],[25,19,25,20],[25,21,25,22],[25,23,25,24],[27,5,27,10],[26,11,26,12],[26,25,26,26],[26,23,26,24],[26,21,26,22],[26,19,26,20],[27,19,27,20],[26,5,26,10],[27,21,27,22],[27,23,27,24],[27,25,27,26],[24,11,25,12],[24,4,25,10],[24,15,25,18],[26,15,26,18],[27,15,27,18],[24,14,25,14],[20,22,20,24],[20,0,21,4],[17,24,17,28],[18,24,18,28],[21,5,21,7],[21,8,21,21],[20,28,20,30],[20,19,20,21],[16,13,16,14],[16,6,16,12],[17,19,17,23],[20,25,20,27],[20,8,20,11],[20,12,20,14],[20,15,20,18],[20,5,20,7],[16,0,16,5],[17,0,17,5],[15,0,15,5],[15,6,15,14],[15,29,15,30],[16,29,16,30],[17,29,17,30],[18,29,18,30],[3,0,3,13],[3,17,3,30],[15,24,15,28],[16,24,16,28],[15,19,15,23],[16,19,16,23],[17,13,17,14],[17,6,17,12],[4,0,4,2],[12,0,12,2],[11,0,11,2],[10,0,10,2],[4,3,4,13],[5,3,5,13],[6,20,7,21],[6,22,7,24],[6,25,6,26],[8,21,8,23],[24,0,25,1],[24,2,25,3],[28,5,28,10],[26,2,27,3],[32,5,32,10],[26,0,27,1],[28,0,28,1],[28,2,28,3],[29,5,29,10],[30,5,30,10],[31,5,31,10],[29,0,29,1],[29,2,29,3],[30,0,30,1],[30,2,30,3],[31,0,32,1],[31,2,32,3]]}
["申請者カード（建設工事用）",null,null,null,null,null,null,null,null,null,null,null,"1/2枚目",null,null,null,null,null,null,null,null,null,"受付番号"]
["法人・個人の別",null,null,null,{"$f":"入力シート１!E7","v":0},null,null,null,"許可番号",null,null,{"$f":"入力シート１!E8","v":0},null,null,"許可",null,{"$f":"入力シート１!E9","v":0},null,null,"第",{"$f":"入力シート１!E10","v":0},null,"号",null,"許可\n有効期限",null,{"$f":"入力シート１!E11","v":"00:00:00"}]
[]
["申請者（本店等）",null,null,null,null,null,null,null,null,null,null,null,null,null,null,null,null,"代理人（受任者）"]
["フリガナ",null,null,{"$f":"入力シート１!E13","v":0},null,null,null,null,null,null,null,null,null,null,null,null,null,"フリガナ",null,null,{"$f":"入力シート１!E29","v":0}]
["商号又は名称",null,null,{"$f":"入力シート１!E12","v":0},null,null,null,null,null,null,null,null,null,null,null,null,null,"商号又は名称",null,null,{"$f":"入力シート１!E28","v":0}]
["代表者",null,null,"役職名",null,{"$f":"入力シート１!E14","v":0},null,null,"フリガナ",null,{"$f":"入力シート１!E16","v":0},null,null,null,null,null,null,"代表者",null,null,"役職名",null,{"$f":"入力シート１!E30","v":0},null,null,"フリガナ",null,{"$f":"入力シート１!E32","v":0}]
[null,null,null,null,null,null,null,null,"氏名",null,{"$f":"入力シート１!E15","v":0},null,null,null,null,null,null,null,null,null,null,null,null,null,null,"氏名",null,{"$f":"入力シート１!E31","v":0}]
["所在地",null,null,"〒",{"$f":"入力シート１!E17","v":0},null,null,null,null,null,null,null,null,null,null,null,null,"所在地",null,null,"〒",{"$f":"入力シート１!E33","v":0}]
[null,null,null,{"$f":"CONCATENATE(入力シート１!E18,入力シート１!E20,入力シート１!E22)","v":""},null,null,null,null,null,null,null,null,null,null,null,null,null,null,null,null,{"$f":"CONCATENATE(入力シート１!E34,入力シート１!E35,入力シート１!E36)","v":""}]
["電話番号",null,null,{"$f":"入力シート１!E24","v":0},null,null,null,null,null,null,null,null,null,null,null,null,null,"電話番号",null,null,{"$f":"入力シート１!E37","v":0}]
["FAX番号",null,null,{"$f":"入力シート１!E25","v":0},null,null,null,null,null,null,null,null,null,null,null,null,null,"FAX番号",null,null,{"$f":"入力シート１!E38","v":0}]
["Eメール",null,null,{"$f":"入力シート１!E26","v":0},null,null,null,null,null,null,null,null,null,null,null,null,null,"Eメール",null,null,{"$f":"入力シート１!E39","v":0}]
[]
[]
["総合評点基準日",null,null,null,null,null,{"$f":"入力シート１!E42","v":"00:00:00"},null,null,null,null,null,null,null,null,null,"技術職員数",null,null,"技術職員（1級）",null,null,null,null,{"$f":"入力シート１!E46","v":0},null,null,null,null,"人"]
["営業年数",null,null,null,null,null,{"$f":"入力シート１!E43","v":0},null,null,null,null,null,null,"年",null,null,null,null,null,"技術職員（2級）",null,null,null,null,{"$f":"入力シート１!E47","v":0},null,null,null,null,"人"]
["資本金",null,null,null,null,null,{"$f":"入力シート１!E44","v":0},null,null,null,null,null,null,"千円",null,null,null,null,null,"その他の技術職員",null,null,null,null,{"$f":"入力シート１!E48","v":0},null,null,null,null,"人"]
[null,null,null,null,null,null,null,null,null,null,null,null,null,null,null,null,"建設業従業者職員数",null,null,null,null,null,null,null,{"$f":"入力シート１!E49","v":0},null,null,null,null,"人"]
[]
["競争入札参加資格\n申請に関する連絡先",null,null,null,null,"部署名",null,null,{"$f":"入力シート１!E66","v":0},null,null,null,"担当者氏名",null,null,{"$f":"入力シート１!E67","v":0},null,null,null,"電話番号",null,null,{"$f":"入力シート１!E69","v":0},null,null,"FAX番号",null,null,{"$f":"入力シート１!E70","v":0}]
[null,null,null,null,null,"Eメール",null,null,{"$f":"入力シート１!E71","v":0}]
["申請者カード（建設工事用）",null,null,null,null,null,null,null,null,null,null,null,"2/2枚目"]
[]
["申請区分",null,"許可区分",null,"建設工事の種類",null,null,null,null,null,null,"総合評点\n(P)",null,"組合\n等級","本・受","完成工事高\n（2年又は3年平均）\n単位:千円",null,null,null,"技術職員数",null,null,null,null,null,"監理\n技術者数",null,"備考"]
[null,null,null,null,null,null,null,null,null,null,null,null,null,null,null,null,null,null,null,"1級",null,"2級",null,"その他"]
[{"$f":"IF(入力シート２!A10=1,\"○\",\"\")","v":""},null,{"$f":"IF(入力シート２!C10=\"\",\"\",IF(入力シート２!C10=1,\"一般\",\"特定\"))","v":""},null,"010","土木工事",null,null,null,null,null,{"$f":"入力シート２!L10","v":0},null,{"$f":"入力シート２!N10","v":""},{"$f":"入力シート２!O10","v":0},{"$f":"入力シート２!P10","v":0},null,null,null,{"$f":"入力シート２!U10","v":0},null,{"$f":"入力シート２!W10","v":0},null,{"$f":"入力シート２!Y10","v":0},null,{"$f":"入力シート２!AA10","v":0},null,{"$f":"入力シート２!AC10","v":0}]
[null,null,null,null,null,"011プレストレストコンクリート",null,null,null,null,null,{"$f":"入力シート２!L11","v":0},null,{"$f":"入力シート２!N11","v":""},{"$f":"入力シート２!O11","v":0},{"$f":"入力シート２!P11","v":0},null,null,null,{"$f":"入力シート２!U11","v":0},null,{"$f":"入力シート２!W11","v":0},null,{"$f":"入力シート２!Y11","v":0},null,{"$f":"入力シート２!AA11","v":0}]
[{"$f":"IF(入力シート２!A12=1,\"○\",\"\")","v":""},null,{"$f":"IF(入力シート２!C12=\"\",\"\",IF(入力シート２!C12=1,\"一般\",\"特定\"))","v":""},null,"020","建築一式",null,null,null,null,null,{"$f":"入力シート２!L12","v":0},null,{"$f":"入力シート２!N12","v":""},{"$f":"入力シート２!O12","v":0},{"$f":"入力シート２!P12","v":0},null,null,null,{"$f":"入力シート２!U12","v":0},null,{"$f":"入力シート２!W12","v":0},null,{"$f":"入力シート２!Y12","v":0},null,{"$f":"入力シート２!AA12","v":0}]
[{"$f":"IF(入力シート２!A13=1,\"○\",\"\")","v":""},null,{"$f":"IF(入力シート２!C13=\"\",\"\",IF(入力シート２!C13=1,\"一般\",\"特定\"))","v":""},null,"030","大工",null,null,null,null,null,{"$f":"入力シート２!L13","v":0},null,{"$f":"入力シート２!N13","v":""},{"$f":"入力シート２!O13","v":0},{"$f":"入力シート２!P13","v":0},null,null,null,{"$f":"入力シート２!U13","v":0},null,{"$f":"入力シート２!W13","v":0},null,{"$f":"入力シート２!Y13","v":0},null,{"$f":"入力シート２!AA13","v":0}]
[{"$f":"IF(入力シート２!A14=1,\"○\",\"\")","v":""},null,{"$f":"IF(入力シート２!C14=\"\",\"\",IF(入力シート２!C14=1,\"一般\",\"特定\"))","v":""},null,"040","左官",null,null,null,null,null,{"$f":"入力シート２!L14","v":0},null,{"$f":"入力シート２!N14","v":""},{"$f":"入力シート２!O14","v":0},{"$f":"入力シート２!P14","v":0},null,null,null,{"$f":"入力シート２!U14","v":0},null,{"$f":"入力シート２!W14","v":0},null,{"$f":"入力シート２!Y14","v":0},null,{"$f":"入力シート２!AA14","v":0}]
[{"$f":"IF(入力シート２!A15=1,\"○\",\"\")","v":""},null,{"$f":"IF(入力シート２!C15=\"\",\"\",IF(入力シート２!C15=1,\"一般\",\"特定\"))","v":""},null,"050","とび・土工・コンクリート",null,null,null,null,null,{"$f":"入力シート２!L15","v":0},null,{"$f":"入力シート２!N15","v":""},{"$f":"入力シート２!O15","v":0},{"$f":"入力シート２!P15","v":0},null,null,null,{"$f":"入力シート２!U15","v":0},null,{"$f":"入力シート２!W15","v":0},null,{"$f":"入力シート２!Y15","v":0},null,{"$f":"入力シート２!AA15","v":0}]
[null,null,null,null,null,"051　法面処理",null,null,null,null,null,{"$f":"入力シート２!L16","v":0},null,{"$f":"入力シート２!N16","v":""},{"$f":"入力シート２!O16","v":0},{"$f":"入力シート２!P16","v":0},null,null,null,{"$f":"入力シート２!U16","v":0},null,{"$f":"入力シート２!W16","v":0},null,{"$f":"入力シート２!Y16","v":0},null,{"$f":"入力シート２!AA16","v":0}]
[{"$f":"IF(入力シート２!A17=1,\"○\",\"\")","v":""},null,{"$f":"IF(入力シート２!C17=\"\",\"\",IF(入力シート２!C17=1,\"一般\",\"特定\"))","v":""},null,"060","石",null,null,null,null,null,{"$f":"入力シート２!L17","v":0},null,{"$f":"入力シート２!N17","v":""},{"$f":"入力シート２!O17","v":0},{"$f":"入力シート２!P17","v":0},null,null,null,{"$f":"入力シート２!U17","v":0},null,{"$f":"入力シート２!W17","v":0},null,{"$f":"入力シート２!Y17","v":0},null,{"$f":"入力シート２!AA17","v":0}]
[{"$f":"IF(入力シート２!A18=1,\"○\",\"\")","v":""},null,{"$f":"IF(入力シート２!C18=\"\",\"\",IF(入力シート２!C18=1,\"一般\",\"特定\"))","v":""},null,"070","屋根",null,null,null,null,null,{"$f":"入力シート２!L18","v":0},null,{"$f":"入力シート２!N18","v":""},{"$f":"入力シート２!O18","v":0},{"$f":"入力シート２!P18","v":0},null,null,null,{"$f":"入力シート２!U18","v":0},null,{"$f":"入力シート２!W18","v":0},null,{"$f":"入力シート２!Y18","v":0},null,{"$f":"入力シート２!AA18","v":0}]
[{"$f":"IF(入力シート２!A19=1,\"○\",\"\")","v":""},null,{"$f":"IF(入力シート２!C19=\"\",\"\",IF(入力シート２!C19=1,\"一般\",\"特定\"))","v":""},null,"080","電気",null,null,null,null,null,{"$f":"入力シート２!L19","v":0},null,{"$f":"入力シート２!N19","v":""},{"$f":"入力シート２!O19","v":0},{"$f":"入力シート２!P19","v":0},null,null,null,{"$f":"入力シート２!U19","v":0},null,{"$f":"入力シート２!W19","v":0},null,{"$f":"入力シート２!Y19","v":0},null,{"$f":"入力シート２!AA19","v":0}]
[{"$f":"IF(入力シート２!A20=1,\"○\",\"\")","v":""},null,{"$f":"IF(入力シート２!C20=\"\",\"\",IF(入力シート２!C20=1,\"一般\",\"特定\"))","v":""},null,"090","管",null,null,null,null,null,{"$f":"入力シート２!L20","v":0},null,{"$f":"入力シート２!N20","v":""},{"$f":"入力シート２!O20","v":0},{"$f":"入力シート２!P20","v":0},null,null,null,{"$f":"入力シート２!U20","v":0},null,{"$f":"入力シート２!W20","v":0},null,{"$f":"入力シート２!Y20","v":0},null,{"$f":"入力シート２!AA20","v":0}]
[{"$f":"IF(入力シート２!A21=1,\"○\",\"\")","v":""},null,{"$f":"IF(入力シート２!C21=\"\",\"\",IF(入力シート２!C21=1,\"一般\",\"特定\"))","v":""},null,"100","タイル・れんが・ブロック",null,null,null,null,null,{"$f":"入力シート２!L21","v":0},null,{"$f":"入力シート２!N21","v":""},{"$f":"入力シート２!O21","v":0},{"$f":"入力シート２!P21","v":0},null,null,null,{"$f":"入力シート２!U21","v":0},null,{"$f":"入力シート２!W21","v":0},null,{"$f":"入力シート２!Y21","v":0},null,{"$f":"入力シート２!AA21","v":0}]
[{"$f":"IF(入力シート２!A22=1,\"○\",\"\")","v":""},null,{"$f":"IF(入力シート２!C22=\"\",\"\",IF(入力シート２!C22=1,\"一般\",\"特定\"))","v":""},null,"110","鋼構造物",null,null,null,null,null,{"$f":"入力シート２!L22","v":0},null,{"$f":"入力シート２!N22","v":""},{"$f":"入力シート２!O22","v":0},{"$f":"入力シート２!P22","v":0},null,null,null,{"$f":"入力シート２!U22","v":0},null,{"$f":"入力シート２!W22","v":0},null,{"$f":"入力シート２!Y22","v":0},null,{"$f":"入力シート２!AA22","v":0}]
[null,null,null,null,null,"111　鋼橋上部",null,null,null,null,null,{"$f":"入力シート２!L23","v":0},null,{"$f":"入力シート２!N23","v":""},{"$f":"入力シート２!O23","v":0},{"$f":"入力シート２!P23","v":0},null,null,null,{"$f":"入力シート２!U23","v":0},null,{"$f":"入力シート２!W23","v":0},null,{"$f":"入力シート２!Y23","v":0},null,{"$f":"入力シート２!AA23","v":0}]
[{"$f":"IF(入力シート２!A24=1,\"○\",\"\")","v":""},null,{"$f":"IF(入力シート２!C24=\"\",\"\",IF(入力シート２!C24=1,\"一般\",\"特定\"))","v":""},null,"120","鉄筋",null,null,null,null,null,{"$f":"入力シート２!L24","v":0},null,{"$f":"入力シート２!N24","v":""},{"$f":"入力シート２!O24","v":0},{"$f":"入力シート２!P24","v":0},null,null,null,{"$f":"入力シート２!U24","v":0},null,{"$f":"入力シート２!W24","v":0},null,{"$f":"入力シート２!Y24","v":0},null,{"$f":"入力シート２!AA24","v":0}]
[{"$f":"IF(入力シート２!A25=1,\"○\",\"\")","v":""},null,{"$f":"IF(入力シート２!C25=\"\",\"\",IF(入力シート２!C25=1,\"一般\",\"特定\"))","v":""},null,"130","ほ装",null,null,null,null,null,{"$f":"入力シート２!L25","v":0},null,{"$f":"入力シート２!N25","v":""},{"$f":"入力シート２!O25","v":0},{"$f":"入力シート２!P25","v":0},null,null,null,{"$f":"入力シート２!U25","v":0},null,{"$f":"入力シート２!W25","v":0},null,{"$f":"入力シート２!Y25","v":0},null,{"$f":"入力シート２!AA25","v":0}]
[{"$f":"IF(入力シート２!A26=1,\"○\",\"\")","v":""},null,{"$f":"IF(入力シート２!C26=\"\",\"\",IF(入力シート２!C26=1,\"一般\",\"特定\"))","v":""},null,"140","しゅんせつ",null,null,null,null,null,{"$f":"入力シート２!L26","v":0},null,{"$f":"入力シート２!N26","v":""},{"$f":"入力シート２!O26","v":0},{"$f":"入力シート２!P26","v":0},null,null,null,{"$f":"入力シート２!U26","v":0},null,{"$f":"入力シート２!W26","v":0},null,{"$f":"入力シート２!Y26","v":0},null,{"$f":"入力シート２!AA26","v":0}]
[{"$f":"IF(入力シート２!A27=1,\"○\",\"\")","v":""},null,{"$f":"IF(入力シート２!C27=\"\",\"\",IF(入力シート２!C27=1,\"一般\",\"特定\"))","v":""},null,"150","板金",null,null,null,null,null,{"$f":"入力シート２!L27","v":0},null,{"$f":"入力シート２!N27","v":""},{"$f":"入力シート２!O27","v":0},{"$f":"入力シート２!P27","v":0},null,null,null,{"$f":"入力シート２!U27","v":0},null,{"$f":"入力シート２!W27","v":0},null,{"$f":"入力シート２!Y27","v":0},null,{"$f":"入力シート２!AA27","v":0}]
[{"$f":"IF(入力シート２!A28=1,\"○\",\"\")","v":""},null,{"$f":"IF(入力シート２!C28=\"\",\"\",IF(入力シート２!C28=1,\"一般\",\"特定\"))","v":""},null,"160","ガラス",null,null,null,null,null,{"$f":"入力シート２!L28","v":0},null,{"$f":"入力シート２!N28","v":""},{"$f":"入力シート２!O28","v":0},{"$f":"入力シート２!P28","v":0},null,null,null,{"$f":"入力シート２!U28","v":0},null,{"$f":"入力シート２!W28","v":0},null,{"$f":"入力シート２!Y28","v":0},null,{"$f":"入力シート２!AA28","v":0}]
[{"$f":"IF(入力シート２!A29=1,\"○\",\"\")","v":""},null,{"$f":"IF(入力シート２!C29=\"\",\"\",IF(入力シート２!C29=1,\"一般\",\"特定\"))","v":""},null,"170","塗装",null,null,null,null,null,{"$f":"入力シート２!L29","v":0},null,{"$f":"入力シート２!N29","v":""},{"$f":"入力シート２!O29","v":0},{"$f":"入力シート２!P29","v":0},null,null,null,{"$f":"入力シート２!U29","v":0},null,{"$f":"入力シート２!W29","v":0},null,{"$f":"入力シート２!Y29","v":0},null,{"$f":"入力シート２!AA29","v":0}]
[{"$f":"IF(入力シート２!A30=1,\"○\",\"\")","v":""},null,{"$f":"IF(入力シート２!C30=\"\",\"\",IF(入力シート２!C30=1,\"一般\",\"特定\"))","v":""},null,"180","防水",null,null,null,null,null,{"$f":"入力シート２!L30","v":0},null,{"$f":"入力シート２!N30","v":""},{"$f":"入力シート２!O30","v":0},{"$f":"入力シート２!P30","v":0},null,null,null,{"$f":"入力シート２!U30","v":0},null,{"$f":"入力シート２!W30","v":0},null,{"$f":"入力シート２!Y30","v":0},null,{"$f":"入力シート２!AA30","v":0}]
[{"$f":"IF(入力シート２!A31=1,\"○\",\"\")","v":""},null,{"$f":"IF(入力シート２!C31=\"\",\"\",IF(入力シート２!C31=1,\"一般\",\"特定\"))","v":""},null,"190","内装仕上げ",null,null,null,null,null,{"$f":"入力シート２!L31","v":0},null,{"$f":"入力シート２!N31","v":""},{"$f":"入力シート２!O31","v":0},{"$f":"入力シート２!P31","v":0},null,null,null,{"$f":"入力シート２!U31","v":0},null,{"$f":"入力シート２!W31","v":0},null,{"$f":"入力シート２!Y31","v":0},null,{"$f":"入力シート２!AA31","v":0}]
[{"$f":"IF(入力シート２!A32=1,\"○\",\"\")","v":""},null,{"$f":"IF(入力シート２!C32=\"\",\"\",IF(入力シート２!C32=1,\"一般\",\"特定\"))","v":""},null,"200","機械器具設置",null,null,null,null,null,{"$f":"入力シート２!L32","v":0},null,{"$f":"入力シート２!N32","v":""},{"$f":"入力シート２!O32","v":0},{"$f":"入力シート２!P32","v":0},null,null,null,{"$f":"入力シート２!U32","v":0},null,{"$f":"入力シート２!W32","v":0},null,{"$f":"入力シート２!Y32","v":0},null,{"$f":"入力シート２!AA32","v":0}]
[{"$f":"IF(入力シート２!A33=1,\"○\",\"\")","v":""},null,{"$f":"IF(入力シート２!C33=\"\",\"\",IF(入力シート２!C33=1,\"一般\",\"特定\"))","v":""},null,"210","熱絶縁",null,null,null,null,null,{"$f":"入力シート２!L33","v":0},null,{"$f":"入力シート２!N33","v":""},{"$f":"入力シート２!O33","v":0},{"$f":"入力シート２!P33","v":0},null,null,null,{"$f":"入力シート２!U33","v":0},null,{"$f":"入力シート２!W33","v":0},null,{"$f":"入力シート２!Y33","v":0},null,{"$f":"入力シート２!AA33","v":0}]
[{"$f":"IF(入力シート２!A34=1,\"○\",\"\")","v":""},null,{"$f":"IF(入力シート２!C34=\"\",\"\",IF(入力シート２!C34=1,\"一般\",\"特定\"))","v":""},null,"220","電気通信",null,null,null,null,null,{"$f":"入力シート２!L34","v":0},null,{"$f":"入力シート２!N34","v":""},{"$f":"入力シート２!O34","v":0},{"$f":"入力シート２!P34","v":0},null,null,null,{"$f":"入力シート２!U34","v":0},null,{"$f":"入力シート２!W34","v":0},null,{"$f":"入力シート２!Y34","v":0},null,{"$f":"入力シート２!AA34","v":0}]
[{"$f":"IF(入力シート２!A35=1,\"○\",\"\")","v":""},null,{"$f":"IF(入力シート２!C35=\"\",\"\",IF(入力シート２!C35=1,\"一般\",\"特定\"))","v":""},null,"230","造園",null,null,null,null,null,{"$f":"入力シート２!L35","v":0},null,{"$f":"入力シート２!N35","v":""},{"$f":"入力シート２!O35","v":0},{"$f":"入力シート２!P35","v":0},null,null,null,{"$f":"入力シート２!U35","v":0},null,{"$f":"入力シート２!W35","v":0},null,{"$f":"入力シート２!Y35","v":0},null,{"$f":"入力シート２!AA35","v":0}]
[{"$f":"IF(入力シート２!A36=1,\"○\",\"\")","v":""},null,{"$f":"IF(入力シート２!C36=\"\",\"\",IF(入力シート２!C36=1,\"一般\",\"特定\"))","v":""},null,240,"さく井",null,null,null,null,null,{"$f":"入力シート２!L36","v":0},null,{"$f":"入力シート２!N36","v":""},{"$f":"入力シート２!O36","v":0},{"$f":"入力シート２!P36","v":0},null,null,null,{"$f":"入力シート２!U36","v":0},null,{"$f":"入力シート２!W36","v":0},null,{"$f":"入力シート２!Y36","v":0},null,{"$f":"入力シート２!AA36","v":0}]
[{"$f":"IF(入力シート２!A37=1,\"○\",\"\")","v":""},null,{"$f":"IF(入力シート２!C37=\"\",\"\",IF(入力シート２!C37=1,\"一般\",\"特定\"))","v":""},null,250,"建具",null,null,null,null,null,{"$f":"入力シート２!L37","v":0},null,{"$f":"入力シート２!N37","v":""},{"$f":"入力シート２!O37","v":0},{"$f":"入力シート２!P37","v":0},null,null,null,{"$f":"入力シート２!U37","v":0},null,{"$f":"入力シート２!W37","v":0},null,{"$f":"入力シート２!Y37","v":0},null,{"$f":"入力シート２!AA37","v":0}]
[{"$f":"IF(入力シート２!A38=1,\"○\",\"\")","v":""},null,{"$f":"IF(入力シート２!C38=\"\",\"\",IF(入力シート２!C38=1,\"一般\",\"特定\"))","v":""},null,260,"水道施設",null,null,null,null,null,{"$f":"入力シート２!L38","v":0},null,{"$f":"入力シート２!N38","v":""},{"$f":"入力シート２!O38","v":0},{"$f":"入力シート２!P38","v":0},null,null,null,{"$f":"入力シート２!U38","v":0},null,{"$f":"入力シート２!W38","v":0},null,{"$f":"入力シート２!Y38","v":0},null,{"$f":"入力シート２!AA38","v":0}]
[{"$f":"IF(入力シート２!A39=1,\"○\",\"\")","v":""},null,{"$f":"IF(入力シート２!C39=\"\",\"\",IF(入力シート２!C39=1,\"一般\",\"特定\"))","v":""},null,270,"消防施設",null,null,null,null,null,{"$f":"入力シート２!L39","v":0},null,{"$f":"入力シート２!N39","v":""},{"$f":"入力シート２!O39","v":0},{"$f":"入力シート２!P39","v":0},null,null,null,{"$f":"入力シート２!U39","v":0},null,{"$f":"入力シート２!W39","v":0},null,{"$f":"入力シート２!Y39","v":0},null,{"$f":"入力シート２!AA39","v":0}]
[{"$f":"IF(入力シート２!A40=1,\"○\",\"\")","v":""},null,{"$f":"IF(入力シート２!C40=\"\",\"\",IF(入力シート２!C40=1,\"一般\",\"特定\"))","v":""},null,280,"清掃施設",null,null,null,null,null,{"$f":"入力シート２!L40","v":0},null,{"$f":"入力シート２!N40","v":""},{"$f":"入力シート２!O40","v":0},{"$f":"入力シート２!P40","v":0},null,null,null,{"$f":"入力シート２!U40","v":0},null,{"$f":"入力シート２!W40","v":0},null,{"$f":"入力シート２!Y40","v":0},null,{"$f":"入力シート２!AA40","v":0}]
[{"$f":"IF(入力シート２!A41=1,\"○\",\"\")","v":""},null,{"$f":"IF(入力シート２!C41=\"\",\"\",IF(入力シート２!C41=1,\"一般\",\"特定\"))","v":""},null,"290","解体工事",null,null,null,null,null,{"$f":"入力シート２!L41","v":0},null,{"$f":"入力シート２!N41","v":""},{"$f":"入力シート２!O41","v":0},{"$f":"入力シート２!P41","v":0},null,null,null,{"$f":"入力シート２!U41","v":0},null,{"$f":"入力シート２!W41","v":0},null,{"$f":"入力シート２!Y41","v":0},null,{"$f":"入力シート２!AA41","v":0}]
[{"$f":"IF(入力シート２!A42=1,\"○\",\"\")","v":""},null,{"$f":"IF(入力シート２!C42=\"\",\"\",IF(入力シート２!C42=1,\"一般\",\"特定\"))","v":""},null,null,"その他",null,null,null,null,null,{"$f":"入力シート２!L42","v":0},null,{"$f":"入力シート２!N42","v":""},{"$f":"入力シート２!O42","v":0},{"$f":"入力シート２!P42","v":0},null,null,null,{"$f":"入力シート２!U42","v":0},null,{"$f":"入力シート２!W42","v":0},null,{"$f":"入力シート２!Y42","v":0},null,{"$f":"入力シート２!AA42","v":0}]

{"sheet":"入力・印刷シート1(承認申請書)","index":3,"n_rows":44,"n_cols":24,"rows_kept":44,"cut":false,"hidden":false,"merged":[[16,1,17,2],[16,0,17,0],[13,0,14,0],[27,14,27,16],[14,5,18,5],[17,6,18,7],[27,17,27,21],[25,14,25,23],[26,14,26,23],[20,17,20,23],[22,0,22,15],[24,6,24,8],[24,10,24,13],[24,15,24,17],[31,6,31,8],[31,10,31,13],[31,15,31,17],[28,14,28,23],[29,14,29,23],[35,14,35,23],[36,14,36,23],[32,14,32,23],[33,14,33,23],[34,14,34,16],[34,17,34,21],[6,0,8,23],[0,2,0,23],[5,0,5,14],[9,5,13,5],[9,3,18,4],[15,0,15,2],[3,0,3,23],[11,0,11,2],[9,6,9,14],[9,15,9,23],[10,6,11,7],[12,6,13,7],[14,6,14,14],[14,15,14,23],[15,6,16,7],[13,1,14,2]]}
["※",null,"色のシートのところにデータを入力してください。"]
["様式第１号（第４条関係）"]
[]
["建設工事入札参加資格承認申請書"]
[]
[]
["　令和６年度において、貴組合で行われる建設工事に係る入札に参加したいので、その参加資格の審査を申請します。\n　なお、この申請書及びその添付書類については、事実と相違ないことを誓約します。"]
[]
[]
[null,null,null,"受けようとする建設業\n参加資格の審査を",null,"一　般","（　　-　　）第　　　　　　　号",null,null,null,null,null,null,null,null,"令和　　年　　月　　　日　許可"]
[null,null,null,null,null,null,"本店",null,{"$f":"IF(AND(入力シート２!$A$10=1, 入力シート２!$C$10=1,入力シート２!$O$10=\"本\"), \"土\", \"\")","v":""},{"$f":"IF(AND(入力シート２!$A$12=1, 入力シート２!$C$12=1,入力シート２!$O$12=\"本\"), \"建\", \"\")","v":""},{"$f":"IF(AND(入力シート２!$A$13=1, 入力シート２!$C$13=1,入力シート２!$O$13=\"本\"), \"大\", \"\")","v":""},{"$f":"IF(AND(入力シート２!$A$14=1, 入力シート２!$C$14=1,入力シート２!$O$14=\"本\"), \"左\", \"\")","v":""},{"$f":"IF(AND(入力シート２!$A$15=1, 入力シート２!$C$15=1,入力シート２!$O$15=\"本\"), \"と\", \"\")","v":""},{"$f":"IF(AND(入力シート２!$A$17=1, 入力シート２!$C$17=1,入力シート２!$O$17=\"本\"), \"石\", \"\")","v":""},{"$f":"IF(AND(入力シート２!$A$18=1, 入力シート２!$C$18=1,入力シート２!$O$18=\"本\"), \"屋\", \"\")","v":""},{"$f":"IF(AND(入力シート２!$A$19=1, 入力シート２!$C$19=1,入力シート２!$O$19=\"本\"), \"電\", \"\")","v":""},{"$f":"IF(AND(入力シート２!$A$20=1, 入力シート２!$C$20=1,入力シート２!$O$20=\"本\"), \"管\", \"\")","v":""},{"$f":"IF(AND(入力シート２!$A$21=1, 入力シート２!$C$21=1,入力シート２!$O$21=\"本\"), \"タ\", \"\")","v":""},{"$f":"IF(AND(入力シート２!$A$22=1, 入力シート２!$C$22=1,入力シート２!$O$22=\"本\"), \"鋼\", \"\")","v":""},{"$f":"IF(AND(入力シート２!$A$24=1, 入力シート２!$C$24=1,入力シート２!$O$24=\"本\"), \"鉄\", \"\")","v":""},{"$f":"IF(AND(入力シート２!$A$25=1, 入力シート２!$C$25=1,入力シート２!$O$25=\"本\"), \"ほ\", \"\")","v":""},{"$f":"IF(AND(入力シート２!$A$26=1, 入力シート２!$C$26=1,入力シート２!$O$26=\"本\"), \"しゅ\", \"\")","v":""},{"$f":"IF(AND(入力シート２!$A$27=1, 入力シート２!$C$27=1,入力シート２!$O$27=\"本\"), \"板\", \"\")","v":""},{"$f":"IF(AND(入力シート２!$A$28=1, 入力シート２!$C$28=1,入力シート２!$O$28=\"本\"), \"ｶﾞ\", \"\")","v":""}]
["〔許可区分〕",null,null,null,null,null,null,null,{"$f":"IF(AND(入力シート２!$A$29=1, 入力シート２!$C$29=1,入力シート２!$O$29=\"本\"), \"塗\", \"\")","v":""},{"$f":"IF(AND(入力シート２!$A$30=1, 入力シート２!$C$30=1,入力シート２!$O$30=\"本\"), \"防\", \"\")","v":""},{"$f":"IF(AND(入力シート２!$A$31=1, 入力シート２!$C$31=1,入力シート２!$O$31=\"本\"), \"内\", \"\")","v":""},{"$f":"IF(AND(入力シート２!$A$32=1, 入力シート２!$C$32=1,入力シート２!$O$32=\"本\"), \"機\", \"\")","v":""},{"$f":"IF(AND(入力シート２!$A$33=1, 入力シート２!$C$33=1,入力シート２!$O$33=\"本\"), \"熱\", \"\")","v":""},{"$f":"IF(AND(入力シート２!$A$34=1, 入力シート２!$C$34=1,入力シート２!$O$34=\"本\"), \"通\", \"\")","v":""},{"$f":"IF(AND(入力シート２!$A$35=1, 入力シート２!$C$35=1,入力シート２!$O$35=\"本\"), \"造\", \"\")","v":""},{"$f":"IF(AND(入力シート２!$A$36=1, 入力シート２!$C$36=1,入力シート２!$O$36=\"本\"), \"さ\", \"\")","v":""},{"$f":"IF(AND(入力シート２!$A$37=1, 入力シート２!$C$37=1,入力シート２!$O$37=\"本\"), \"具\", \"\")","v":""},{"$f":"IF(AND(入力シート２!$A$38=1, 入力シート２!$C$38=1,入力シート２!$O$38=\"本\"), \"水\", \"\")","v":""},{"$f":"IF(AND(入力シート２!$A$39=1, 入力シート２!$C$39=1,入力シート２!$O$39=\"本\"), \"消\", \"\")","v":""},{"$f":"IF(AND(入力シート２!$A$40=1, 入力シート２!$C$40=1,入力シート２!$O$40=\"本\"), \"清\", \"\")","v":""},{"$f":"IF(AND(入力シート２!$A$41=1, 入力シート２!$C$41=1,入力シート２!$O$41=\"本\"), \"解\", \"\")","v":""},{"$f":"IF(AND(入力シート２!$A$42=1, 入力シート２!$C$42=1,入力シート２!$O$42=\"本\"), \"そ\", \"\")","v":""}]
[null,null,null,null,null,null,"受任\n機関",null,{"$f":"IF(AND(入力シート２!$A$10=1, 入力シート２!$C$10=1,入力シート２!$O$10=\"受\"), \"土\", \"\")","v":""},{"$f":"IF(AND(入力シート２!$A$12=1, 入力シート２!$C$12=1,入力シート２!$O$12=\"受\"), \"建\", \"\")","v":""},{"$f":"IF(AND(入力シート２!$A$13=1, 入力シート２!$C$13=1,入力シート２!$O$13=\"受\"), \"大\", \"\")","v":""},{"$f":"IF(AND(入力シート２!$A$14=1, 入力シート２!$C$14=1,入力シート２!$O$14=\"受\"), \"左\", \"\")","v":""},{"$f":"IF(AND(入力シート２!$A$15=1, 入力シート２!$C$15=1,入力シート２!$O$15=\"受\"), \"と\", \"\")","v":""},{"$f":"IF(AND(入力シート２!$A$17=1, 入力シート２!$C$17=1,入力シート２!$O$17=\"受\"), \"石\", \"\")","v":""},{"$f":"IF(AND(入力シート２!$A$18=1, 入力シート２!$C$18=1,入力シート２!$O$18=\"受\"), \"屋\", \"\")","v":""},{"$f":"IF(AND(入力シート２!$A$19=1, 入力シート２!$C$19=1,入力シート２!$O$19=\"受\"), \"電\", \"\")","v":""},{"$f":"IF(AND(入力シート２!$A$20=1, 入力シート２!$C$20=1,入力シート２!$O$20=\"受\"), \"管\", \"\")","v":""},{"$f":"IF(AND(入力シート２!$A$21=1, 入力シート２!$C$21=1,入力シート２!$O$21=\"受\"), \"タ\", \"\")","v":""},{"$f":"IF(AND(入力シート２!$A$22=1, 入力シート２!$C$22=1,入力シート２!$O$22=\"受\"), \"鋼\", \"\")","v":""},{"$f":"IF(AND(入力シート２!$A$24=1, 入力シート２!$C$24=1,入力シート２!$O$24=\"受\"), \"鉄\", \"\")","v":""},{"$f":"IF(AND(入力シート２!$A$25=1, 入力シート２!$C$25=1,入力シート２!$O$25=\"受\"), \"ほ\", \"\")","v":""},{"$f":"IF(AND(入力シート２!$A$26=1, 入力シート２!$C$26=1,入力シート２!$O$26=\"受\"), \"しゅ\", \"\")","v":""},{"$f":"IF(AND(入力シート２!$A$27=1, 入力シート２!$C$27=1,入力シート２!$O$27=\"受\"), \"板\", \"\")","v":""},{"$f":"IF(AND(入力シート２!$A$28=1, 入力シート２!$C$28=1,入力シート２!$O$28=\"受\"), \"ｶﾞ\", \"\")","v":""}]
["□","国土交通大臣",null,null,null,null,null,null,{"$f":"IF(AND(入力シート２!$A$29=1, 入力シート２!$C$29=1,入力シート２!$O$29=\"受\"), \"塗\", \"\")","v":""},{"$f":"IF(AND(入力シート２!$A$30=1, 入力シート２!$C$30=1,入力シート２!$O$30=\"受\"), \"防\", \"\")","v":""},{"$f":"IF(AND(入力シート２!$A$31=1, 入力シート２!$C$31=1,入力シート２!$O$31=\"受\"), \"内\", \"\")","v":""},{"$f":"IF(AND(入力シート２!$A$32=1, 入力シート２!$C$32=1,入力シート２!$O$32=\"受\"), \"機\", \"\")","v":""},{"$f":"IF(AND(入力シート２!$A$33=1, 入力シート２!$C$33=1,入力シート２!$O$33=\"受\"), \"熱\", \"\")","v":""},{"$f":"IF(AND(入力シート２!$A$34=1, 入力シート２!$C$34=1,入力シート２!$O$34=\"受\"), \"通\", \"\")","v":""},{"$f":"IF(AND(入力シート２!$A$35=1, 入力シート２!$C$35=1,入力シート２!$O$35=\"受\"), \"造\", \"\")","v":""},{"$f":"IF(AND(入力シート２!$A$36=1, 入力シート２!$C$36=1,入力シート２!$O$36=\"受\"), \"さ\", \"\")","v":""},{"$f":"IF(AND(入力シート２!$A$37=1, 入力シート２!$C$37=1,入力シート２!$O$37=\"受\"), \"具\", \"\")","v":""},{"$f":"IF(AND(入力シート２!$A$38=1, 入力シート２!$C$38=1,入力シート２!$O$38=\"受\"), \"水\", \"\")","v":""},{"$f":"IF(AND(入力シート２!$A$39=1, 入力シート２!$C$39=1,入力シート２!$O$39=\"受\"), \"消\", \"\")","v":""},{"$f":"IF(AND(入力シート２!$A$40=1, 入力シート２!$C$40=1,入力シート２!$O$40=\"受\"), \"清\", \"\")","v":""},{"$f":"IF(AND(入力シート２!$A$41=1, 入力シート２!$C$41=1,入力シート２!$O$41=\"受\"), \"解\", \"\")","v":""},{"$f":"IF(AND(入力シート２!$A$42=1, 入力シート２!$C$42=1,入力シート２!$O$42=\"受\"), \"そ\", \"\")","v":""}]
[null,null,null,null,null,"特　定","（　　-　　）第　　　　　　　号",null,null,null,null,null,null,null,null,"令和　　年　　月　　　日　許可"]
[null,null,null,null,null,null,"本店",null,{"$f":"IF(AND(入力シート２!$A$10=1, 入力シート２!$C$10=2,入力シート２!$O$10=\"本\"), \"土\", \"\")","v":""},{"$f":"IF(AND(入力シート２!$A$12=1, 入力シート２!$C$12=2,入力シート２!$O$12=\"本\"), \"建\", \"\")","v":""},{"$f":"IF(AND(入力シート２!$A$13=1, 入力シート２!$C$13=2,入力シート２!$O$13=\"本\"), \"大\", \"\")","v":""},{"$f":"IF(AND(入力シート２!$A$14=1, 入力シート２!$C$14=2,入力シート２!$O$14=\"本\"), \"左\", \"\")","v":""},{"$f":"IF(AND(入力シート２!$A$15=1, 入力シート２!$C$15=2,入力シート２!$O$15=\"本\"), \"と\", \"\")","v":""},{"$f":"IF(AND(入力シート２!$A$17=1, 入力シート２!$C$17=2,入力シート２!$O$17=\"本\"), \"石\", \"\")","v":""},{"$f":"IF(AND(入力シート２!$A$18=1, 入力シート２!$C$18=2,入力シート２!$O$18=\"本\"), \"屋\", \"\")","v":""},{"$f":"IF(AND(入力シート２!$A$19=1, 入力シート２!$C$19=2,入力シート２!$O$19=\"本\"), \"電\", \"\")","v":""},{"$f":"IF(AND(入力シート２!$A$20=1, 入力シート２!$C$20=2,入力シート２!$O$20=\"本\"), \"管\", \"\")","v":""},{"$f":"IF(AND(入力シート２!$A$21=1, 入力シート２!$C$21=2,入力シート２!$O$21=\"本\"), \"タ\", \"\")","v":""},{"$f":"IF(AND(入力シート２!$A$22=1, 入力シート２!$C$22=2,入力シート２!$O$22=\"本\"), \"鋼\", \"\")","v":""},{"$f":"IF(AND(入力シート２!$A$24=1, 入力シート２!$C$24=2,入力シート２!$O$24=\"本\"), \"鉄\", \"\")","v":""},{"$f":"IF(AND(入力シート２!$A$25=1, 入力シート２!$C$25=2,入力シート２!$O$25=\"本\"), \"ほ\", \"\")","v":""},{"$f":"IF(AND(入力シート２!$A$26=1, 入力シート２!$C$26=2,入力シート２!$O$26=\"本\"), \"しゅ\", \"\")","v":""},{"$f":"IF(AND(入力シート２!$A$27=1, 入力シート２!$C$27=2,入力シート２!$O$27=\"本\"), \"板\", \"\")","v":""},{"$f":"IF(AND(入力シート２!$A$28=1, 入力シート２!$C$28=2,入力シート２!$O$28=\"本\"), \"ｶﾞ\", \"\")","v":""}]
["□","宮城県知事",null,null,null,null,null,null,{"$f":"IF(AND(入力シート２!$A$29=1, 入力シート２!$C$29=2,入力シート２!$O$29=\"本\"), \"塗\", \"\")","v":""},{"$f":"IF(AND(入力シート２!$A$30=1, 入力シート２!$C$30=2,入力シート２!$O$30=\"本\"), \"防\", \"\")","v":""},{"$f":"IF(AND(入力シート２!$A$31=1, 入力シート２!$C$31=2,入力シート２!$O$31=\"本\"), \"内\", \"\")","v":""},{"$f":"IF(AND(入力シート２!$A$32=1, 入力シート２!$C$32=2,入力シート２!$O$32=\"本\"), \"機\", \"\")","v":""},{"$f":"IF(AND(入力シート２!$A$33=1, 入力シート２!$C$33=2,入力シート２!$O$33=\"本\"), \"熱\", \"\")","v":""},{"$f":"IF(AND(入力シート２!$A$34=1, 入力シート２!$C$34=2,入力シート２!$O$34=\"本\"), \"通\", \"\")","v":""},{"$f":"IF(AND(入力シート２!$A$35=1, 入力シート２!$C$35=2,入力シート２!$O$35=\"本\"), \"造\", \"\")","v":""},{"$f":"IF(AND(入力シート２!$A$36=1, 入力シート２!$C$36=2,入力シート２!$O$36=\"本\"), \"さ\", \"\")","v":""},{"$f":"IF(AND(入力シート２!$A$37=1, 入力シート２!$C$37=2,入力シート２!$O$37=\"本\"), \"具\", \"\")","v":""},{"$f":"IF(AND(入力シート２!$A$38=1, 入力シート２!$C$38=2,入力シート２!$O$38=\"本\"), \"水\", \"\")","v":""},{"$f":"IF(AND(入力シート２!$A$39=1, 入力シート２!$C$39=2,入力シート２!$O$39=\"本\"), \"消\", \"\")","v":""},{"$f":"IF(AND(入力シート２!$A$40=1, 入力シート２!$C$40=2,入力シート２!$O$40=\"本\"), \"清\", \"\")","v":""},{"$f":"IF(AND(入力シート２!$A$41=1, 入力シート２!$C$41=2,入力シート２!$O$41=\"本\"), \"解\", \"\")","v":""},{"$f":"IF(AND(入力シート２!$A$42=1, 入力シート２!$C$42=2,入力シート２!$O$42=\"本\"), \"そ\", \"\")","v":""}]
[null,null,null,null,null,null,"受任\n機関",null,{"$f":"IF(AND(入力シート２!$A$10=1, 入力シート２!$C$10=2,入力シート２!$O$10=\"受\"), \"土\", \"\")","v":""},{"$f":"IF(AND(入力シート２!$A$12=1, 入力シート２!$C$12=2,入力シート２!$O$12=\"受\"), \"建\", \"\")","v":""},{"$f":"IF(AND(入力シート２!$A$13=1, 入力シート２!$C$13=2,入力シート２!$O$13=\"受\"), \"大\", \"\")","v":""},{"$f":"IF(AND(入力シート２!$A$14=1, 入力シート２!$C$14=2,入力シート２!$O$14=\"受\"), \"左\", \"\")","v":""},{"$f":"IF(AND(入力シート２!$A$15=1, 入力シート２!$C$15=2,入力シート２!$O$15=\"受\"), \"と\", \"\")","v":""},{"$f":"IF(AND(入力シート２!$A$17=1, 入力シート２!$C$17=2,入力シート２!$O$17=\"受\"), \"石\", \"\")","v":""},{"$f":"IF(AND(入力シート２!$A$18=1, 入力シート２!$C$18=2,入力シート２!$O$18=\"受\"), \"屋\", \"\")","v":""},{"$f":"IF(AND(入力シート２!$A$19=1, 入力シート２!$C$19=2,入力シート２!$O$19=\"受\"), \"電\", \"\")","v":""},{"$f":"IF(AND(入力シート２!$A$20=1, 入力シート２!$C$20=2,入力シート２!$O$20=\"受\"), \"管\", \"\")","v":""},{"$f":"IF(AND(入力シート２!$A$21=1, 入力シート２!$C$21=2,入力シート２!$O$21=\"受\"), \"タ\", \"\")","v":""},{"$f":"IF(AND(入力シート２!$A$22=1, 入力シート２!$C$22=2,入力シート２!$O$22=\"受\"), \"鋼\", \"\")","v":""},{"$f":"IF(AND(入力シート２!$A$24=1, 入力シート２!$C$24=2,入力シート２!$O$24=\"受\"), \"鉄\", \"\")","v":""},{"$f":"IF(AND(入力シート２!$A$25=1, 入力シート２!$C$25=2,入力シート２!$O$25=\"受\"), \"ほ\", \"\")","v":""},{"$f":"IF(AND(入力シート２!$A$26=1, 入力シート２!$C$26=2,入力シート２!$O$26=\"受\"), \"しゅ\", \"\")","v":""},{"$f":"IF(AND(入力シート２!$A$27=1, 入力シート２!$C$27=2,入力シート２!$O$27=\"受\"), \"板\", \"\")","v":""},{"$f":"IF(AND(入力シート２!$A$28=1, 入力シート２!$C$28=2,入力シート２!$O$28=\"受\"), \"ｶﾞ\", \"\")","v":""}]
[null,null,null,null,null,null,null,null,{"$f":"IF(AND(入力シート２!$A$29=1, 入力シート２!$C$29=2,入力シート２!$O$29=\"受\"), \"塗\", \"\")","v":""},{"$f":"IF(AND(入力シート２!$A$30=1, 入力シート２!$C$30=2,入力シート２!$O$30=\"受\"), \"防\", \"\")","v":""},{"$f":"IF(AND(入力シート２!$A$31=1, 入力シート２!$C$31=2,入力シート２!$O$31=\"受\"), \"内\", \"\")","v":""},{"$f":"IF(AND(入力シート２!$A$32=1, 入力シート２!$C$32=2,入力シート２!$O$32=\"受\"), \"機\", \"\")","v":""},{"$f":"IF(AND(入力シート２!$A$33=1, 入力シート２!$C$33=2,入力シート２!$O$33=\"受\"), \"熱\", \"\")","v":""},{"$f":"IF(AND(入力シート２!$A$34=1, 入力シート２!$C$34=2,入力シート２!$O$34=\"受\"), \"通\", \"\")","v":""},{"$f":"IF(AND(入力シート２!$A$35=1, 入力シート２!$C$35=2,入力シート２!$O$35=\"受\"), \"造\", \"\")","v":""},{"$f":"IF(AND(入力シート２!$A$36=1, 入力シート２!$C$36=2,入力シート２!$O$36=\"受\"), \"さ\", \"\")","v":""},{"$f":"IF(AND(入力シート２!$A$37=1, 入力シート２!$C$37=2,入力シート２!$O$37=\"受\"), \"具\", \"\")","v":""},{"$f":"IF(AND(入力シート２!$A$38=1, 入力シート２!$C$38=2,入力シート２!$O$38=\"受\"), \"水\", \"\")","v":""},{"$f":"IF(AND(入力シート２!$A$39=1, 入力シート２!$C$39=2,入力シート２!$O$39=\"受\"), \"消\", \"\")","v":""},{"$f":"IF(AND(入力シート２!$A$40=1, 入力シート２!$C$40=2,入力シート２!$O$40=\"受\"), \"清\", \"\")","v":""},{"$f":"IF(AND(入力シート２!$A$41=1, 入力シート２!$C$41=2,入力シート２!$O$41=\"受\"), \"解\", \"\")","v":""},{"$f":"IF(AND(入力シート２!$A$42=1, 入力シート２!$C$42=2,入力シート２!$O$42=\"受\"), \"そ\", \"\")","v":""}]
[]
[null,null,null,null,null,null,null,null,null,null,null,null,null,null,null,null,null,"令和　　年　　月　　日"]
[]
["仙南地域広域行政事務組合理事長　滝口　茂　殿"]
[]
[null,null,null,null,null,null,"本　　店",null,null,null,"郵　便　番　号",null,null,null,"〒",{"$f":"入力シート１!E17","v":0}]
[null,null,null,null,null,null,null,null,null,null,"住所又は所在地",null,null,null,{"$f":"CONCATENATE(入力シート１!E18,入力シート１!E20,入力シート１!E22)","v":""}]
[null,null,null,null,null,null,null,null,null,null,"商号又は名称",null,null,null,{"$f":"入力シート１!E12","v":0}]
[null,null,null,null,null,null,null,null,null,null,"代表者職氏名",null,null,null,{"$f":"CONCATENATE(入力シート１!E14)","v":""},null,null,{"$f":"入力シート１!E15","v":0},null,null,null,null,"印"]
[null,null,null,null,null,null,null,null,null,null,"電　話　番　号",null,null,null,{"$f":"入力シート１!E24","v":0}]
[null,null,null,null,null,null,null,null,null,null,"ファクシミリ番号",null,null,null,{"$f":"入力シート１!E25","v":0}]
[]
[null,null,null,null,null,null,"受任機関",null,null,null,"郵　便　番　号",null,null,null,"〒",{"$f":"入力シート１!E33","v":0}]
[null,null,null,null,null,null,null,null,null,null,"住所又は所在地",null,null,null,{"$f":"CONCATENATE(入力シート１!E34,入力シート１!E35,入力シート１!E36)","v":""}]
[null,null,null,null,null,null,null,null,null,null,"商号又は名称",null,null,null,{"$f":"入力シート１!E28","v":0}]
[null,null,null,null,null,null,null,null,null,null,"代表者職氏名",null,null,null,{"$f":"入力シート１!E30","v":0},null,null,{"$f":"入力シート１!E31","v":0},null,null,null,null,"印"]
[null,null,null,null,null,null,null,null,null,null,"電　話　番　号",null,null,null,{"$f":"入力シート１!E37","v":0}]
[null,null,null,null,null,null,null,null,null,null,"ファクシミリ番号",null,null,null,{"$f":"入力シート１!E38","v":0}]
[]
[]
["(注)　1　許可区分、一般・特定の別に、経営事項審査を受けた業種の範囲内で業種の略号を記入すること。"]
["　　　2　許可年月日が複数あるときは、最も古い年月日を記入すること。"]
[null,"　3　「受任機関」とは、本店の委任を受けて入札及び契約行為において本店と同様の権限を有する機"]
[null,null,"関であり、建設業法第3条に規定する営業所で、かつ、建設業法施行規則別記様式第1号別表の営"]
[null,null,"業所欄の「その他の営業所」に記載されている営業所をいう。"]

{"sheet":"入力・印刷シート2(営業所一覧表)","index":4,"n_rows":33,"n_cols":6,"rows_kept":33,"cut":false,"hidden":false,"merged":[[26,13,27,13],[22,14,23,14],[24,5,25,5],[24,6,25,6],[24,7,25,7],[24,8,25,8],[24,9,25,9],[24,10,25,10],[24,11,25,11],[24,12,25,12],[26,14,27,14],[24,14,25,14],[26,5,27,5],[26,6,27,6],[26,7,27,7],[26,8,27,8],[26,9,27,9],[26,10,27,10],[26,11,27,11],[26,12,27,12],[24,13,25,13],[20,14,21,14],[22,5,23,5],[22,6,23,6],[22,7,23,7],[22,8,23,8],[22,9,23,9],[22,10,23,10],[22,11,23,11],[22,12,23,12],[22,13,23,13],[20,5,21,5],[20,6,21,6],[20,7,21,7],[20,8,21,8],[20,9,21,9],[20,10,21,10],[20,11,21,11],[20,12,21,12],[20,13,21,13],[16,14,17,14],[18,5,19,5],[18,6,19,6],[18,7,19,7],[18,8,19,8],[18,9,19,9],[18,10,19,10],[18,11,19,11],[18,12,19,12],[18,13,19,13],[18,14,19,14],[16,5,17,5],[16,6,17,6],[16,7,17,7],[16,8,17,8],[16,9,17,9],[16,10,17,10],[16,11,17,11],[16,12,17,12],[16,13,17,13],[12,14,13,14],[14,5,15,5],[14,6,15,6],[14,7,15,7],[14,8,15,8],[14,9,15,9],[14,10,15,10],[14,11,15,11],[14,12,15,12],[14,13,15,13],[14,14,15,14],[12,5,13,5],[12,6,13,6],[12,7,13,7],[12,8,13,8],[12,9,13,9],[12,10,13,10],[12,11,13,11],[12,12,13,12],[12,13,13,13],[8,14,9,14],[10,5,11,5],[10,6,11,6],[10,7,11,7],[10,8,11,8],[10,9,11,9],[10,10,11,10],[10,11,11,11],[10,12,11,12],[10,13,11,13],[10,14,11,14],[8,5,9,5],[8,6,9,6],[8,7,9,7],[8,8,9,8],[8,9,9,9],[8,10,9,10],[8,11,9,11],[8,12,9,12],[8,13,9,13],[6,5,7,5],[6,6,7,6],[6,7,7,7],[6,8,7,8],[6,9,7,9],[6,10,7,10],[6,11,7,11],[6,12,7,12],[6,14,7,14],[0,0,0,14],[30,0,30,1],[26,0,27,0],[26,1,27,1],[26,2,27,2],[26,3,27,3],[18,0,19,0],[18,1,19,1],[18,2,19,2],[18,3,19,3],[24,0,25,0],[24,1,25,1],[24,2,25,2],[24,3,25,3],[4,6,5,6],[4,7,5,7],[22,0,23,0],[22,1,23,1],[22,2,23,2],[22,3,23,3],[4,8,5,8],[4,9,5,9],[6,13,7,13],[4,10,5,10],[20,0,21,0],[20,1,21,1],[20,2,21,2],[20,3,21,3],[14,0,15,0],[14,1,15,1],[14,2,15,2],[14,3,15,3],[16,0,17,0],[16,1,17,1],[6,0,7,0],[6,1,7,1],[6,2,7,2],[6,3,7,3],[8,0,9,0],[8,1,9,1],[8,2,9,2],[8,3,9,3],[16,2,17,2],[16,3,17,3],[10,0,11,0],[10,1,11,1],[10,2,11,2],[10,3,11,3],[12,0,13,0],[12,1,13,1],[12,2,13,2],[12,3,13,3],[4,3,5,3],[4,5,5,5],[2,0,3,0],[4,0,5,0],[4,1,5,1],[4,2,5,2],[2,5,2,14],[2,3,3,3],[2,2,3,2],[2,1,3,1],[4,11,5,11],[4,12,5,12],[4,13,5,13],[4,14,5,14]]}
["営　　業　　所　　一　　覧"]
[]
["番号","営業所名称","郵便番号","所在地","電話番号（上段）","建設業許可業種（許可ありに○）"]
[null,null,null,null,"FAX番号（下段）"]
[]
[]
[]
[]
[]
[]
[]
[]
[]
[]
[]
[]
[]
[]
[]
[]
[]
[]
[]
[]
[]
[]
[]
[]
[]
[]
["記載要領"]
[null,"1.この表は、申請日現在で作成すること"]
[null,"2.「営業所名称欄」には、経営事項審査を受けた建設業の許可を有する全ての本店・支店・営業所の名称を記載すること"]

{"sheet":"印刷シート２","index":5,"n_rows":50,"n_cols":30,"rows_kept":50,"cut":false,"hidden":false,"merged":[[46,3,46,5],[46,7,46,22],[41,1,41,2],[43,3,44,5],[43,8,43,11],[44,7,44,28],[45,3,45,5],[45,7,45,28],[18,5,18,8],[18,10,18,24],[20,2,20,16],[22,0,22,29],[24,2,36,3],[24,4,36,11],[24,18,36,19],[24,20,36,27],[13,2,17,4],[13,5,14,8],[13,10,13,13],[14,10,14,28],[15,5,15,8],[15,10,15,28],[16,5,16,8],[16,10,16,24],[16,26,16,27],[17,5,17,8],[17,10,17,24],[0,0,0,29],[1,22,1,23],[5,2,9,4],[5,5,6,8],[5,10,5,13],[6,10,6,28],[7,5,7,8],[7,10,7,28],[8,5,8,8],[8,10,8,24],[8,26,8,27],[9,5,9,8],[9,10,9,24]]}
["委　　　　　任　　　　　状"]
[null,null,null,null,null,null,null,null,null,null,null,null,null,null,null,null,null,null,null,null,null,null,"令和",null,null,"年",null,"月",null,"日"]
["　仙南地域広域行政事務組合　　"]
[null,"理事長　滝　口　　茂　殿"]
[]
[null,null,"委任者",null,null,"住所",null,null,null,"〒",{"$f":"入力シート１!E17","v":0}]
[null,null,null,null,null,null,null,null,null,null,{"$f":"CONCATENATE(入力シート１!E18,入力シート１!E20,入力シート１!E22)","v":""}]
[null,null,null,null,null,"商号又は名称",null,null,null,null,{"$f":"入力シート１!E12","v":0}]
[null,null,null,null,null,"代表者氏名",null,null,null,null,{"$f":"CONCATENATE(入力シート１!E14,\" \",入力シート１!E15)","v":" "},null,null,null,null,null,null,null,null,null,null,null,null,null,null,null,"代表者印"]
[null,null,null,null,null,"電話番号",null,null,null,null,{"$f":"入力シート１!E24","v":0}]
[]
[null,null,"私は、次のものを代理人と定め、下記の権限を委任します。"]
[]
[null,null,"代理人",null,null,"住所",null,null,null,"〒",{"$f":"入力シート１!E33","v":0}]
[null,null,null,null,null,null,null,null,null,null,{"$f":"CONCATENATE(入力シート１!E34,入力シート１!E35,入力シート１!E36)","v":""}]
[null,null,null,null,null,"商号又は名称",null,null,null,null,{"$f":"入力シート１!E28","v":0}]
[null,null,null,null,null,"代表者氏名",null,null,null,null,{"$f":"CONCATENATE(入力シート１!E30,\" \",入力シート１!E31)","v":" "},null,null,null,null,null,null,null,null,null,null,null,null,null,null,null,"使用印"]
[null,null,null,null,null,"電話番号",null,null,null,null,{"$f":"入力シート１!E37","v":0}]
[null,null,null,null,null,"受任期間",null,null,null,null,"令和６年４月１日から令和７年３月31日まで"]
[]
[null,null,"1.入札及び見積りに関すること\n2.契約締結に関すること\n3.契約履行に関すること\n4.契約代金の請求及び受領に関すること\n5.上記の各号に関し、復代理人を選任及び解任すること"]
[]
["使　用　印　鑑　届"]
[]
[null,null,"使用印",null,null,null,null,null,null,null,null,null,null,null,null,null,null,null,"実印"]
[]
[]
[]
[]
[]
[]
[]
[]
[]
[]
[]
[]
[]
[]
[null,"上記の印鑑は、入札見積に参加し、契約の締結並びに代金の請求受領のため使用したいからお届けします。"]
[]
[null,"令和",null,null,"年",null,"月",null,"日"]
[]
[null,null,null,"住所",null,null,null,"〒",{"$f":"入力シート１!E17","v":0}]
[null,null,null,null,null,null,null,{"$f":"CONCATENATE(入力シート１!E18,入力シート１!E20,入力シート１!E22)","v":""}]
[null,null,null,"商号又は名称",null,null,null,{"$f":"入力シート１!E12","v":0}]
[null,null,null,"代表者名",null,null,null,{"$f":"CONCATENATE(入力シート１!E14,\"　\",入力シート１!E15)","v":"　"},null,null,null,null,null,null,null,null,null,null,null,null,null,null,null,"印"]
[]
[null,"※受任者がいる場合は、実印は代表者印、使用印は受任者（支店長など）の印鑑になります。"]
[null,"※受任者がいない場合は、実印・使用印とも代表者の印鑑になります。"]

{"sheet":"社保等申告書","index":6,"n_rows":33,"n_cols":8,"rows_kept":33,"cut":false,"hidden":false,"merged":[[30,0,30,7],[31,0,31,7],[32,0,32,7],[19,0,21,0],[23,0,23,7],[26,0,26,7],[27,0,27,7],[28,0,28,7],[29,0,29,7],[13,0,15,0],[13,6,13,7],[14,6,14,7],[15,6,15,7],[16,0,18,0],[16,6,16,7],[17,6,17,7],[18,6,18,7],[8,0,9,0],[8,1,9,1],[8,2,8,4],[8,5,9,7],[10,0,12,0],[10,6,10,7],[11,6,11,7],[12,6,12,7],[6,0,6,1],[6,2,6,6],[2,0,2,7],[4,0,4,1],[4,2,4,6],[5,0,5,1],[5,2,5,6]]}
["様式第１号の３（第３条関係）"]
[]
["社会保険等の加入状況申告書"]
[]
[" 住所又は所在地",null,{"$f":"CONCATENATE(入力シート１!E18,入力シート１!E20,入力シート１!E22)","v":""}]
[" 商号又は名称",null,{"$f":"入力シート１!E12","v":0}]
[" 代表者職氏名",null,{"$f":"入力シート１!E14&\" \"&入力シート１!E15","v":" "},null,null,null,null,"印"]
[]
["営業所の\n名称","従業員数","加　入　状　況",null,null,"事業所整理記号等"]
[null,null,"健康保険","厚生年金\n保　　険","雇用保険"]
[null,null,null,null,null,"健康保険"]
[null,0,null,null,null,"厚生年金保険"]
[null,0,null,null,null,"雇用保険"]
[null,null,null,null,null,"健康保険"]
[null,0,null,null,null,"厚生年金保険"]
[null,0,null,null,null,"雇用保険"]
[null,null,null,null,null,"健康保険"]
[null,0,null,null,null,"厚生年金保険"]
[null,0,null,null,null,"雇用保険"]
["合計"]
[null,0]
[null,0]
[]
["(注)　本書は、審査基準日の総合評定値通知書において、「雇用保険加入の有無」、「健康保険加入の有無」及\n　　び「厚生年金保険加入の有無」欄のいずれかが「無」となっている者が、審査基準日から資格審査申請日ま\n　　での間に保険に加入又は適用除外になり、資格審査申請を行うときに限り、提出すること。"]
[]
["記載要領"]
["１　「従業員数」の欄は、法人にあってはその役員、個人にあってはその事業主を含め全ての従業員数（建設業\n　以外に従事する者を含む）を記載すること。（　）内には、役員又は個人事業主（同居の親族である従業員を\n　含む）の人数を内数として記載すること。"]
["２　「加入状況」の「健康保険」の欄については、従業員が健康保険の被保険者の資格を取得したことについて\n　の日本年金機構又は健康保険組合に対する届出を行っている場合は「○」を、行っていない場合は「×」を、\n　従業員が４人以下である個人事業主である場合等の健康保険の適用が除外される場合は「適用除外」を記入す\n　ること。ただし、健康保険法（大正11年法律第70号）第34条第１項の規定による一括適用の承認に係る営業所\n　（同条第２項の規定により適用事業所でなくなったものとみなされるものに限る。以下同じ。）については、\n　記入を要しない。"]
["３　「加入状況」の「厚生年金保険」の欄については、従業員が厚生年金保険の被保険者の資格を取得したこと\n　についての日本年金機構に対する届出を行っている場合は「○」を、行っていない場合は「×」を、従業員が\n　４人以下である個人事業主である場合等の厚生年金保険の適用が除外される場合は「適用除外」を記入するこ\n　と。ただし、厚生年金保険法（昭和29年法律第115号）第８条の２第１項の規定による一括適用の承認に係る\n　営業所（同条第２項の規定により適用事業所でなくなったものとみなされるものに限る。以下同じ。）につい\n　ては、記入を要しない。"]
["４　「加入状況」の「雇用保険」の欄については、その雇用する労働者が雇用保険の被保険者となったことにつ\n　いての公共職業安定所の長に対する届出を行っている場合は「○」を、行っていない場合は「×」を、従業員\n　が１人も雇用されていない場合等の雇用保険の適用が除外される場合は「適用除外」を記入すること。"]
["５　「事業所整理記号等」の「健康保険」の欄については、事業所整理記号及び事業所番号（健康保険組合にあ\n　っては健康保険組合名）を記載すること。ただし、健康保険法第34条第１項の規定による一括適用の承認に係\n　る営業所については、「本店（○○支店等）一括」と記載すること。"]
["６　「事業所整理記号等」の「厚生年金保険」の欄については、事業所整理記号及び事業所番号を記載すること。\n　ただし、厚生年金保険法第８条の２第１項の規定による一括適用の承認に係る営業所については、「本店（○\n　○支店等）一括」と記載すること。"]
["７　「事業所整理記号等」の「雇用保険」の欄については、労働保険番号を記載すること。ただし、労働保険の\n　保険料の徴収等に関する法律（昭和44年法律第84号）第９条の規定による継続事業の一括の認可に係る営業所\n　については、「本店（○○支店等）一括」と記載すること。"]

{"sheet":"誓約書","index":7,"n_rows":15,"n_cols":5,"rows_kept":15,"cut":false,"hidden":false,"merged":[[2,0,2,4],[4,0,4,4],[6,0,6,2],[11,1,12,1],[11,2,12,2]]}
["様式第１号の２（第３条関係）"]
[]
["誓　約　書"]
[]
["　私（当社）は、「暴力団員による不当な行為の防止等に関する法律（平成３年法律第77号）第32条第１項各号に掲げる者」のいずれにも該当しません。また、将来においても該当することのないことを誓約します。"]
[]
["令和　　年　　月　　日　　"]
[]
["　仙南地域広域行政事務組合　"]
["　　理事長　滝　口　　茂　　殿"]
[]
[null,"申請者","住所又は所在地",{"$f":"入力シート１!E17","v":0}]
[null,null,null,{"$f":"CONCATENATE(入力シート１!E18,入力シート１!E20,入力シート１!E22)","v":""}]
[null,null,"商号又は名称",{"$f":"入力シート１!E12","v":0}]
[null,null,"代表者職氏名",{"$f":"入力シート１!E14&\" \"&入力シート１!E15","v":" "},"印"]

{"sheet":"データシート","index":8,"n_rows":4,"n_cols":320,"rows_kept":4,"cut":false,"hidden":true,"merged":[[0,304,1,311],[0,146,1,153],[0,296,1,303],[0,312,1,319],[0,248,1,255],[0,256,1,263],[0,184,1,191],[0,192,1,199],[0,240,1,247],[0,154,0,167],[1,162,1,167],[0,176,1,183],[0,280,1,287],[0,288,1,295],[0,200,1,207],[0,216,1,223],[0,224,1,231],[0,232,1,239],[0,264,1,271],[1,154,1,161],[0,168,1,175],[0,272,1,279],[0,208,1,215],[0,138,1,145],[0,37,1,56],[0,57,1,61],[0,84,1,91],[0,92,1,99],[0,114,1,121],[0,122,1,129],[0,62,0,75],[1,70,1,75],[1,62,1,69],[1,108,1,113],[0,100,0,113],[0,76,1,83],[1,100,1,107],[0,33,2,33],[0,34,2,34],[0,35,2,35],[0,36,2,36],[0,130,1,137],[0,19,0,30],[0,31,2,31],[0,32,2,32],[1,19,1,20],[1,21,1,23],[1,30,2,30],[1,28,2,28],[1,29,2,29],[1,24,1,27],[1,6,1,7],[1,8,1,10],[0,2,1,5],[0,1,2,1],[0,6,0,18],[1,11,1,15],[1,16,2,16],[1,17,2,17],[1,18,2,18]]}
[null,"法人\n個人別","建設業許可",null,null,null,"本店情報",null,null,null,null,null,null,null,null,null,null,null,null,"受任者情報",null,null,null,null,null,null,null,null,null,null,null,"建設業\n退職金\n共済\n事業","産業\n廃棄物\n処理業\n許可","総合評点\n基準日","営業\n年数","資本金","総\n従業\n員数","技術職員数",null,null,null,null,null,null,null,null,null,null,null,null,null,null,null,null,null,null,null,"担当者",null,null,null,null,"土木工事",null,null,null,null,null,null,null,null,null,null,null,null,null,"建築一式",null,null,null,null,null,null,null,"大工",null,null,null,null,null,null,null,"左官",null,null,null,null,null,null,null,"とび・土工・コンクリート",null,null,null,null,null,null,null,null,null,null,null,null,null,"石",null,null,null,null,null,null,null,"屋根",null,null,null,null,null,null,null,"電気",null,null,null,null,null,null,null,"管",null,null,null,null,null,null,null,"タイル・れんが・ブロック",null,null,null,null,null,null,null,"鋼構造物",null,null,null,null,null,null,null,null,null,null,null,null,null,"鉄筋",null,null,null,null,null,null,null,"ほ装",null,null,null,null,null,null,null,"しゅんせつ",null,null,null,null,null,null,null,"板金",null,null,null,null,null,null,null,"ガラス",null,null,null,null,null,null,null,"塗装",null,null,null,null,null,null,null,"防水",null,null,null,null,null,null,null,"内装仕上げ",null,null,null,null,null,null,null,"機械器具設置",null,null,null,null,null,null,null,"熱絶縁",null,null,null,null,null,null,null,"電気通信",null,null,null,null,null,null,null,"造園",null,null,null,null,null,null,null,"さく井",null,null,null,null,null,null,null,"建具",null,null,null,null,null,null,null,"水道施設",null,null,null,null,null,null,null,"消防施設",null,null,null,null,null,null,null,"清掃施設",null,null,null,null,null,null,null,"解体工事",null,null,null,null,null,null,null,"その他"]
[null,null,null,null,null,null,"商号",null,"代表者",null,null,"所在地",null,null,null,null,"電話番号","FAX番号","Eメール\nアドレス","商号",null,"受任者",null,null,"所在地",null,null,null,"電話番号","FAX番号","Eメール\nアドレス",null,null,null,null,null,null,null,null,null,null,null,null,null,null,null,null,null,null,null,null,null,null,null,null,null,null,null,null,null,null,null,null,null,null,null,null,null,null,null,"プレストレストコンクリート",null,null,null,null,null,null,null,null,null,null,null,null,null,null,null,null,null,null,null,null,null,null,null,null,null,null,null,null,null,null,null,null,null,null,null,null,null,"法面処理",null,null,null,null,null,null,null,null,null,null,null,null,null,null,null,null,null,null,null,null,null,null,null,null,null,null,null,null,null,null,null,null,null,null,null,null,null,null,null,null,null,null,null,null,null,null,null,null,null,null,null,null,null,"鋼橋上部"]
[null,null,"許可者","特定一般別","許可\n番号","許可\n有効\n期限","名称","フリガナ","役職名","氏名","フリガナ","郵便番号","所在地\n（都道府\n県名）","所在地\n（市区・郡\n　町村名）","所在地","所在地\nフリガナ",null,null,null,"名称","フリガナ","役職名","氏名","フリガナ","郵便番号","所在地\n（都道府\n県名）","所在地\n（市区・郡\n　町村名）","所在地",null,null,null,null,null,null,null,null,null,"技術\n職員\n（1級）","技術\n職員\n（2級）","その他\nの\n技術\n職員","建設業\n従業者数","土木\n施工\n管理\n技士\n（1級）","土木\n施工\n管理\n技士\n（2級）","建築\n施工\n管理\n技士\n（1級）","建築\n施工\n管理\n技士\n（2級）","建築士\n（1級）","建築士\n（2級）","木造\n建築士","建築\n整備士","舗装\n施工\n管理\n技術者\n（1級）","舗装\n施工\n管理\n技術者\n（2級）","管工事\n施工\n管理\n技士\n（1級）","管工事\n施工\n管理\n技士\n（2級）","建設\n機械\n施工\n管理\n技士\n（1級）","建設\n機械\n施工\n管理\n技士\n（2級）","造園\n施工\n管理\n技士\n（1級）","造園\n施工\n管理\n技士\n（2級）","部署名","氏名","電話番号","FAX番号","Eメールアドレス","申請\n区分","許可\n区分","総合\n評点","組合等級","本・受","完成工事高","1級\n技術\n職員数","2級\n技術\n職員数","総合\n評点","組合等級","本・受","完成工事高","1級\n技術\n職員数","2級\n技術\n職員数","申請\n区分","許可\n区分","総合\n評点","組合等級","本・受","完成工事高","1級\n技術\n職員数","2級\n技術\n職員数","申請\n区分","許可\n区分","総合\n評点","組合等級","本・受","完成工事高","1級\n技術\n職員数","2級\n技術\n職員数","申請\n区分","許可\n区分","総合\n評点","組合等級","本・受","完成工事高","1級\n技術\n職員数","2級\n技術\n職員数","申請\n区分","許可\n区分","総合\n評点","組合等級","本・受","完成工事高","1級\n技術\n職員数","2級\n技術\n職員数","総合\n評点","組合等級","本・受","完成工事高","1級\n技術\n職員数","2級\n技術\n職員数","申請\n区分","許可\n区分","総合\n評点","組合等級","本・受","完成工事高","1級\n技術\n職員数","2級\n技術\n職員数","申請\n区分","許可\n区分","総合\n評点","組合等級","本・受","完成工事高","1級\n技術\n職員数","2級\n技術\n職員数","申請\n区分","許可\n区分","総合\n評点","組合等級","本・受","完成工事高","1級\n技術\n職員数","2級\n技術\n職員数","申請\n区分","許可\n区分","総合\n評点","組合等級","本・受","完成工事高","1級\n技術\n職員数","2級\n技術\n職員数","申請\n区分","許可\n区分","総合\n評点","組合等級","本・受","完成工事高","1級\n技術\n職員数","2級\n技術\n職員数","申請\n区分","許可\n区分","総合\n評点","組合等級","本・受","完成工事高","1級\n技術\n職員数","2級\n技術\n職員数","総合\n評点","組合等級","本・受","完成工事高","1級\n技術\n職員数","2級\n技術\n職員数","申請\n区分","許可\n区分","総合\n評点","組合等級","本・受","完成工事高","1級\n技術\n職員数","2級\n技術\n職員数","申請\n区分","許可\n区分","総合\n評点","組合等級","本・受","完成工事高","1級\n技術\n職員数","2級\n技術\n職員数","申請\n区分","許可\n区分","総合\n評点","組合等級","本・受","完成工事高","1級\n技術\n職員数","2級\n技術\n職員数","申請\n区分","許可\n区分","総合\n評点","組合等級","本・受","完成工事高","1級\n技術\n職員数","2級\n技術\n職員数","申請\n区分","許可\n区分","総合\n評点","組合等級","本・受","完成工事高","1級\n技術\n職員数","2級\n技術\n職員数","申請\n区分","許可\n区分","総合\n評点","組合等級","本・受","完成工事高","1級\n技術\n職員数","2級\n技術\n職員数","申請\n区分","許可\n区分","総合\n評点","組合等級","本・受","完成工事高","1級\n技術\n職員数","2級\n技術\n職員数","申請\n区分","許可\n区分","総合\n評点","組合等級","本・受","完成工事高","1級\n技術\n職員数","2級\n技術\n職員数","申請\n区分","許可\n区分","総合\n評点","組合等級","本・受","完成工事高","1級\n技術\n職員数","2級\n技術\n職員数","申請\n区分","許可\n区分","総合\n評点","組合等級","本・受","完成工事高","1級\n技術\n職員数","2級\n技術\n職員数","申請\n区分","許可\n区分","総合\n評点","組合等級","本・受","完成工事高","1級\n技術\n職員数","2級\n技術\n職員数","申請\n区分","許可\n区分","総合\n評点","組合等級","本・受","完成工事高","1級\n技術\n職員数","2級\n技術\n職員数","申請\n区分","許可\n区分","総合\n評点","組合等級","本・受","完成工事高","1級\n技術\n職員数","2級\n技術\n職員数","申請\n区分","許可\n区分","総合\n評点","組合等級","本・受","完成工事高","1級\n技術\n職員数","2級\n技術\n職員数","申請\n区分","許可\n区分","総合\n評点","組合等級","本・受","完成工事高","1級\n技術\n職員数","2級\n技術\n職員数","申請\n区分","許可\n区分","総合\n評点","組合等級","本・受","完成工事高","1級\n技術\n職員数","2級\n技術\n職員数","申請\n区分","許可\n区分","総合\n評点","組合等級","本・受","完成工事高","1級\n技術\n職員数","2級\n技術\n職員数","申請\n区分","許可\n区分","総合\n評点","組合等級","本・受","完成工事高","1級\n技術\n職員数","2級\n技術\n職員数","申請\n区分","許可\n区分","総合\n評点","組合等級","本・受","完成工事高","1級\n技術\n職員数","2級\n技術\n職員数"]
[null,{"$f":"入力シート１!E7","v":0},{"$f":"入力シート１!E8","v":0},{"$f":"入力シート１!E9","v":0},{"$f":"入力シート１!E10","v":0},{"$f":"入力シート１!E11","v":"00:00:00"},{"$f":"入力シート１!E12","v":0},{"$f":"入力シート１!E13","v":0},{"$f":"入力シート１!E14","v":0},{"$f":"入力シート１!E15","v":0},{"$f":"入力シート１!E16","v":0},{"$f":"入力シート１!E17","v":0},{"$f":"入力シート１!E18","v":0},{"$f":"入力シート１!E20","v":0},{"$f":"入力シート１!E22","v":0},{"$f":"CONCATENATE(入力シート１!E19,入力シート１!E21,入力シート１!E23)","v":""},{"$f":"入力シート１!E24","v":0},{"$f":"入力シート１!E25","v":0},{"$f":"入力シート１!E26","v":0},{"$f":"入力シート１!E28","v":0},{"$f":"入力シート１!E29","v":0},{"$f":"入力シート１!E30","v":0},{"$f":"入力シート１!E31","v":0},{"$f":"入力シート１!E32","v":0},{"$f":"入力シート１!E33","v":0},{"$f":"入力シート１!E34","v":0},{"$f":"入力シート１!E35","v":0},{"$f":"入力シート１!E36","v":0},{"$f":"入力シート１!E37","v":0},{"$f":"入力シート１!E38","v":0},{"$f":"入力シート１!E39","v":0},{"$f":"入力シート１!E40","v":0},{"$f":"入力シート１!E41","v":0},{"$f":"入力シート１!E42","v":"00:00:00"},{"$f":"入力シート１!E43","v":0},{"$f":"入力シート１!E44","v":0},{"$f":"入力シート１!E45","v":0},{"$f":"入力シート１!E46","v":0},{"$f":"入力シート１!E47","v":0},{"$f":"入力シート１!E48","v":0},{"$f":"入力シート１!E49","v":0},{"$f":"入力シート１!E50","v":0},{"$f":"入力シート１!E51","v":0},{"$f":"入力シート１!E52","v":0},{"$f":"入力シート１!E53","v":0},{"$f":"入力シート１!E54","v":0},{"$f":"入力シート１!E55","v":0},{"$f":"入力シート１!E56","v":0},{"$f":"入力シート１!E57","v":0},{"$f":"入力シート１!E58","v":0},{"$f":"入力シート１!E59","v":0},{"$f":"入力シート１!E60","v":0},{"$f":"入力シート１!E61","v":0},{"$f":"入力シート１!E62","v":0},{"$f":"入力シート１!E63","v":0},{"$f":"入力シート１!E64","v":0},{"$f":"入力シート１!E65","v":0},{"$f":"入力シート１!E66","v":0},{"$f":"入力シート１!E67","v":0},{"$f":"入力シート１!E69","v":0},{"$f":"入力シート１!E70","v":0},{"$f":"入力シート１!E71","v":0},{"$f":"印刷シート1!A27","v":""},{"$f":"印刷シート1!C27","v":""},{"$f":"印刷シート1!L27","v":0},{"$f":"印刷シート1!N27","v":""},{"$f":"印刷シート1!O27","v":0},{"$f":"印刷シート1!P27","v":0},{"$f":"印刷シート1!T27","v":0},{"$f":"印刷シート1!V27","v":0},{"$f":"印刷シート1!L28","v":0},{"$f":"印刷シート1!N28","v":""},{"$f":"印刷シート1!O28","v":0},{"$f":"印刷シート1!P28","v":0},{"$f":"印刷シート1!T28","v":0},{"$f":"印刷シート1!V28","v":0},{"$f":"印刷シート1!A29","v":""},{"$f":"印刷シート1!C29","v":""},{"$f":"印刷シート1!L29","v":0},{"$f":"印刷シート1!N29","v":""},{"$f":"印刷シート1!O29","v":0},{"$f":"印刷シート1!P29","v":0},{"$f":"印刷シート1!T29","v":0},{"$f":"印刷シート1!V29","v":0},{"$f":"印刷シート1!A30","v":""},{"$f":"印刷シート1!C30","v":""},{"$f":"印刷シート1!L30","v":0},{"$f":"印刷シート1!N30","v":""},{"$f":"印刷シート1!O30","v":0},{"$f":"印刷シート1!P30","v":0},{"$f":"印刷シート1!T30","v":0},{"$f":"印刷シート1!V30","v":0},{"$f":"印刷シート1!A31","v":""},{"$f":"印刷シート1!C31","v":""},{"$f":"印刷シート1!L31","v":0},{"$f":"印刷シート1!N31","v":""},{"$f":"印刷シート1!O31","v":0},{"$f":"印刷シート1!P31","v":0},{"$f":"印刷シート1!T31","v":0},{"$f":"印刷シート1!V31","v":0},{"$f":"印刷シート1!A32","v":""},{"$f":"印刷シート1!C32","v":""},{"$f":"印刷シート1!L32","v":0},{"$f":"印刷シート1!N32","v":""},{"$f":"印刷シート1!O32","v":0},{"$f":"印刷シート1!P32","v":0},{"$f":"印刷シート1!T32","v":0},{"$f":"印刷シート1!V32","v":0},{"$f":"印刷シート1!L33","v":0},{"$f":"印刷シート1!N33","v":""},{"$f":"印刷シート1!O33","v":0},{"$f":"印刷シート1!P33","v":0},{"$f":"印刷シート1!T33","v":0},{"$f":"印刷シート1!V33","v":0},{"$f":"印刷シート1!A34","v":""},{"$f":"印刷シート1!C34","v":""},{"$f":"印刷シート1!L34","v":0},{"$f":"印刷シート1!N34","v":""},{"$f":"印刷シート1!O34","v":0},{"$f":"印刷シート1!P34","v":0},{"$f":"印刷シート1!T34","v":0},{"$f":"印刷シート1!V34","v":0},{"$f":"印刷シート1!A35","v":""},{"$f":"印刷シート1!C35","v":""},{"$f":"印刷シート1!L35","v":0},{"$f":"印刷シート1!N35","v":""},{"$f":"印刷シート1!O35","v":0},{"$f":"印刷シート1!P35","v":0},{"$f":"印刷シート1!T35","v":0},{"$f":"印刷シート1!V35","v":0},{"$f":"印刷シート1!A36","v":""},{"$f":"印刷シート1!C36","v":""},{"$f":"印刷シート1!L36","v":0},{"$f":"印刷シート1!N36","v":""},{"$f":"印刷シート1!O36","v":0},{"$f":"印刷シート1!P36","v":0},{"$f":"印刷シート1!T36","v":0},{"$f":"印刷シート1!V36","v":0},{"$f":"印刷シート1!A37","v":""},{"$f":"印刷シート1!C37","v":""},{"$f":"印刷シート1!L37","v":0},{"$f":"印刷シート1!N37","v":""},{"$f":"印刷シート1!O37","v":0},{"$f":"印刷シート1!P37","v":0},{"$f":"印刷シート1!T37","v":0},{"$f":"印刷シート1!V37","v":0},{"$f":"印刷シート1!A38","v":""},{"$f":"印刷シート1!C38","v":""},{"$f":"印刷シート1!L38","v":0},{"$f":"印刷シート1!N38","v":""},{"$f":"印刷シート1!O38","v":0},{"$f":"印刷シート1!P38","v":0},{"$f":"印刷シート1!T38","v":0},{"$f":"印刷シート1!V38","v":0},{"$f":"印刷シート1!A39","v":""},{"$f":"印刷シート1!C39","v":""},{"$f":"印刷シート1!L39","v":0},{"$f":"印刷シート1!N39","v":""},{"$f":"印刷シート1!O39","v":0},{"$f":"印刷シート1!P39","v":0},{"$f":"印刷シート1!T39","v":0},{"$f":"印刷シート1!V39","v":0},{"$f":"印刷シート1!L40","v":0},{"$f":"印刷シート1!N40","v":""},{"$f":"印刷シート1!O40","v":0},{"$f":"印刷シート1!P40","v":0},{"$f":"印刷シート1!T40","v":0},{"$f":"印刷シート1!V40","v":0},{"$f":"印刷シート1!A41","v":""},{"$f":"印刷シート1!C41","v":""},{"$f":"印刷シート1!L41","v":0},{"$f":"印刷シート1!N41","v":""},{"$f":"印刷シート1!O41","v":0},{"$f":"印刷シート1!P41","v":0},{"$f":"印刷シート1!T41","v":0},{"$f":"印刷シート1!V41","v":0},{"$f":"印刷シート1!A42","v":""},{"$f":"印刷シート1!C42","v":""},{"$f":"印刷シート1!L42","v":0},{"$f":"印刷シート1!N42","v":""},{"$f":"印刷シート1!O42","v":0},{"$f":"印刷シート1!P42","v":0},{"$f":"印刷シート1!T42","v":0},{"$f":"印刷シート1!V42","v":0},{"$f":"印刷シート1!A43","v":""},{"$f":"印刷シート1!C43","v":""},{"$f":"印刷シート1!L43","v":0},{"$f":"印刷シート1!N43","v":""},{"$f":"印刷シート1!O43","v":0},{"$f":"印刷シート1!P43","v":0},{"$f":"印刷シート1!T43","v":0},{"$f":"印刷シート1!V43","v":0},{"$f":"印刷シート1!A44","v":""},{"$f":"印刷シート1!C44","v":""},{"$f":"印刷シート1!L44","v":0},{"$f":"印刷シート1!N44","v":""},{"$f":"印刷シート1!O44","v":0},{"$f":"印刷シート1!P44","v":0},{"$f":"印刷シート1!T44","v":0},{"$f":"印刷シート1!V44","v":0},{"$f":"印刷シート1!A45","v":""},{"$f":"印刷シート1!C45","v":""},{"$f":"印刷シート1!L45","v":0},{"$f":"印刷シート1!N45","v":""},{"$f":"印刷シート1!O45","v":0},{"$f":"印刷シート1!P45","v":0},{"$f":"印刷シート1!T45","v":0},{"$f":"印刷シート1!V45","v":0},{"$f":"印刷シート1!A46","v":""},{"$f":"印刷シート1!C46","v":""},{"$f":"印刷シート1!L46","v":0},{"$f":"印刷シート1!N46","v":""},{"$f":"印刷シート1!O46","v":0},{"$f":"印刷シート1!P46","v":0},{"$f":"印刷シート1!T46","v":0},{"$f":"印刷シート1!V46","v":0},{"$f":"印刷シート1!A47","v":""},{"$f":"印刷シート1!C47","v":""},{"$f":"印刷シート1!L47","v":0},{"$f":"印刷シート1!N47","v":""},{"$f":"印刷シート1!O47","v":0},{"$f":"印刷シート1!P47","v":0},{"$f":"印刷シート1!T47","v":0},{"$f":"印刷シート1!V47","v":0},{"$f":"印刷シート1!A48","v":""},{"$f":"印刷シート1!C48","v":""},{"$f":"印刷シート1!L48","v":0},{"$f":"印刷シート1!N48","v":""},{"$f":"印刷シート1!O48","v":0},{"$f":"印刷シート1!P48","v":0},{"$f":"印刷シート1!T48","v":0},{"$f":"印刷シート1!V48","v":0},{"$f":"印刷シート1!A49","v":""},{"$f":"印刷シート1!C49","v":""},{"$f":"印刷シート1!L49","v":0},{"$f":"印刷シート1!N49","v":""},{"$f":"印刷シート1!O49","v":0},{"$f":"印刷シート1!P49","v":0},{"$f":"印刷シート1!T49","v":0},{"$f":"印刷シート1!V49","v":0},{"$f":"印刷シート1!A50","v":""},{"$f":"印刷シート1!C50","v":""},{"$f":"印刷シート1!L50","v":0},{"$f":"印刷シート1!N50","v":""},{"$f":"印刷シート1!O50","v":0},{"$f":"印刷シート1!P50","v":0},{"$f":"印刷シート1!T50","v":0},{"$f":"印刷シート1!V50","v":0},{"$f":"印刷シート1!A51","v":""},{"$f":"印刷シート1!C51","v":""},{"$f":"印刷シート1!L51","v":0},{"$f":"印刷シート1!N51","v":""},{"$f":"印刷シート1!O51","v":0},{"$f":"印刷シート1!P51","v":0},{"$f":"印刷シート1!T51","v":0},{"$f":"印刷シート1!V51","v":0},{"$f":"印刷シート1!A52","v":""},{"$f":"印刷シート1!C52","v":""},{"$f":"印刷シート1!L52","v":0},{"$f":"印刷シート1!N52","v":""},{"$f":"印刷シート1!O52","v":0},{"$f":"印刷シート1!P52","v":0},{"$f":"印刷シート1!T52","v":0},{"$f":"印刷シート1!V52","v":0},{"$f":"印刷シート1!A53","v":""},{"$f":"印刷シート1!C53","v":""},{"$f":"印刷シート1!L53","v":0},{"$f":"印刷シート1!N53","v":""},{"$f":"印刷シート1!O53","v":0},{"$f":"印刷シート1!P53","v":0},{"$f":"印刷シート1!T53","v":0},{"$f":"印刷シート1!V53","v":0},{"$f":"印刷シート1!A54","v":""},{"$f":"印刷シート1!C54","v":""},{"$f":"印刷シート1!L54","v":0},{"$f":"印刷シート1!N54","v":""},{"$f":"印刷シート1!O54","v":0},{"$f":"印刷シート1!P54","v":0},{"$f":"印刷シート1!T54","v":0},{"$f":"印刷シート1!V54","v":0},{"$f":"印刷シート1!A55","v":""},{"$f":"印刷シート1!C55","v":""},{"$f":"印刷シート1!L55","v":0},{"$f":"印刷シート1!N55","v":""},{"$f":"印刷シート1!O55","v":0},{"$f":"印刷シート1!P55","v":0},{"$f":"印刷シート1!T55","v":0},{"$f":"印刷シート1!V55","v":0},{"$f":"印刷シート1!A56","v":""},{"$f":"印刷シート1!C56","v":""},{"$f":"印刷シート1!L56","v":0},{"$f":"印刷シート1!N56","v":""},{"$f":"印刷シート1!O56","v":0},{"$f":"印刷シート1!P56","v":0},{"$f":"印刷シート1!T56","v":0},{"$f":"印刷シート1!V56","v":0},{"$f":"印刷シート1!A57","v":""},{"$f":"印刷シート1!C57","v":""},{"$f":"印刷シート1!L57","v":0},{"$f":"印刷シート1!N57","v":""},{"$f":"印刷シート1!O57","v":0},{"$f":"印刷シート1!P57","v":0},{"$f":"印刷シート1!T57","v":0},{"$f":"印刷シート1!V57","v":0},{"$f":"印刷シート1!A58","v":""},{"$f":"印刷シート1!C58","v":""},{"$f":"印刷シート1!L58","v":0},{"$f":"印刷シート1!N58","v":""},{"$f":"印刷シート1!O58","v":0},{"$f":"印刷シート1!P58","v":0},{"$f":"印刷シート1!T58","v":0},{"$f":"印刷シート1!V58","v":0},{"$f":"印刷シート1!A59","v":""},{"$f":"印刷シート1!C59","v":""},{"$f":"印刷シート1!L59","v":0},{"$f":"印刷シート1!N59","v":""},{"$f":"印刷シート1!O59","v":0},{"$f":"印刷シート1!P59","v":0},{"$f":"印刷シート1!T59","v":0},{"$f":"印刷シート1!V59","v":0}]

{"sheet":"受理票","index":9,"n_rows":26,"n_cols":22,"rows_kept":26,"cut":false,"hidden":true,"merged":[[8,8,9,21],[25,8,26,15],[4,0,4,3],[4,20,4,21],[4,5,4,18],[25,16,26,21],[2,0,2,3],[2,4,2,10],[0,0,0,29],[2,21,3,29],[6,0,6,29]]}
["令和６年度　仙南地域広域行政事務組合入札参加資格申請受理票"]
[]
["申請業種",null,null,null,"建設工事",null,null,null,null,null,null,null,null,null,null,null,null,null,null,null,null,"仙南地域広域行政事務組合"]
[]
["申請者",null,null,null,null,{"$f":"入力シート１!E12","v":0},null,null,null,null,null,null,null,null,null,null,null,null,null,null,"様"]
[]
["　令和６年度に係る入札参加資格申請書を受理いたしました。\n　（審査の結果、不承認となった場合は別途御案内いたします。）\n\n※　承認後において、申請内容に変更が生じた場合は、変更届様式により速やかに提出願います。"]
[]
[null,null,null,null,null,null,null,null,"受　　領　　印"]
[]
[]
[]
[]
[]
[]
[]
[]
[]
[]
[]
[]
[]
[]
[]
[]
[null,null,null,null,null,null,null,null,"受付番号",null,null,null,null,null,null,null,{"$f":"DBCS(【組合使用】!A4)","v":""}]

{"sheet":"承認書","index":10,"n_rows":43,"n_cols":7,"rows_kept":43,"cut":false,"hidden":true,"merged":[[2,0,2,6],[6,1,6,6],[7,1,7,6],[8,1,8,6],[9,1,9,6]]}
["様式第２号（第６条関係）"]
[]
["建設工事入札参加資格承認通知書"]
[]
[{"$f":"\"承認番号　第\"&DBCS(【組合使用】!A4)&\"号\"","v":"承認番号　第号"}]
[]
["郵便番号",{"$f":"入力シート１!E17","v":0}]
["住所又は所在地",{"$f":"入力シート１!E18&入力シート１!E20&入力シート１!E22","v":""}]
["商号又は名称",{"$f":"入力シート１!E12","v":0}]
["代表者名",{"$f":"入力シート１!E14&\"　\"&入力シート１!E15&\"　様\"","v":"　　様"}]
[]
["令和６年度における仙南地域広域行政事務組合が発注する建設工事に係る下記の"]
["建設業の種類について、競争入札に参加する資格を承認します。"]
[]
["令和"]
[]
[null,null,null,"仙南地域広域行政事務組合"]
[null,null,null,null,"理事長　滝　 口 　　茂","印"]
[]
[null,null,null,"記"]
["１　建設業の種類及び等級"]
["建設業の種類","本・受","等級",null,"建設業の種類","本・受","等級"]
[{"$f":"IF(入力シート２!O10=\"\",\"\",\"010 土木工事\")","v":""},{"$f":"IF(入力シート２!O10=\"\",\"\",入力シート２!O10)","v":""},{"$f":"DBCS(入力シート２!N10)","v":""},null,{"$f":"IF(入力シート２!O27=\"\",\"\",\"150 板金\")","v":""},{"$f":"IF(入力シート２!O27=\"\",\"\",入力シート２!O27)","v":""},{"$f":"DBCS(入力シート２!N27)","v":""}]
[{"$f":"IF(入力シート２!O11=\"\",\"\",\"011 ﾌﾟﾚｽﾄﾚｽﾄｺﾝｸﾘｰﾄ\")","v":""},{"$f":"IF(入力シート２!O11=\"\",\"\",入力シート２!O11)","v":""},{"$f":"DBCS(入力シート２!N11)","v":""},null,{"$f":"IF(入力シート２!O28=\"\",\"\",\"160 ガラス\")","v":""},{"$f":"IF(入力シート２!O28=\"\",\"\",入力シート２!O28)","v":""},{"$f":"DBCS(入力シート２!N28)","v":""}]
[{"$f":"IF(入力シート２!O12=\"\",\"\",\"020 建築一式\")","v":""},{"$f":"IF(入力シート２!O12=\"\",\"\",入力シート２!O12)","v":""},{"$f":"DBCS(入力シート２!N12)","v":""},null,{"$f":"IF(入力シート２!O29=\"\",\"\",\"170 塗装\")","v":""},{"$f":"IF(入力シート２!O29=\"\",\"\",入力シート２!O29)","v":""},{"$f":"DBCS(入力シート２!N29)","v":""}]
[{"$f":"IF(入力シート２!O13=\"\",\"\",\"030 大工\")","v":""},{"$f":"IF(入力シート２!O13=\"\",\"\",入力シート２!O13)","v":""},{"$f":"DBCS(入力シート２!N13)","v":""},null,{"$f":"IF(入力シート２!O30=\"\",\"\",\"180 防水\")","v":""},{"$f":"IF(入力シート２!O30=\"\",\"\",入力シート２!O30)","v":""},{"$f":"DBCS(入力シート２!N30)","v":""}]
[{"$f":"IF(入力シート２!O14=\"\",\"\",\"040 左官\")","v":""},{"$f":"IF(入力シート２!O14=\"\",\"\",入力シート２!O14)","v":""},{"$f":"DBCS(入力シート２!N14)","v":""},null,{"$f":"IF(入力シート２!O31=\"\",\"\",\"190 内装仕上げ\")","v":""},{"$f":"IF(入力シート２!O31=\"\",\"\",入力シート２!O31)","v":""},{"$f":"DBCS(入力シート２!N31)","v":""}]
[{"$f":"IF(入力シート２!O15=\"\",\"\",\"050 とび・土工・ｺﾝｸﾘｰﾄ\")","v":""},{"$f":"IF(入力シート２!O15=\"\",\"\",入力シート２!O15)","v":""},{"$f":"DBCS(入力シート２!N15)","v":""},null,{"$f":"IF(入力シート２!O32=\"\",\"\",\"200 機械器具設置\")","v":""},{"$f":"IF(入力シート２!O32=\"\",\"\",入力シート２!O32)","v":""},{"$f":"DBCS(入力シート２!N32)","v":""}]
[{"$f":"IF(入力シート２!O16=\"\",\"\",\"051 法面処理\")","v":""},{"$f":"IF(入力シート２!O16=\"\",\"\",入力シート２!O16)","v":""},{"$f":"DBCS(入力シート２!N16)","v":""},null,{"$f":"IF(入力シート２!O33=\"\",\"\",\"210 熱絶縁\")","v":""},{"$f":"IF(入力シート２!O33=\"\",\"\",入力シート２!O33)","v":""},{"$f":"DBCS(入力シート２!N33)","v":""}]
[{"$f":"IF(入力シート２!O17=\"\",\"\",\"060 石\")","v":""},{"$f":"IF(入力シート２!O17=\"\",\"\",入力シート２!O17)","v":""},{"$f":"DBCS(入力シート２!N17)","v":""},null,{"$f":"IF(入力シート２!O34=\"\",\"\",\"220 電気通信\")","v":""},{"$f":"IF(入力シート２!O34=\"\",\"\",入力シート２!O34)","v":""},{"$f":"DBCS(入力シート２!N34)","v":""}]
[{"$f":"IF(入力シート２!O18=\"\",\"\",\"070 屋根\")","v":""},{"$f":"IF(入力シート２!O18=\"\",\"\",入力シート２!O18)","v":""},{"$f":"DBCS(入力シート２!N18)","v":""},null,{"$f":"IF(入力シート２!O35=\"\",\"\",\"230 造園\")","v":""},{"$f":"IF(入力シート２!O35=\"\",\"\",入力シート２!O35)","v":""},{"$f":"DBCS(入力シート２!N35)","v":""}]
[{"$f":"IF(入力シート２!O19=\"\",\"\",\"080 電気\")","v":""},{"$f":"IF(入力シート２!O19=\"\",\"\",入力シート２!O19)","v":""},{"$f":"DBCS(入力シート２!N19)","v":""},null,{"$f":"IF(入力シート２!O36=\"\",\"\",\"240 さく井\")","v":""},{"$f":"IF(入力シート２!O36=\"\",\"\",入力シート２!O36)","v":""},{"$f":"DBCS(入力シート２!N36)","v":""}]
[{"$f":"IF(入力シート２!O20=\"\",\"\",\"090 管\")","v":""},{"$f":"IF(入力シート２!O20=\"\",\"\",入力シート２!O20)","v":""},{"$f":"DBCS(入力シート２!N20)","v":""},null,{"$f":"IF(入力シート２!O37=\"\",\"\",\"250 建具\")","v":""},{"$f":"IF(入力シート２!O37=\"\",\"\",入力シート２!O37)","v":""},{"$f":"DBCS(入力シート２!N37)","v":""}]
[{"$f":"IF(入力シート２!O21=\"\",\"\",\"100 ﾀｲﾙ・れんが・ﾌﾞﾛｯｸ\")","v":""},{"$f":"IF(入力シート２!O21=\"\",\"\",入力シート２!O21)","v":""},{"$f":"DBCS(入力シート２!N21)","v":""},null,{"$f":"IF(入力シート２!O38=\"\",\"\",\"260 水道施設\")","v":""},{"$f":"IF(入力シート２!O38=\"\",\"\",入力シート２!O38)","v":""},{"$f":"DBCS(入力シート２!N38)","v":""}]
[{"$f":"IF(入力シート２!O22=\"\",\"\",\"110 鋼構造物\")","v":""},{"$f":"IF(入力シート２!O22=\"\",\"\",入力シート２!O22)","v":""},{"$f":"DBCS(入力シート２!N22)","v":""},null,{"$f":"IF(入力シート２!O39=\"\",\"\",\"270 消防施設\")","v":""},{"$f":"IF(入力シート２!O39=\"\",\"\",入力シート２!O39)","v":""},{"$f":"DBCS(入力シート２!N39)","v":""}]
[{"$f":"IF(入力シート２!O23=\"\",\"\",\"111 鋼橋上部\")","v":""},{"$f":"IF(入力シート２!O23=\"\",\"\",入力シート２!O23)","v":""},{"$f":"DBCS(入力シート２!N23)","v":""},null,{"$f":"IF(入力シート２!O40=\"\",\"\",\"280 清掃施設\")","v":""},{"$f":"IF(入力シート２!O40=\"\",\"\",入力シート２!O40)","v":""},{"$f":"DBCS(入力シート２!N40)","v":""}]
[{"$f":"IF(入力シート２!O24=\"\",\"\",\"120 鉄筋\")","v":""},{"$f":"IF(入力シート２!O24=\"\",\"\",入力シート２!O24)","v":""},{"$f":"DBCS(入力シート２!N24)","v":""},null,{"$f":"IF(入力シート２!O41=\"\",\"\",\"290 解体工事\")","v":""},{"$f":"IF(入力シート２!O41=\"\",\"\",入力シート２!O41)","v":""},{"$f":"DBCS(入力シート２!N41)","v":""}]
[{"$f":"IF(入力シート２!O25=\"\",\"\",\"130 ほ装\")","v":""},{"$f":"IF(入力シート２!O25=\"\",\"\",入力シート２!O25)","v":""},{"$f":"DBCS(入力シート２!N25)","v":""},null,{"$f":"IF(入力シート２!O42=\"\",\"\",\"その他\")","v":""},{"$f":"IF(入力シート２!O42=\"\",\"\",入力シート２!O42)","v":""},{"$f":"DBCS(入力シート２!N42)","v":""}]
[{"$f":"IF(入力シート２!O26=\"\",\"\",\"140 しゅんせつ\")","v":""},{"$f":"IF(入力シート２!O26=\"\",\"\",入力シート２!O26)","v":""},{"$f":"DBCS(入力シート２!N26)","v":""}]
["※　本・受　本店または受任機関の別"]
[]
["２　参加資格の有効期間"]
["自　令和６年４月１日　　至　令和７年３月31日"]

{"sheet":"【組合使用】","index":11,"n_rows":4,"n_cols":323,"rows_kept":4,"cut":false,"hidden":true,"merged":[[0,303,1,322],[1,1,1,2],[1,3,1,5],[1,6,1,10],[1,14,1,15],[1,16,1,18],[1,19,1,22],[1,38,1,45],[1,46,1,51],[1,76,1,83],[0,297,2,297],[0,298,2,298],[0,299,2,299],[0,300,2,300],[0,301,2,301],[0,302,2,302],[0,296,2,296],[0,208,1,215],[0,216,1,223],[0,224,1,231],[0,232,1,239],[0,240,1,247],[0,248,1,255],[0,256,1,263],[0,264,1,271],[0,272,1,279],[0,280,1,287],[0,288,1,295],[0,200,1,207],[0,106,1,113],[0,114,1,121],[0,122,1,129],[0,130,0,143],[0,144,1,151],[0,152,1,159],[1,130,1,137],[1,138,1,143],[0,160,1,167],[0,168,1,175],[0,176,1,183],[0,184,1,191],[0,192,1,199],[0,98,1,105],[1,84,1,89],[0,1,0,13],[0,14,0,25],[0,27,1,28],[0,29,1,32],[0,33,1,37],[0,38,0,51],[0,52,1,59],[0,60,1,67],[0,68,1,75],[0,76,0,89],[0,90,1,97]]}
[null,"本店情報",null,null,null,null,null,null,null,null,null,null,null,null,"受任者情報",null,null,null,null,null,null,null,null,null,null,null,null,"本・支店営業",null,"建設業許可",null,null,null,"担当者",null,null,null,null,"土木工事",null,null,null,null,null,null,null,null,null,null,null,null,null,"建築一式",null,null,null,null,null,null,null,"大工",null,null,null,null,null,null,null,"左官",null,null,null,null,null,null,null,"とび・土工・コンクリート",null,null,null,null,null,null,null,null,null,null,null,null,null,"石",null,null,null,null,null,null,null,"屋根",null,null,null,null,null,null,null,"電気",null,null,null,null,null,null,null,"管",null,null,null,null,null,null,null,"タイル・れんが・ブロック",null,null,null,null,null,null,null,"鋼構造物",null,null,null,null,null,null,null,null,null,null,null,null,null,"鉄筋",null,null,null,null,null,null,null,"ほ装",null,null,null,null,null,null,null,"しゅんせつ",null,null,null,null,null,null,null,"板金",null,null,null,null,null,null,null,"ガラス",null,null,null,null,null,null,null,"塗装",null,null,null,null,null,null,null,"防水",null,null,null,null,null,null,null,"内装仕上げ",null,null,null,null,null,null,null,"機械器具設置",null,null,null,null,null,null,null,"熱絶縁",null,null,null,null,null,null,null,"電気通信",null,null,null,null,null,null,null,"造園",null,null,null,null,null,null,null,"さく井",null,null,null,null,null,null,null,"建具",null,null,null,null,null,null,null,"水道施設",null,null,null,null,null,null,null,"消防施設",null,null,null,null,null,null,null,"清掃施設",null,null,null,null,null,null,null,"解体工事",null,null,null,null,null,null,null,"その他",null,null,null,null,null,null,null,"総合評点基準日\n（基準日から1年7か月を過ぎたものは無効）","経審有効期限","建設業\n退職金\n共済\n事業","産業\n廃棄物\n処理業\n許可","営業\n年数","資本金","総\n従業\n員数","技術職員数"]
[null,"商号",null,"代表者",null,null,"所在地",null,null,null,null,null,null,null,"商号",null,"受任者",null,null,"所在地",null,null,null,null,null,null,null,null,null,null,null,null,null,null,null,null,null,null,null,null,null,null,null,null,null,null,"プレストレストコンクリート",null,null,null,null,null,null,null,null,null,null,null,null,null,null,null,null,null,null,null,null,null,null,null,null,null,null,null,null,null,null,null,null,null,null,null,null,null,"法面処理",null,null,null,null,null,null,null,null,null,null,null,null,null,null,null,null,null,null,null,null,null,null,null,null,null,null,null,null,null,null,null,null,null,null,null,null,null,null,null,null,null,null,null,null,null,null,null,null,null,null,null,null,null,"鋼橋上部"]
[null,"名称","フリガナ","役職名","氏名","フリガナ","郵便番号","所在地\n（都道府\n県名）","所在地\n（市区・郡\n　町村名）","所在地","所在地\nフリガナ","電話番号","FAX番号","Eメール\nアドレス","名称","フリガナ","役職名","氏名","フリガナ","郵便番号","所在地\n（都道府\n県名）","所在地\n（市区・郡\n　町村名）","所在地","電話番号","FAX番号","Eメール\nアドレス","法人\n個人別","県内","仙南地区","許可者","許可種別","許可\n番号","許可\n有効\n期限","部署名","氏名","電話番号","FAX番号","Eメールアドレス","申請\n区分","許可\n区分","総合\n評点","組合等級","本・受","完成工事高","1級\n技術\n職員数","2級\n技術\n職員数","総合\n評点","組合等級","本・受","完成工事高","1級\n技術\n職員数","2級\n技術\n職員数","申請\n区分","許可\n区分","総合\n評点","組合等級","本・受","完成工事高","1級\n技術\n職員数","2級\n技術\n職員数","申請\n区分","許可\n区分","総合\n評点","組合等級","本・受","完成工事高","1級\n技術\n職員数","2級\n技術\n職員数","申請\n区分","許可\n区分","総合\n評点","組合等級","本・受","完成工事高","1級\n技術\n職員数","2級\n技術\n職員数","申請\n区分","許可\n区分","総合\n評点","組合等級","本・受","完成工事高","1級\n技術\n職員数","2級\n技術\n職員数","総合\n評点","組合等級","本・受","完成工事高","1級\n技術\n職員数","2級\n技術\n職員数","申請\n区分","許可\n区分","総合\n評点","組合等級","本・受","完成工事高","1級\n技術\n職員数","2級\n技術\n職員数","申請\n区分","許可\n区分","総合\n評点","組合等級","本・受","完成工事高","1級\n技術\n職員数","2級\n技術\n職員数","申請\n区分","許可\n区分","総合\n評点","組合等級","本・受","完成工事高","1級\n技術\n職員数","2級\n技術\n職員数","申請\n区分","許可\n区分","総合\n評点","組合等級","本・受","完成工事高","1級\n技術\n職員数","2級\n技術\n職員数","申請\n区分","許可\n区分","総合\n評点","組合等級","本・受","完成工事高","1級\n技術\n職員数","2級\n技術\n職員数","申請\n区分","許可\n区分","総合\n評点","組合等級","本・受","完成工事高","1級\n技術\n職員数","2級\n技術\n職員数","総合\n評点","組合等級","本・受","完成工事高","1級\n技術\n職員数","2級\n技術\n職員数","申請\n区分","許可\n区分","総合\n評点","組合等級","本・受","完成工事高","1級\n技術\n職員数","2級\n技術\n職員数","申請\n区分","許可\n区分","総合\n評点","組合等級","本・受","完成工事高","1級\n技術\n職員数","2級\n技術\n職員数","申請\n区分","許可\n区分","総合\n評点","組合等級","本・受","完成工事高","1級\n技術\n職員数","2級\n技術\n職員数","申請\n区分","許可\n区分","総合\n評点","組合等級","本・受","完成工事高","1級\n技術\n職員数","2級\n技術\n職員数","申請\n区分","許可\n区分","総合\n評点","組合等級","本・受","完成工事高","1級\n技術\n職員数","2級\n技術\n職員数","申請\n区分","許可\n区分","総合\n評点","組合等級","本・受","完成工事高","1級\n技術\n職員数","2級\n技術\n職員数","申請\n区分","許可\n区分","総合\n評点","組合等級","本・受","完成工事高","1級\n技術\n職員数","2級\n技術\n職員数","申請\n区分","許可\n区分","総合\n評点","組合等級","本・受","完成工事高","1級\n技術\n職員数","2級\n技術\n職員数","申請\n区分","許可\n区分","総合\n評点","組合等級","本・受","完成工事高","1級\n技術\n職員数","2級\n技術\n職員数","申請\n区分","許可\n区分","総合\n評点","組合等級","本・受","完成工事高","1級\n技術\n職員数","2級\n技術\n職員数","申請\n区分","許可\n区分","総合\n評点","組合等級","本・受","完成工事高","1級\n技術\n職員数","2級\n技術\n職員数","申請\n区分","許可\n区分","総合\n評点","組合等級","本・受","完成工事高","1級\n技術\n職員数","2級\n技術\n職員数","申請\n区分","許可\n区分","総合\n評点","組合等級","本・受","完成工事高","1級\n技術\n職員数","2級\n技術\n職員数","申請\n区分","許可\n区分","総合\n評点","組合等級","本・受","完成工事高","1級\n技術\n職員数","2級\n技術\n職員数","申請\n区分","許可\n区分","総合\n評点","組合等級","本・受","完成工事高","1級\n技術\n職員数","2級\n技術\n職員数","申請\n区分","許可\n区分","総合\n評点","組合等級","本・受","完成工事高","1級\n技術\n職員数","2級\n技術\n職員数","申請\n区分","許可\n区分","総合\n評点","組合等級","本・受","完成工事高","1級\n技術\n職員数","2級\n技術\n職員数","申請\n区分","許可\n区分","総合\n評点","組合等級","本・受","完成工事高","1級\n技術\n職員数","2級\n技術\n職員数","申請\n区分","許可\n区分","総合\n評点","組合等級","本・受","完成工事高","1級\n技術\n職員数","2級\n技術\n職員数",null,null,null,null,null,null,null,"技術\n職員\n（1級）","技術\n職員\n（2級）","その他\nの\n技術\n職員","建設業\n従業者数","土木\n施工\n管理\n技士\n（1級）","土木\n施工\n管理\n技士\n（2級）","建築\n施工\n管理\n技士\n（1級）","建築\n施工\n管理\n技士\n（2級）","建築士\n（1級）","建築士\n（2級）","木造\n建築士","建築\n整備士","舗装\n施工\n管理\n技術者\n（1級）","舗装\n施工\n管理\n技術者\n（2級）","管工事\n施工\n管理\n技士\n（1級）","管工事\n施工\n管理\n技士\n（2級）","建設\n機械\n施工\n管理\n技士\n（1級）","建設\n機械\n施工\n管理\n技士\n（2級）","造園\n施工\n管理\n技士\n（1級）","造園\n施工\n管理\n技士\n（2級）"]
[null,{"$f":"データシート!G4","v":0},{"$f":"データシート!H4","v":0},{"$f":"データシート!I4","v":0},{"$f":"データシート!J4","v":0},{"$f":"データシート!K4","v":0},{"$f":"データシート!L4","v":0},{"$f":"データシート!M4","v":0},{"$f":"データシート!N4","v":0},{"$f":"データシート!O4","v":0},{"$f":"データシート!P4","v":""},{"$f":"データシート!Q4","v":0},{"$f":"データシート!R4","v":0},{"$f":"データシート!S4","v":0},{"$f":"IF(データシート!T4=0,\"\",データシート!T4)","v":""},{"$f":"IF(データシート!U4=0,\"\",データシート!U4)","v":""},{"$f":"IF(データシート!V4=0,\"\",データシート!V4)","v":""},{"$f":"IF(データシート!W4=0,\"\",データシート!W4)","v":""},{"$f":"IF(データシート!X4=0,\"\",データシート!X4)","v":""},{"$f":"IF(データシート!Y4=0,\"\",データシート!Y4)","v":""},{"$f":"IF(データシート!Z4=0,\"\",データシート!Z4)","v":""},{"$f":"IF(データシート!AA4=0,\"\",データシート!AA4)","v":""},{"$f":"IF(データシート!AB4=0,\"\",データシート!AB4)","v":""},{"$f":"IF(データシート!AC4=0,\"\",データシート!AC4)","v":""},{"$f":"IF(データシート!AD4=0,\"\",データシート!AD4)","v":""},{"$f":"IF(データシート!AE4=0,\"\",データシート!AE4)","v":""},{"$f":"データシート!B4","v":0},{"$f":"IF(H4=\"宮城県\",\"○\",IF(U4=\"宮城県\",\"○\",\"\"))","v":""},{"$f":"IF(I4=\"白石市\",\"○\",IF(I4=\"角田市\",\"○\",IF(I4=\"刈田郡蔵王町\",\"○\",IF(I4=\"蔵王町\",\"○\",IF(I4=\"刈田郡七ヶ宿町\",\"○\",IF(I4=\"七ヶ宿町\",\"○\",IF(I4=\"柴田郡大河原町\",\"○\",IF(I4=\"大河原町\",\"○\",IF(I4=\"柴田郡村田町\",\"○\",IF(I4=\"村田町\",\"○\",IF(I4=\"柴田郡柴田町\",\"○\",IF(I4=\"柴田町\",\"○\",IF(I4=\"柴田郡川崎町\",\"○\",IF(I4=\"川崎町\",\"○\",IF(I4=\"伊具郡丸森町\",\"○\",IF(I4=\"丸森町\",\"○\",IF(I4=\"白石市\",\"○\",IF(V4=\"角田市\",\"○\",IF(V4=\"刈田郡蔵王町\",\"○\",IF(V4=\"蔵王町\",\"○\",IF(V4=\"刈田郡七ヶ宿町\",\"○\",IF(V4=\"七ヶ宿町\",\"○\",IF(V4=\"柴田郡大河原町\",\"○\",IF(V4=\"大河原町\",\"○\",IF(V4=\"柴田郡村田町\",\"○\",IF(V4=\"村田町\",\"○\",IF(V4=\"柴田郡柴田町\",\"○\",IF(V4=\"柴田町\",\"○\",IF(V4=\"柴田郡川崎町\",\"○\",IF(V4=\"川崎町\",\"○\",IF(V4=\"伊具郡丸森町\",\"○\",IF(V4=\"丸森町\",\"○\",\"\"))))))))))))))))))))))))))))))))","v":""},{"$f":"データシート!C4","v":0},{"$f":"データシート!D4","v":0},{"$f":"データシート!E4","v":0},{"$f":"データシート!F4","v":"00:00:00"},{"$f":"データシート!BF4","v":0},{"$f":"データシート!BG4","v":0},{"$f":"データシート!BH4","v":0},{"$f":"データシート!BI4","v":0},{"$f":"データシート!BJ4","v":0},{"$f":"IF(データシート!BK4=\"○\",\"○\",IF(データシート!BK4=\"\",\"\"))","v":""},{"$f":"IF(データシート!BL4=0,\"\",データシート!BL4)","v":""},{"$f":"IF(データシート!BM4=0,\"\",データシート!BM4)","v":""},{"$f":"IF(データシート!BN4=0,\"\",データシート!BN4)","v":""},{"$f":"IF(データシート!BO4=0,\"\",データシート!BO4)","v":""},{"$f":"IF(データシート!BP4=0,\"\",データシート!BP4)","v":""},{"$f":"IF(データシート!BQ4=0,\"\",データシート!BQ4)","v":""},{"$f":"IF(データシート!BR4=0,\"\",データシート!BR4)","v":""},{"$f":"IF(データシート!BS4=0,\"\",データシート!BS4)","v":""},{"$f":"IF(データシート!BT4=0,\"\",データシート!BT4)","v":""},{"$f":"IF(データシート!BU4=0,\"\",データシート!BU4)","v":""},{"$f":"IF(データシート!BV4=0,\"\",データシート!BV4)","v":""},{"$f":"IF(データシート!BW4=0,\"\",データシート!BW4)","v":""},{"$f":"IF(データシート!BX4=0,\"\",データシート!BX4)","v":""},{"$f":"IF(データシート!BY4=\"○\",\"○\",IF(データシート!BY4=\"\",\"\"))","v":""},{"$f":"IF(データシート!BZ4=0,\"\",データシート!BZ4)","v":""},{"$f":"IF(データシート!CA4=0,\"\",データシート!CA4)","v":""},{"$f":"IF(データシート!CB4=0,\"\",データシート!CB4)","v":""},{"$f":"IF(データシート!CC4=0,\"\",データシート!CC4)","v":""},{"$f":"IF(データシート!CD4=0,\"\",データシート!CD4)","v":""},{"$f":"IF(データシート!CE4=0,\"\",データシート!CE4)","v":""},{"$f":"IF(データシート!CF4=0,\"\",データシート!CF4)","v":""},{"$f":"IF(データシート!CG4=\"○\",\"○\",IF(データシート!CG4=\"\",\"\"))","v":""},{"$f":"IF(データシート!CH4=0,\"\",データシート!CH4)","v":""},{"$f":"IF(データシート!CI4=0,\"\",データシート!CI4)","v":""},{"$f":"IF(データシート!CJ4=0,\"\",データシート!CJ4)","v":""},{"$f":"IF(データシート!CK4=0,\"\",データシート!CK4)","v":""},{"$f":"IF(データシート!CL4=0,\"\",データシート!CL4)","v":""},{"$f":"IF(データシート!CM4=0,\"\",データシート!CM4)","v":""},{"$f":"IF(データシート!CN4=0,\"\",データシート!CN4)","v":""},{"$f":"IF(データシート!CO4=\"○\",\"○\",IF(データシート!CO4=\"\",\"\"))","v":""},{"$f":"IF(データシート!CP4=0,\"\",データシート!CP4)","v":""},{"$f":"IF(データシート!CQ4=0,\"\",データシート!CQ4)","v":""},{"$f":"IF(データシート!CR4=0,\"\",データシート!CR4)","v":""},{"$f":"IF(データシート!CS4=0,\"\",データシート!CS4)","v":""},{"$f":"IF(データシート!CT4=0,\"\",データシート!CT4)","v":""},{"$f":"IF(データシート!CU4=0,\"\",データシート!CU4)","v":""},{"$f":"IF(データシート!CV4=0,\"\",データシート!CV4)","v":""},{"$f":"IF(データシート!CW4=\"○\",\"○\",IF(データシート!CW4=\"\",\"\"))","v":""},{"$f":"IF(データシート!CX4=0,\"\",データシート!CX4)","v":""},{"$f":"IF(データシート!CY4=0,\"\",データシート!CY4)","v":""},{"$f":"IF(データシート!CZ4=0,\"\",データシート!CZ4)","v":""},{"$f":"IF(データシート!DA4=0,\"\",データシート!DA4)","v":""},{"$f":"IF(データシート!DB4=0,\"\",データシート!DB4)","v":""},{"$f":"IF(データシート!DC4=0,\"\",データシート!DC4)","v":""},{"$f":"IF(データシート!DD4=0,\"\",データシート!DD4)","v":""},{"$f":"IF(データシート!DE4=0,\"\",データシート!DE4)","v":""},{"$f":"IF(データシート!DF4=0,\"\",データシート!DF4)","v":""},{"$f":"IF(データシート!DG4=0,\"\",データシート!DG4)","v":""},{"$f":"IF(データシート!DH4=0,\"\",データシート!DH4)","v":""},{"$f":"IF(データシート!DI4=0,\"\",データシート!DI4)","v":""},{"$f":"IF(データシート!DJ4=0,\"\",データシート!DJ4)","v":""},{"$f":"IF(データシート!DK4=\"○\",\"○\",IF(データシート!DK4=\"\",\"\"))","v":""},{"$f":"IF(データシート!DL4=0,\"\",データシート!DL4)","v":""},{"$f":"IF(データシート!DM4=0,\"\",データシート!DM4)","v":""},{"$f":"IF(データシート!DN4=0,\"\",データシート!DN4)","v":""},{"$f":"IF(データシート!DO4=0,\"\",データシート!DO4)","v":""},{"$f":"IF(データシート!DP4=0,\"\",データシート!DP4)","v":""},{"$f":"IF(データシート!DQ4=0,\"\",データシート!DQ4)","v":""},{"$f":"IF(データシート!DR4=0,\"\",データシート!DR4)","v":""},{"$f":"IF(データシート!DS4=\"○\",\"○\",IF(データシート!DS4=\"\",\"\"))","v":""},{"$f":"IF(データシート!DT4=0,\"\",データシート!DT4)","v":""},{"$f":"IF(データシート!DU4=0,\"\",データシート!DU4)","v":""},{"$f":"IF(データシート!DV4=0,\"\",データシート!DV4)","v":""},{"$f":"IF(データシート!DW4=0,\"\",データシート!DW4)","v":""},{"$f":"IF(データシート!DX4=0,\"\",データシート!DX4)","v":""},{"$f":"IF(データシート!DY4=0,\"\",データシート!DY4)","v":""},{"$f":"IF(データシート!DZ4=0,\"\",データシート!DZ4)","v":""},{"$f":"IF(データシート!EA4=\"○\",\"○\",IF(データシート!EA4=\"\",\"\"))","v":""},{"$f":"IF(データシート!EB4=0,\"\",データシート!EB4)","v":""},{"$f":"IF(データシート!EC4=0,\"\",データシート!EC4)","v":""},{"$f":"IF(データシート!ED4=0,\"\",データシート!ED4)","v":""},{"$f":"IF(データシート!EE4=0,\"\",データシート!EE4)","v":""},{"$f":"IF(データシート!EF4=0,\"\",データシート!EF4)","v":""},{"$f":"IF(データシート!EG4=0,\"\",データシート!EG4)","v":""},{"$f":"IF(データシート!EH4=0,\"\",データシート!EH4)","v":""},{"$f":"IF(データシート!EI4=\"○\",\"○\",IF(データシート!EI4=\"\",\"\"))","v":""},{"$f":"IF(データシート!EJ4=0,\"\",データシート!EJ4)","v":""},{"$f":"IF(データシート!EK4=0,\"\",データシート!EK4)","v":""},{"$f":"IF(データシート!EL4=0,\"\",データシート!EL4)","v":""},{"$f":"IF(データシート!EM4=0,\"\",データシート!EM4)","v":""},{"$f":"IF(データシート!EN4=0,\"\",データシート!EN4)","v":""},{"$f":"IF(データシート!EO4=0,\"\",データシート!EO4)","v":""},{"$f":"IF(データシート!EP4=0,\"\",データシート!EP4)","v":""},{"$f":"IF(データシート!EQ4=\"○\",\"○\",IF(データシート!EQ4=\"\",\"\"))","v":""},{"$f":"IF(データシート!ER4=0,\"\",データシート!ER4)","v":""},{"$f":"IF(データシート!ES4=0,\"\",データシート!ES4)","v":""},{"$f":"IF(データシート!ET4=0,\"\",データシート!ET4)","v":""},{"$f":"IF(データシート!EU4=0,\"\",データシート!EU4)","v":""},{"$f":"IF(データシート!EV4=0,\"\",データシート!EV4)","v":""},{"$f":"IF(データシート!EW4=0,\"\",データシート!EW4)","v":""},{"$f":"IF(データシート!EX4=0,\"\",データシート!EX4)","v":""},{"$f":"IF(データシート!EY4=\"○\",\"○\",IF(データシート!EY4=\"\",\"\"))","v":""},{"$f":"IF(データシート!EZ4=0,\"\",データシート!EZ4)","v":""},{"$f":"IF(データシート!FA4=0,\"\",データシート!FA4)","v":""},{"$f":"IF(データシート!FB4=0,\"\",データシート!FB4)","v":""},{"$f":"IF(データシート!FC4=0,\"\",データシート!FC4)","v":""},{"$f":"IF(データシート!FD4=0,\"\",データシート!FD4)","v":""},{"$f":"IF(データシート!FE4=0,\"\",データシート!FE4)","v":""},{"$f":"IF(データシート!FF4=0,\"\",データシート!FF4)","v":""},{"$f":"IF(データシート!FG4=0,\"\",データシート!FG4)","v":""},{"$f":"IF(データシート!FH4=0,\"\",データシート!FH4)","v":""},{"$f":"IF(データシート!FI4=0,\"\",データシート!FI4)","v":""},{"$f":"IF(データシート!FJ4=0,\"\",データシート!FJ4)","v":""},{"$f":"IF(データシート!FK4=0,\"\",データシート!FK4)","v":""},{"$f":"IF(データシート!FL4=0,\"\",データシート!FL4)","v":""},{"$f":"IF(データシート!FM4=\"○\",\"○\",IF(データシート!FM4=\"\",\"\"))","v":""},{"$f":"IF(データシート!FN4=0,\"\",データシート!FN4)","v":""},{"$f":"IF(データシート!FO4=0,\"\",データシート!FO4)","v":""},{"$f":"IF(データシート!FP4=0,\"\",データシート!FP4)","v":""},{"$f":"IF(データシート!FQ4=0,\"\",データシート!FQ4)","v":""},{"$f":"IF(データシート!FR4=0,\"\",データシート!FR4)","v":""},{"$f":"IF(データシート!FS4=0,\"\",データシート!FS4)","v":""},{"$f":"IF(データシート!FT4=0,\"\",データシート!FT4)","v":""},{"$f":"IF(データシート!FU4=\"○\",\"○\",IF(データシート!FU4=\"\",\"\"))","v":""},{"$f":"IF(データシート!FV4=0,\"\",データシート!FV4)","v":""},{"$f":"IF(データシート!FW4=0,\"\",データシート!FW4)","v":""},{"$f":"IF(データシート!FX4=0,\"\",データシート!FX4)","v":""},{"$f":"IF(データシート!FY4=0,\"\",データシート!FY4)","v":""},{"$f":"IF(データシート!FZ4=0,\"\",データシート!FZ4)","v":""},{"$f":"IF(データシート!GA4=0,\"\",データシート!GA4)","v":""},{"$f":"IF(データシート!GB4=0,\"\",データシート!GB4)","v":""},{"$f":"IF(データシート!GC4=\"○\",\"○\",IF(データシート!GC4=\"\",\"\"))","v":""},{"$f":"IF(データシート!GD4=0,\"\",データシート!GD4)","v":""},{"$f":"IF(データシート!GE4=0,\"\",データシート!GE4)","v":""},{"$f":"IF(データシート!GF4=0,\"\",データシート!GF4)","v":""},{"$f":"IF(データシート!GG4=0,\"\",データシート!GG4)","v":""},{"$f":"IF(データシート!GH4=0,\"\",データシート!GH4)","v":""},{"$f":"IF(データシート!GI4=0,\"\",データシート!GI4)","v":""},{"$f":"IF(データシート!GJ4=0,\"\",データシート!GJ4)","v":""},{"$f":"IF(データシート!GK4=\"○\",\"○\",IF(データシート!GK4=\"\",\"\"))","v":""},{"$f":"IF(データシート!GL4=0,\"\",データシート!GL4)","v":""},{"$f":"IF(データシート!GM4=0,\"\",データシート!GM4)","v":""},{"$f":"IF(データシート!GN4=0,\"\",データシート!GN4)","v":""},{"$f":"IF(データシート!GO4=0,\"\",データシート!GO4)","v":""},{"$f":"IF(データシート!GP4=0,\"\",データシート!GP4)","v":""},{"$f":"IF(データシート!GQ4=0,\"\",データシート!GQ4)","v":""},{"$f":"IF(データシート!GR4=0,\"\",データシート!GR4)","v":""},{"$f":"IF(データシート!GS4=\"○\",\"○\",IF(データシート!GS4=\"\",\"\"))","v":""},{"$f":"IF(データシート!GT4=0,\"\",データシート!GT4)","v":""},{"$f":"IF(データシート!GU4=0,\"\",データシート!GU4)","v":""},{"$f":"IF(データシート!GV4=0,\"\",データシート!GV4)","v":""},{"$f":"IF(データシート!GW4=0,\"\",データシート!GW4)","v":""},{"$f":"IF(データシート!GX4=0,\"\",データシート!GX4)","v":""},{"$f":"IF(データシート!GY4=0,\"\",データシート!GY4)","v":""},{"$f":"IF(データシート!GZ4=0,\"\",データシート!GZ4)","v":""},{"$f":"IF(データシート!HA4=\"○\",\"○\",IF(データシート!HA4=\"\",\"\"))","v":""},{"$f":"IF(データシート!HB4=0,\"\",データシート!HB4)","v":""},{"$f":"IF(データシート!HC4=0,\"\",データシート!HC4)","v":""},{"$f":"IF(データシート!HD4=0,\"\",データシート!HD4)","v":""},{"$f":"IF(データシート!HE4=0,\"\",データシート!HE4)","v":""},{"$f":"IF(データシート!HF4=0,\"\",データシート!HF4)","v":""},{"$f":"IF(データシート!HG4=0,\"\",データシート!HG4)","v":""},{"$f":"IF(データシート!HH4=0,\"\",データシート!HH4)","v":""},{"$f":"IF(データシート!HI4=\"○\",\"○\",IF(データシート!HI4=\"\",\"\"))","v":""},{"$f":"IF(データシート!HJ4=0,\"\",データシート!HJ4)","v":""},{"$f":"IF(データシート!HK4=0,\"\",データシート!HK4)","v":""},{"$f":"IF(データシート!HL4=0,\"\",データシート!HL4)","v":""},{"$f":"IF(データシート!HM4=0,\"\",データシート!HM4)","v":""},{"$f":"IF(データシート!HN4=0,\"\",データシート!HN4)","v":""},{"$f":"IF(データシート!HO4=0,\"\",データシート!HO4)","v":""},{"$f":"IF(データシート!HP4=0,\"\",データシート!HP4)","v":""},{"$f":"IF(データシート!HQ4=\"○\",\"○\",IF(データシート!HQ4=\"\",\"\"))","v":""},{"$f":"IF(データシート!HR4=0,\"\",データシート!HR4)","v":""},{"$f":"IF(データシート!HS4=0,\"\",データシート!HS4)","v":""},{"$f":"IF(データシート!HT4=0,\"\",データシート!HT4)","v":""},{"$f":"IF(データシート!HU4=0,\"\",データシート!HU4)","v":""},{"$f":"IF(データシート!HV4=0,\"\",データシート!HV4)","v":""},{"$f":"IF(データシート!HW4=0,\"\",データシート!HW4)","v":""},{"$f":"IF(データシート!HX4=0,\"\",データシート!HX4)","v":""},{"$f":"IF(データシート!HY4=\"○\",\"○\",IF(データシート!HY4=\"\",\"\"))","v":""},{"$f":"IF(データシート!HZ4=0,\"\",データシート!HZ4)","v":""},{"$f":"IF(データシート!IA4=0,\"\",データシート!IA4)","v":""},{"$f":"IF(データシート!IB4=0,\"\",データシート!IB4)","v":""},{"$f":"IF(データシート!IC4=0,\"\",データシート!IC4)","v":""},{"$f":"IF(データシート!ID4=0,\"\",データシート!ID4)","v":""},{"$f":"IF(データシート!IE4=0,\"\",データシート!IE4)","v":""},{"$f":"IF(データシート!IF4=0,\"\",データシート!IF4)","v":""},{"$f":"IF(データシート!IG4=\"○\",\"○\",IF(データシート!IG4=\"\",\"\"))","v":""},{"$f":"IF(データシート!IH4=0,\"\",データシート!IH4)","v":""},{"$f":"IF(データシート!II4=0,\"\",データシート!II4)","v":""},{"$f":"IF(データシート!IJ4=0,\"\",データシート!IJ4)","v":""},{"$f":"IF(データシート!IK4=0,\"\",データシート!IK4)","v":""},{"$f":"IF(データシート!IL4=0,\"\",データシート!IL4)","v":""},{"$f":"IF(データシート!IM4=0,\"\",データシート!IM4)","v":""},{"$f":"IF(データシート!IN4=0,\"\",データシート!IN4)","v":""},{"$f":"IF(データシート!IO4=\"○\",\"○\",IF(データシート!IO4=\"\",\"\"))","v":""},{"$f":"IF(データシート!IP4=0,\"\",データシート!IP4)","v":""},{"$f":"IF(データシート!IQ4=0,\"\",データシート!IQ4)","v":""},{"$f":"IF(データシート!IR4=0,\"\",データシート!IR4)","v":""},{"$f":"IF(データシート!IS4=0,\"\",データシート!IS4)","v":""},{"$f":"IF(データシート!IT4=0,\"\",データシート!IT4)","v":""},{"$f":"IF(データシート!IU4=0,\"\",データシート!IU4)","v":""},{"$f":"IF(データシート!IV4=0,\"\",データシート!IV4)","v":""},{"$f":"IF(データシート!IW4=\"○\",\"○\",IF(データシート!IW4=\"\",\"\"))","v":""},{"$f":"IF(データシート!IX4=0,\"\",データシート!IX4)","v":""},{"$f":"IF(データシート!IY4=0,\"\",データシート!IY4)","v":""},{"$f":"IF(データシート!IZ4=0,\"\",データシート!IZ4)","v":""},{"$f":"IF(データシート!JA4=0,\"\",データシート!JA4)","v":""},{"$f":"IF(データシート!JB4=0,\"\",データシート!JB4)","v":""},{"$f":"IF(データシート!JC4=0,\"\",データシート!JC4)","v":""},{"$f":"IF(データシート!JD4=0,\"\",データシート!JD4)","v":""},{"$f":"IF(データシート!JE4=\"○\",\"○\",IF(データシート!JE4=\"\",\"\"))","v":""},{"$f":"IF(データシート!JF4=0,\"\",データシート!JF4)","v":""},{"$f":"IF(データシート!JG4=0,\"\",データシート!JG4)","v":""},{"$f":"IF(データシート!JH4=0,\"\",データシート!JH4)","v":""},{"$f":"IF(データシート!JI4=0,\"\",データシート!JI4)","v":""},{"$f":"IF(データシート!JJ4=0,\"\",データシート!JJ4)","v":""},{"$f":"IF(データシート!JK4=0,\"\",データシート!JK4)","v":""},{"$f":"IF(データシート!JL4=0,\"\",データシート!JL4)","v":""},{"$f":"IF(データシート!JM4=\"○\",\"○\",IF(データシート!JM4=\"\",\"\"))","v":""},{"$f":"IF(データシート!JN4=0,\"\",データシート!JN4)","v":""},{"$f":"IF(データシート!JO4=0,\"\",データシート!JO4)","v":""},{"$f":"IF(データシート!JP4=0,\"\",データシート!JP4)","v":""},{"$f":"IF(データシート!JQ4=0,\"\",データシート!JQ4)","v":""},{"$f":"IF(データシート!JR4=0,\"\",データシート!JR4)","v":""},{"$f":"IF(データシート!JS4=0,\"\",データシート!JS4)","v":""},{"$f":"IF(データシート!JT4=0,\"\",データシート!JT4)","v":""},{"$f":"IF(データシート!JU4=\"○\",\"○\",IF(データシート!JU4=\"\",\"\"))","v":""},{"$f":"IF(データシート!JV4=0,\"\",データシート!JV4)","v":""},{"$f":"IF(データシート!JW4=0,\"\",データシート!JW4)","v":""},{"$f":"IF(データシート!JX4=0,\"\",データシート!JX4)","v":""},{"$f":"IF(データシート!JY4=0,\"\",データシート!JY4)","v":""},{"$f":"IF(データシート!JZ4=0,\"\",データシート!JZ4)","v":""},{"$f":"IF(データシート!KA4=0,\"\",データシート!KA4)","v":""},{"$f":"IF(データシート!KB4=0,\"\",データシート!KB4)","v":""},{"$f":"IF(データシート!KC4=\"○\",\"○\",IF(データシート!KC4=\"\",\"\"))","v":""},{"$f":"IF(データシート!KD4=0,\"\",データシート!KD4)","v":""},{"$f":"IF(データシート!KE4=0,\"\",データシート!KE4)","v":""},{"$f":"IF(データシート!KF4=0,\"\",データシート!KF4)","v":""},{"$f":"IF(データシート!KG4=0,\"\",データシート!KG4)","v":""},{"$f":"IF(データシート!KH4=0,\"\",データシート!KH4)","v":""},{"$f":"IF(データシート!KI4=0,\"\",データシート!KI4)","v":""},{"$f":"IF(データシート!KJ4=0,\"\",データシート!KJ4)","v":""},{"$f":"IF(データシート!KK4=\"○\",\"○\",IF(データシート!KK4=\"\",\"\"))","v":""},{"$f":"IF(データシート!KL4=0,\"\",データシート!KL4)","v":""},{"$f":"IF(データシート!KM4=0,\"\",データシート!KM4)","v":""},{"$f":"IF(データシート!KN4=0,\"\",データシート!KN4)","v":""},{"$f":"IF(データシート!KO4=0,\"\",データシート!KO4)","v":""},{"$f":"IF(データシート!KP4=0,\"\",データシート!KP4)","v":""},{"$f":"IF(データシート!KQ4=0,\"\",データシート!KQ4)","v":""},{"$f":"IF(データシート!KR4=0,\"\",データシート!KR4)","v":""},{"$f":"IF(データシート!KS4=\"○\",\"○\",IF(データシート!KS4=\"\",\"\"))","v":""},{"$f":"IF(データシート!KT4=0,\"\",データシート!KT4)","v":""},{"$f":"IF(データシート!KU4=0,\"\",データシート!KU4)","v":""},{"$f":"IF(データシート!KV4=0,\"\",データシート!KV4)","v":""},{"$f":"IF(データシート!KW4=0,\"\",データシート!KW4)","v":""},{"$f":"IF(データシート!KX4=0,\"\",データシート!KX4)","v":""},{"$f":"IF(データシート!KY4=0,\"\",データシート!KY4)","v":""},{"$f":"IF(データシート!KZ4=0,\"\",データシート!KZ4)","v":""},{"$f":"IF(データシート!LA4=\"○\",\"○\",IF(データシート!LA4=\"\",\"\"))","v":""},{"$f":"IF(データシート!LB4=0,\"\",データシート!LB4)","v":""},{"$f":"IF(データシート!LC4=0,\"\",データシート!LC4)","v":""},{"$f":"IF(データシート!LD4=0,\"\",データシート!LD4)","v":""},{"$f":"IF(データシート!LE4=0,\"\",データシート!LE4)","v":""},{"$f":"IF(データシート!LF4=0,\"\",データシート!LF4)","v":""},{"$f":"IF(データシート!LG4=0,\"\",データシート!LG4)","v":""},{"$f":"IF(データシート!LH4=0,\"\",データシート!LH4)","v":""},{"$f":"データシート!AH4","v":"00:00:00"},{"$f":"EDATE(KK4,19)","v":"1901-07-31"},{"$f":"IF(データシート!AF4=\"有\",\"有\",IF(データシート!AF4=\"無\",\"\"))","v":false},{"$f":"IF(データシート!AG4=\"有\",\"有\",IF(データシート!AG4=\"無\",\"\"))","v":false},{"$f":"データシート!AI4","v":0},{"$f":"データシート!AJ4","v":0},{"$f":"データシート!AK4","v":0},{"$f":"IF(データシート!AL4=0,\"\",データシート!AL4)","v":""},{"$f":"IF(データシート!AM4=0,\"\",データシート!AM4)","v":""},{"$f":"IF(データシート!AN4=0,\"\",データシート!AN4)","v":""},{"$f":"IF(データシート!AO4=0,\"\",データシート!AO4)","v":""},{"$f":"IF(データシート!AP4=0,\"\",データシート!AP4)","v":""},{"$f":"IF(データシート!AQ4=0,\"\",データシート!AQ4)","v":""},{"$f":"IF(データシート!AR4=0,\"\",データシート!AR4)","v":""},{"$f":"IF(データシート!AS4=0,\"\",データシート!AS4)","v":""},{"$f":"IF(データシート!AT4=0,\"\",データシート!AT4)","v":""},{"$f":"IF(データシート!AU4=0,\"\",データシート!AU4)","v":""},{"$f":"IF(データシート!AV4=0,\"\",データシート!AV4)","v":""},{"$f":"IF(データシート!AW4=0,\"\",データシート!AW4)","v":""},{"$f":"IF(データシート!AX4=0,\"\",データシート!AX4)","v":""},{"$f":"IF(データシート!AY4=0,\"\",データシート!AY4)","v":""},{"$f":"IF(データシート!AZ4=0,\"\",データシート!AZ4)","v":""},{"$f":"IF(データシート!BA4=0,\"\",データシート!BA4)","v":""},{"$f":"IF(データシート!BB4=0,\"\",データシート!BB4)","v":""},{"$f":"IF(データシート!BC4=0,\"\",データシート!BC4)","v":""},{"$f":"IF(データシート!BD4=0,\"\",データシート!BD4)","v":""},{"$f":"IF(データシート!BE4=0,\"\",データシート!BE4)","v":""}]

{"sheet":"業種","index":12,"n_rows":32,"n_cols":3,"rows_kept":32,"cut":false,"hidden":true,"merged":[]}
["no.","目次"]
[1,"土木一式工事業",{"$f":"LEFT(B2,1)","v":"土"}]
[2,"建築一式工事業","建"]
[3,"大工工事業","大"]
[4,"左官工事業","左"]
[5,"とび・土工工事業","と"]
[6,"石工事業","石"]
[7,"屋根工事業","屋"]
[8,"電気工事業","電"]
[9,"管工事業","管"]
[10,"タイル・レンガ工事業","タ"]
[11,"鋼構造物工事業","鋼"]
[12,"鉄筋工事業",{"$f":"MID(B13,2,1)","v":"筋"}]
[13,"舗装工事業",{"$f":"LEFT(B14,1)","v":"舗"}]
[14,"しゅんせつ工事業",{"$f":"LEFT(B15,2)","v":"しゅ"}]
[15,"板金工事業",{"$f":"LEFT(B16,1)","v":"板"}]
[16,"ガラス工事業","ガ"]
[17,"塗装工事業","塗"]
[18,"防水工事業","防"]
[19,"内装仕上工事業","内"]
[20,"機械器具設置工事業","機"]
[21,"熱絶縁工事業",{"$f":"MID(B22,2,1)","v":"絶"}]
[22,"電気通信工事業",{"$f":"MID(B23,3,1)","v":"通"}]
[23,"造園工事業",{"$f":"MID(B24,2,1)","v":"園"}]
[24,"さく井工事業",{"$f":"MID(B25,3,1)","v":"井"}]
[25,"建具工事業",{"$f":"MID(B26,2,1)","v":"具"}]
[26,"水道施設工事業",{"$f":"LEFT(B27,1)","v":"水"}]
[27,"消防施設工事業",{"$f":"LEFT(B28,1)","v":"消"}]
[28,"清掃施設工事業",{"$f":"LEFT(B29,1)","v":"清"}]
[29,"解体工事業",{"$f":"LEFT(B30,1)","v":"解"}]
[30,"とび・土工工事業","と(経)"]
[31,"その他","そ"]

{"sheet":"都道府県","index":13,"n_rows":47,"n_cols":3,"rows_kept":47,"cut":false,"hidden":true,"merged":[]}
[1,"北海道","ﾎｯｶｲﾄﾞｳ"]
[2,"青森県","ｱｵﾓﾘｹﾝ"]
[3,"岩手県","ｲﾜﾃｹﾝ"]
[4,"宮城県","ﾐﾔｷﾞｹﾝ"]
[5,"秋田県","ｱｷﾀｹﾝ"]
[6,"山形県","ﾔﾏｶﾞﾀｹﾝ"]
[7,"福島県","ﾌｸｼﾏｹﾝ"]
[8,"茨城県","ｲﾊﾞﾗｷｹﾝ"]
[9,"栃木県","ﾄﾁｷﾞｹﾝ"]
[10,"群馬県","ｸﾞﾝﾏｹﾝ"]
[11,"埼玉県","ｻｲﾀﾏｹﾝ"]
[12,"千葉県","ﾁﾊﾞｹﾝ"]
[13,"東京都","ﾄｳｷｮｳﾄ"]
[14,"神奈川県","ｶﾅｶﾞﾜｹﾝ"]
[15,"新潟県","ﾆｲｶﾞﾀｹﾝ"]
[16,"富山県","ﾄﾔﾏｹﾝ"]
[17,"石川県","ｲｼｶﾜｹﾝ"]
[18,"福井県","ﾌｸｲｹﾝ"]
[19,"山梨県","ﾔﾏﾅｼｹﾝ"]
[20,"長野県","ﾅｶﾞﾉｹﾝ"]
[21,"岐阜県","ｷﾞﾌｹﾝ"]
[22,"静岡県","ｼｽﾞｵｶｹﾝ"]
[23,"愛知県","ｱｲﾁｹﾝ"]
[24,"三重県","ﾐｴｹﾝ"]
[25,"滋賀県","ｼｶﾞｹﾝ"]
[26,"京都府","ｷｮｳﾄﾌ"]
[27,"大阪府","ｵｵｻｶﾌ"]
[28,"兵庫県","ﾋｮｳｺﾞｹﾝ"]
[29,"奈良県","ﾅﾗｹﾝ"]
[30,"和歌山県","ﾜｶﾔﾏｹﾝ"]
[31,"鳥取県","ﾄｯﾄﾘｹﾝ"]
[32,"島根県","ｼﾏﾈｹﾝ"]
[33,"岡山県","ｵｶﾔﾏｹﾝ"]
[34,"広島県","ﾋﾛｼﾏｹﾝ"]
[35,"山口県","ﾔﾏｸﾞﾁｹﾝ"]
[36,"徳島県","ﾄｸｼﾏｹﾝ"]
[37,"香川県","ｶｶﾞﾜｹﾝ"]
[38,"愛媛県","ｴﾋﾒｹﾝ"]
[39,"高知県","ｺｳﾁｹﾝ"]
[40,"福岡県","ﾌｸｵｶｹﾝ"]
[41,"佐賀県","ｻｶﾞｹﾝ"]
[42,"長崎県","ﾅｶﾞｻｷｹﾝ"]
[43,"熊本県","ｸﾏﾓﾄｹﾝ"]
[44,"大分県","ｵｵｲﾀｹﾝ"]
[45,"宮崎県","ﾐﾔｻﾞｷｹﾝ"]
[46,"鹿児島県","ｶｺﾞｼﾏｹﾝ"]
[47,"沖縄県","ｵｷﾅﾜｹﾝ"]