{"text_format":"1","workbook":"xlsx","n_sheets":13,"sheets":["入力シート１","印刷シート1","印刷シート２","入力・印刷シート1(事業概要)","入力・印刷シート2(希望業種)","入力・印刷シート3(営業所一覧表)","印刷シート３","誓約書","受理票","承認書","データシート","【組合使用】","都道府県"],"not_rendered":{"charts":0,"images":0,"macros":1,"external_links":0,"defined_names":7,"comments":2,"pivot_tables":0},"unopened":[],"bounds":{"document_bytes":16777216,"sheet_cells":100000,"rows_first":2000,"rows_last":500,"rows_between":2000,"halvings":0,"cell_chars":16384,"cell_head_chars":4096},"cells_cut":0,"cells_raw":0,"read":"whole","date_system":"1900"}

{"sheet":"入力シート１","index":0,"n_rows":81,"n_cols":8,"rows_kept":81,"cut":false,"hidden":false,"merged":[[6,0,22,0],[23,0,35,0],[36,0,47,0],[6,2,7,2],[38,2,39,2],[40,2,41,2],[24,2,25,2],[75,0,80,0],[48,0,74,0],[48,2,57,2],[65,2,74,2],[58,2,64,2],[26,2,28,2],[29,2,32,2],[36,2,37,2],[11,2,17,2],[1,7,2,14],[3,7,4,14],[8,2,10,2],[5,2,5,3]]}
["入力シート1",null,null,null,null,"全ての入力が終わったらこのボタンを押すことでデスクトップに保存されます→",null,{"$f":"IF(【組合使用】!A4=\"\",\"\",CONCATENATE(【組合使用】!A4,\"･\"))&\"物品役務・\"&E7&\"・\"&SUBSTITUTE(SUBSTITUTE(ASC(E19),\"-\",\"\"),\"ｰ\",\"\")","v":"物品役務・・"}]
[null,"色のシートのところにデータを入力してください。",null,null,null,null,null,"↑ 作成するパソコンがセキュリティ等の理由によりマクロを有効にできないときは、\n　　上の表示内容どおりにこのファイルの名前を変更してください。"]
["「入力方法」欄に「入力」とある欄については、直接入力をしてください。"]
["「選択」とある欄については、カーソルを持っていくと下向き矢印が出るので、それをクリックし選択してください。",null,null,null,null,null,null,"↓　下のボタンは、仙南地域広域行政事務組合が使用しますので押さないでください。"]
[]
[null,"ｺｰﾄﾞ","記入項目",null,"データ入力欄","記入上の注意事項","入力\n方法"]
["本社（店）情報","2-1","商号","名称",null,"会社名を入力（例:株式会社□□□）","入力"]
[null,"2-2",null,"フリガナ",null,"半角ｶﾀｶﾅで入力","入力"]
[null,"2-3","代表者","役職名",null,"役職名を入力（例:代表取締役）","入力"]
[null,"2-4",null,"氏名",null,"氏名を入力","入力"]
[null,"2-5",null,"フリガナ",null,"半角ｶﾀｶﾅで入力","入力"]
[null,"2-6","所在地","郵便番号",null,"数字７桁で入力（ハイフンは自動）","入力"]
[null,"2-7",null,"都道府県",null,"都道府県名を入力","選択"]
[null,"2-8",null,"都道府県フリガナ",{"$f":"IF(E13=\"\",\"\",VLOOKUP(E13,都道府県!B:C,2,FALSE))","v":""},"自動入力"]
[null,"2-9",null,"市区・郡町村名",null,"市区町村名まで入力","入力"]
[null,"2-10",null,"市区・郡町村名フリガナ",null,"半角ｶﾀｶﾅで入力","入力"]
[null,"2-11",null,"所在地",null,"市区町村名以下を入力","入力"]
[null,"2-12",null,"所在地フリガナ",null,"半角ｶﾀｶﾅで入力","入力"]
[null,"2-13","電話番号(入札・契約関係担当部門)",null,null,"ハイフンつきで入力（例0224-52-1320）","入力"]
[null,"2-14","FAX番号(　　　　　同　　 上　　　　　)",null,null,"ハイフンつきで入力（例0224-52-2660）","入力"]
[null,"2-15","Eメールアドレス（　　　同　　上　　　）",null,null,"半角英数字で入力","入力"]
[null,"2-16","設立・創業年月日",null,null,"西暦で入力（和暦に自動変換）","入力"]
[null,"2-17","創業年数",null,null,"数字で入力","入力"]
["受任者情報","3-1","受任者の有無",null,null,"有の場合のみ、「１」を入力","選択"]
[null,"3-1","商号","名称",null,"会社名と支店名などを入力\n（例:株式会社□□□　大河原支店）","入力"]
[null,"3-2",null,"フリガナ",null,"半角ｶﾀｶﾅで入力","入力"]
[null,"3-3","受任者名","役職名",null,"受任者の役職名を入力","入力"]
[null,"3-4",null,"氏名",null,"氏名を入力","入力"]
[null,"3-5",null,"フリガナ",null,"半角ｶﾀｶﾅで入力","入力"]
[null,"3-6","所在地","郵便番号",null,"数字７桁で入力（ハイフンは自動）","入力"]
[null,"3-7",null,"都道府県",null,"都道府県名を選択","選択"]
[null,"3-8",null,"市区・郡村名",null,"市区町村名まで入力","入力"]
[null,"3-9",null,"所在地",null,"市区町村名以下を入力","入力"]
[null,"3-10","電話番号",null,null,"ハイフンつきで入力（例0224-52-1320）","入力"]
[null,"3-11","FAX番号",null,null,"ハイフンつきで入力（例0224-52-2660）","入力"]
[null,"3-12","Eメールアドレス",null,null,"半角英数字で入力","入力"]
["経営状況","4-1","資本金","前々年度分",null,"数字で入力。単位：千円","入力"]
[null,"4-2",null,"前年度分",null,"数字で入力。単位：千円","入力"]
[null,"4-3","資本の合計","前々年度分",null,"数字で入力。単位：千円","入力"]
[null,"4-4",null,"前年度分",null,"数字で入力。単位：千円","入力"]
[null,"4-5","年間売上高","前々年度分",null,"数字で入力。単位：千円","入力"]
[null,"4-6",null,"前年度分",null,"数字で入力。単位：千円","入力"]
[null,"4-7","流動資産",null,null,"直近の決算時の数値。単位：千円","入力"]
[null,"4-8","流動負債",null,null,"直近の決算時の数値。単位：千円","入力"]
[null,"4-9","営業年数",null,null,"数字で入力","入力"]
[null,"4-10","技術系職員数",null,null,"数字で入力","入力"]
[null,"4-11","事務系職員数",null,null,"数字で入力","入力"]
[null,null,"4-のうち県内の支店等の従業員",null,null,"数字で入力","入力"]
["登録状況","4-14","許認可の有無","建築物清掃業",null,"有無を選択","選択"]
[null,"4-15",null,"建築物空気環境測定業",null,"有無を選択","選択"]
[null,"4-16",null,"建築物空気調和用ダクト清掃業",null,"有無を選択","選択"]
[null,"4-17",null,"建築物飲料水水質検査業",null,"有無を選択","選択"]
[null,"4-18",null,"建築物飲料水貯水槽清掃業",null,"有無を選択","選択"]
[null,"4-19",null,"建築物配水管清掃業",null,"有無を選択","選択"]
[null,"4-20",null,"建築物ねずみ昆虫防除業",null,"有無を選択","選択"]
[null,"4-21",null,"建築物環境衛生一般管理業",null,"有無を選択","選択"]
[null,"4-22",null,"建築物環境衛生総合管理業",null,"有無を選択","選択"]
[null,"4-23",null,"警備業法に基づく登録",null,"有無を選択","選択"]
[null,null,"計量証明事業の有無","濃度",null,"有無を選択","選択"]
[null,null,null,"特定濃度",null,"有無を選択","選択"]
[null,null,null,"音圧",null,"有無を選択","選択"]
[null,null,null,"振動加速度",null,"有無を選択","選択"]
[null,null,null,"騒音",null,"有無を選択","選択"]
[null,null,null,"質量",null,"有無を選択","選択"]
[null,null,null,"MLAP",null,"有無を選択","選択"]
[null,"4-24","有資格者数","ビル管理士",null,"数字で入力。単位：人","入力"]
[null,"4-25",null,"ボイラー技士",null,"数字で入力。単位：人","入力"]
[null,"4-26",null,"危険物取扱主任",null,"数字で入力。単位：人","入力"]
[null,"4-27",null,"電気主任技術者等",null,"数字で入力。単位：人","入力"]
[null,"4-28",null,"ボイラー整備士",null,"数字で入力。単位：人","入力"]
[null,"4-29",null,"消防整備士",null,"数字で入力。単位：人","入力"]
[null,"4-30",null,"電気工事士",null,"数字で入力。単位：人","入力"]
[null,"4-31",null,"冷凍機械責任者",null,"数字で入力。単位：人","入力"]
[null,"4-32",null,"ビルクリーニング技能士",null,"数字で入力。単位：人","入力"]
[null,"4-33",null,"清掃員数",null,"数字で入力。単位：人","入力"]
["担当者","4-34","入札参加資格","申請担当部署、事務所名",null,"この申請に係る担当部署、事務所等の名称を入力","入力"]
[null,"4-35","承認申請関係","申請担当者氏名",null,"この申請に係る担当者氏名を入力","入力"]
[null,"4-36","連絡先","ﾌﾘｶﾞﾅ",null,"氏名のフリガナを半角ｶﾀｶﾅで入力","入力"]
[null,"4-37",null,"電話番号",null,"ハイフンつきで入力（例:0224-53-2111）","入力"]
[null,"4-38",null,"FAX番号",null,"ハイフンつきで入力（例:0224-53-2112）","入力"]
[null,"4-39",null,"Eメールアドレス",null,"半角英数字で入力","入力"]

{"sheet":"印刷シート1","index":1,"n_rows":99,"n_cols":31,"rows_kept":99,"cut":false,"hidden":false,"merged":[[39,22,62,30],[94,16,98,30],[36,22,38,30],[48,0,52,0],[48,1,52,2],[52,4,52,7],[52,15,52,18],[51,11,54,11],[51,12,54,13],[55,11,62,11],[55,12,62,13],[61,14,62,14],[61,15,62,18],[61,19,62,19],[61,20,62,20],[92,1,93,2],[92,0,93,0],[94,0,98,0],[94,1,98,2],[90,3,91,3],[97,3,98,3],[88,20,88,28],[89,20,89,28],[90,20,90,28],[69,1,75,2],[69,0,75,0],[74,3,75,3],[74,13,75,13],[74,14,75,14],[76,0,85,0],[76,1,85,2],[84,3,85,3],[84,13,85,13],[84,14,85,14],[86,1,91,2],[86,0,91,0],[90,13,91,13],[91,4,91,12],[92,4,92,12],[93,4,93,12],[94,4,94,12],[95,4,95,12],[96,4,96,12],[87,4,87,12],[88,4,88,12],[89,4,89,12],[90,4,90,12],[97,4,97,12],[90,14,91,14],[97,13,98,13],[97,14,98,14],[81,16,90,16],[81,17,90,18],[74,20,74,28],[75,20,75,28],[76,20,76,28],[77,20,77,28],[78,20,78,28],[67,16,80,16],[67,17,80,18],[79,19,80,19],[98,4,98,12],[80,4,80,12],[70,4,70,12],[72,4,72,12],[74,4,74,12],[78,4,78,12],[77,4,77,12],[75,4,75,12],[92,16,92,30],[79,29,80,29],[79,30,80,30],[66,29,66,30],[67,20,67,28],[68,20,68,28],[69,20,69,28],[70,20,70,28],[71,20,71,28],[72,20,72,28],[86,4,86,12],[66,17,66,18],[66,20,66,28],[73,20,73,28],[79,20,79,28],[80,20,80,28],[81,20,81,28],[82,20,82,28],[83,20,83,28],[84,20,84,28],[85,20,85,28],[86,20,86,28],[87,20,87,28],[84,4,84,12],[85,4,85,12],[81,4,81,12],[82,4,82,12],[76,4,76,12],[79,4,79,12],[4,0,4,2],[4,3,4,13],[5,0,6,2],[5,3,6,4],[5,5,6,7],[5,8,5,9],[5,10,5,13],[7,0,8,2],[7,4,7,6],[11,0,11,2],[11,3,11,13],[23,11,23,15],[27,0,27,6],[27,7,27,9],[27,11,27,15],[32,0,33,4],[4,17,4,19],[4,20,4,30],[5,17,6,19],[5,20,6,21],[5,22,6,24],[5,25,5,26],[5,27,5,30],[6,8,6,9],[6,10,6,13],[6,25,6,26],[6,27,6,30],[7,17,8,19],[7,21,7,23],[8,3,8,13],[8,20,8,30],[9,0,9,2],[9,3,9,13],[67,1,68,2],[67,4,67,12],[73,4,73,12],[9,17,9,19],[9,20,9,30],[10,0,10,2],[10,3,10,13],[10,17,10,19],[10,20,10,30],[11,17,11,19],[11,20,11,30],[17,5,17,8],[17,9,17,12],[17,13,17,17],[15,27,15,30],[16,0,16,4],[16,5,16,8],[16,9,16,12],[93,16,93,30],[68,4,68,12],[69,4,69,12],[71,4,71,12],[83,4,83,12],[14,0,14,12],[14,13,14,21],[14,22,14,30],[17,27,17,30],[18,0,18,4],[18,5,18,8],[18,9,18,12],[18,13,18,17],[18,18,18,20],[17,18,17,20],[17,22,17,26],[15,9,15,12],[15,13,15,17],[15,18,15,20],[15,22,15,26],[29,0,29,6],[20,0,20,9],[20,11,20,19],[17,0,17,4],[0,0,0,12],[0,13,0,14],[0,22,0,25],[0,26,0,30],[2,0,2,13],[2,17,2,30],[3,0,3,2],[3,3,3,13],[3,17,3,19],[3,20,3,30],[16,13,16,17],[16,18,16,20],[16,22,16,26],[16,27,16,30],[15,0,15,4],[15,5,15,8],[21,0,21,6],[21,7,21,9],[25,0,25,6],[25,7,25,9],[25,11,25,15],[25,16,25,18],[22,0,22,6],[22,7,22,9],[22,11,22,15],[22,16,22,18],[24,0,24,6],[24,7,24,9],[24,11,24,15],[24,16,24,18],[23,16,23,18],[23,0,23,6],[23,7,23,9],[21,11,21,15],[21,16,21,18],[26,11,26,15],[26,16,26,18],[27,16,27,18],[28,0,28,6],[28,7,28,9],[28,11,28,15],[28,16,28,18],[30,0,30,6],[30,7,30,9],[30,11,30,15],[30,16,30,18],[29,7,29,9],[29,11,29,15],[29,16,29,18],[26,0,26,6],[26,7,26,9],[32,5,32,7],[32,8,32,11],[32,12,32,14],[32,15,32,18],[33,5,33,7],[32,25,32,27],[36,15,36,18],[36,19,36,20],[32,28,32,30],[33,8,33,21],[34,0,34,12],[34,13,34,14],[36,1,36,2],[36,4,36,7],[36,12,36,13],[32,19,32,21],[32,22,32,24],[37,11,38,11],[37,12,38,13],[37,15,37,18],[38,4,38,7],[38,15,38,18],[36,8,36,9],[39,11,43,11],[40,15,40,18],[41,15,41,18],[42,15,42,18],[39,12,43,13],[39,15,39,18],[37,0,39,0],[53,1,55,2],[53,4,53,7],[50,4,50,7],[47,4,47,7],[37,1,39,2],[37,4,37,7],[45,0,47,0],[45,1,47,2],[45,4,45,7],[39,4,39,7],[40,0,44,0],[40,1,44,2],[40,4,40,7],[41,4,41,7],[42,4,42,7],[43,4,43,7],[67,0,68,0],[44,15,44,18],[51,4,51,7],[46,4,46,7],[46,15,46,18],[53,15,53,18],[57,15,57,18],[54,15,54,18],[55,4,55,7],[48,4,48,7],[48,15,48,18],[49,4,49,7],[49,15,49,18],[55,15,55,18],[47,15,47,18],[45,15,45,18],[51,15,51,18],[60,15,60,18],[64,0,64,12],[64,13,64,14],[66,1,66,2],[66,4,66,12],[66,13,66,14],[59,1,62,2],[63,17,63,21],[50,15,50,18],[59,0,62,0],[62,4,62,7],[43,15,43,18],[44,4,44,7],[58,4,58,7],[59,4,59,7],[60,4,60,7],[56,0,58,0],[44,11,50,11],[44,12,50,13],[54,4,54,7],[56,1,58,2],[56,4,56,7],[56,15,56,18],[57,4,57,7],[58,15,58,18],[59,15,59,18],[53,0,55,0],[61,4,61,7]]}
["申請者カード（物品・役務提供用）",null,null,null,null,null,null,null,null,null,null,null,null,"1/3枚目",null,null,null,null,null,null,null,null,"受付番号"]
[]
["申請者（本店等）",null,null,null,null,null,null,null,null,null,null,null,null,null,null,null,null,"代理人（受任者）"]
["フリガナ",null,null,{"$f":"入力シート１!E8","v":0},null,null,null,null,null,null,null,null,null,null,null,null,null,"フリガナ",null,null,{"$f":"入力シート１!E26","v":0}]
["商号又は名称",null,null,{"$f":"入力シート１!E7","v":0},null,null,null,null,null,null,null,null,null,null,null,null,null,"商号又は名称",null,null,{"$f":"入力シート１!E25","v":0}]
["代表者",null,null,"役職名",null,{"$f":"入力シート１!E9","v":0},null,null,"フリガナ",null,{"$f":"入力シート１!E11","v":0},null,null,null,null,null,null,"代表者",null,null,"役職名",null,{"$f":"入力シート１!E27","v":0},null,null,"フリガナ",null,{"$f":"入力シート１!E29","v":0}]
[null,null,null,null,null,null,null,null,"氏名",null,{"$f":"入力シート１!E10","v":0},null,null,null,null,null,null,null,null,null,null,null,null,null,null,"氏名",null,{"$f":"入力シート１!E28","v":0}]
["所在地",null,null,"〒",{"$f":"入力シート１!E12","v":0},null,null,null,null,null,null,null,null,null,null,null,null,"所在地",null,null,"〒",{"$f":"入力シート１!E30","v":0}]
[null,null,null,{"$f":"CONCATENATE(入力シート１!E13,入力シート１!E15,入力シート１!E17)","v":""},null,null,null,null,null,null,null,null,null,null,null,null,null,null,null,null,{"$f":"CONCATENATE(入力シート１!E31,入力シート１!E32,入力シート１!E33)","v":""}]
["電話番号",null,null,{"$f":"入力シート１!E19","v":0},null,null,null,null,null,null,null,null,null,null,null,null,null,"電話番号",null,null,{"$f":"入力シート１!E34","v":0}]
["FAX番号",null,null,{"$f":"入力シート１!E20","v":0},null,null,null,null,null,null,null,null,null,null,null,null,null,"FAX番号",null,null,{"$f":"入力シート１!E35","v":0}]
["Eメール",null,null,{"$f":"入力シート１!E21","v":0},null,null,null,null,null,null,null,null,null,null,null,null,null,"Eメール",null,null,{"$f":"入力シート１!E36","v":0}]
[]
[]
["資本金",null,null,null,null,null,null,null,null,null,null,null,null,"営業形態",null,null,null,null,null,null,null,null,"流動比率（直前決算分）"]
["区分",null,null,null,null,"前々年度",null,null,null,"前年度",null,null,null,"営業年数",null,null,null,null,{"$f":"入力シート１!E45","v":0},null,null,"年","流動資産（千円）",null,null,null,null,{"$f":"入力シート１!E43","v":0}]
["資本金（千円）",null,null,null,null,{"$f":"入力シート１!E37","v":0},null,null,null,{"$f":"入力シート１!E38","v":0},null,null,null,"技術系職員数",null,null,null,null,{"$f":"入力シート１!E46","v":0},null,null,"人","流動負債（千円）",null,null,null,null,{"$f":"入力シート１!E44","v":0}]
["自己資本額（千円）",null,null,null,null,{"$f":"入力シート１!E39","v":0},null,null,null,{"$f":"入力シート１!E40","v":0},null,null,null,"事務系職員数",null,null,null,null,{"$f":"入力シート１!E47","v":0},null,null,"人","流動比率（%）",null,null,null,null,{"$f":"AB16/AB17","v":{"$error":"#DIV/0!"}}]
["年間売上高（千円）",null,null,null,null,{"$f":"入力シート１!E41","v":0},null,null,null,{"$f":"入力シート１!E42","v":0},null,null,null,"合計",null,null,null,null,{"$f":"S17+S18","v":0},null,null,"人"]
[]
["許認可等の有無",null,null,null,null,null,null,null,null,null,null,"有資格者の状況"]
["建築物清掃業",null,null,null,null,null,null,{"$f":"入力シート１!E49","v":0},null,null,null,"ビル管理士",null,null,null,null,{"$f":"入力シート１!E66","v":0},null,null,"人"]
["建築物空気環境測定業",null,null,null,null,null,null,{"$f":"入力シート１!E50","v":0},null,null,null,"ボイラー技士",null,null,null,null,{"$f":"入力シート１!E67","v":0},null,null,"人"]
["建築物空気調和用ﾀﾞｸﾄ清掃業",null,null,null,null,null,null,{"$f":"入力シート１!E51","v":0},null,null,null,"危険物取扱主任",null,null,null,null,{"$f":"入力シート１!E68","v":0},null,null,"人"]
["建築物飲料水水質検査業",null,null,null,null,null,null,{"$f":"入力シート１!E52","v":0},null,null,null,"電気主任技術者",null,null,null,null,{"$f":"入力シート１!E69","v":0},null,null,"人"]
["建築物飲料水貯水槽清掃業",null,null,null,null,null,null,{"$f":"入力シート１!E53","v":0},null,null,null,"ボイラー整備士",null,null,null,null,{"$f":"入力シート１!E70","v":0},null,null,"人"]
["建築物配水管清掃業",null,null,null,null,null,null,{"$f":"入力シート１!E54","v":0},null,null,null,"消防設備士",null,null,null,null,{"$f":"入力シート１!E71","v":0},null,null,"人"]
["建築物ねずみ昆虫等防除業",null,null,null,null,null,null,{"$f":"入力シート１!E55","v":0},null,null,null,"電気工事士",null,null,null,null,{"$f":"入力シート１!E72","v":0},null,null,"人"]
["建築物環境衛生一般管理業",null,null,null,null,null,null,{"$f":"入力シート１!E56","v":0},null,null,null,"冷凍機械責任者",null,null,null,null,{"$f":"入力シート１!E73","v":0},null,null,"人"]
["建築物環境衛生総合管理業",null,null,null,null,null,null,{"$f":"入力シート１!E57","v":0},null,null,null,"ﾋﾞﾙｸﾘｰﾆﾝｸﾞ技能士",null,null,null,null,{"$f":"入力シート１!E74","v":0},null,null,"人"]
["警備法に基づく登録",null,null,null,null,null,null,{"$f":"入力シート１!E58","v":0},null,null,null,"清掃員数",null,null,null,null,{"$f":"入力シート１!E75","v":0},null,null,"人"]
[]
["競争入札参加資格\n申請に関する連絡先",null,null,null,null,"部署名",null,null,{"$f":"入力シート１!E76","v":0},null,null,null,"担当者氏名",null,null,{"$f":"入力シート１!E77","v":0},null,null,null,"電話番号",null,null,{"$f":"入力シート１!E79","v":0},null,null,"FAX番号",null,null,{"$f":"入力シート１!E80","v":0}]
[null,null,null,null,null,"Eメール",null,null,{"$f":"入力シート１!E81","v":0}]
["申請者カード（物品・役務提供用）",null,null,null,null,null,null,null,null,null,null,null,null,"2/3枚目"]
[]
["分類","大分類",null,"ｺｰﾄﾞ","小分類",null,null,null,"希望",null,null,"分類","大分類",null,"ｺｰﾄﾞ","小分類",null,null,null,"希望",null,null,"備考（左記分類に属さない場合は具体的に記入して下さい。（営業用品目））"]
[31,"文具・事務用機器類",null,"01","文具・事務機器",null,null,null,{"$f":"IF('入力・印刷シート2(希望業種)'!I6=1,\"○\",\"\")","v":""},{"$f":"'入力・印刷シート2(希望業種)'!J6","v":0},null,38,"燃料類",null,"01","石油製品",null,null,null,{"$f":"IF('入力・印刷シート2(希望業種)'!I32=1,\"○\",\"\")","v":""},{"$f":"'入力・印刷シート2(希望業種)'!J32","v":0}]
[null,null,null,"02","紙・紙製品",null,null,null,{"$f":"IF('入力・印刷シート2(希望業種)'!I7=1,\"○\",\"\")","v":""},{"$f":"'入力・印刷シート2(希望業種)'!J7","v":0},null,null,null,null,"02","高圧ガス",null,null,null,{"$f":"IF('入力・印刷シート2(希望業種)'!I33=1,\"○\",\"\")","v":""},{"$f":"'入力・印刷シート2(希望業種)'!J33","v":0}]
[null,null,null,"03","印章",null,null,null,{"$f":"IF('入力・印刷シート2(希望業種)'!I8=1,\"○\",\"\")","v":""},{"$f":"'入力・印刷シート2(希望業種)'!J8","v":0},null,39,"車両船舶類",null,"01","車両（一般）",null,null,null,{"$f":"IF('入力・印刷シート2(希望業種)'!I34=1,\"○\",\"\")","v":""},{"$f":"'入力・印刷シート2(希望業種)'!J34","v":0},null,{"$f":"'入力・印刷シート2(希望業種)'!E57","v":0}]
[32,"印刷物類",null,"01","活版・オフセット印刷",null,null,null,{"$f":"IF('入力・印刷シート2(希望業種)'!I9=1,\"○\",\"\")","v":""},{"$f":"'入力・印刷シート2(希望業種)'!J9","v":0},null,null,null,null,"02","車両(特殊車両）",null,null,null,{"$f":"IF('入力・印刷シート2(希望業種)'!I35=1,\"○\",\"\")","v":""},{"$f":"'入力・印刷シート2(希望業種)'!J35","v":0}]
[null,null,null,"02","軽印刷",null,null,null,{"$f":"IF('入力・印刷シート2(希望業種)'!I10=1,\"○\",\"\")","v":""},{"$f":"'入力・印刷シート2(希望業種)'!J10","v":0},null,null,null,null,"03","軽車両",null,null,null,{"$f":"IF('入力・印刷シート2(希望業種)'!I36=1,\"○\",\"\")","v":""},{"$f":"'入力・印刷シート2(希望業種)'!J36","v":0}]
[null,null,null,"03","地図",null,null,null,{"$f":"IF('入力・印刷シート2(希望業種)'!I11=1,\"○\",\"\")","v":""},{"$f":"'入力・印刷シート2(希望業種)'!J11","v":0},null,null,null,null,"04","船舶",null,null,null,{"$f":"IF('入力・印刷シート2(希望業種)'!I37=1,\"○\",\"\")","v":""},{"$f":"'入力・印刷シート2(希望業種)'!J37","v":0}]
[null,null,null,"04","青写真",null,null,null,{"$f":"IF('入力・印刷シート2(希望業種)'!I12=1,\"○\",\"\")","v":""},{"$f":"'入力・印刷シート2(希望業種)'!J12","v":0},null,null,null,null,"05","用品",null,null,null,{"$f":"IF('入力・印刷シート2(希望業種)'!I38=1,\"○\",\"\")","v":""},{"$f":"'入力・印刷シート2(希望業種)'!J38","v":0}]
[null,null,null,"05","製本",null,null,null,{"$f":"IF('入力・印刷シート2(希望業種)'!I13=1,\"○\",\"\")","v":""},{"$f":"'入力・印刷シート2(希望業種)'!J13","v":0},null,40,"建設資材・機器類",null,"01","骨材",null,null,null,{"$f":"IF('入力・印刷シート2(希望業種)'!I39=1,\"○\",\"\")","v":""},{"$f":"'入力・印刷シート2(希望業種)'!J39","v":0}]
[33,"什器類",null,"01","家具調度",null,null,null,{"$f":"IF('入力・印刷シート2(希望業種)'!I14=1,\"○\",\"\")","v":""},{"$f":"'入力・印刷シート2(希望業種)'!J14","v":0},null,null,null,null,"02","木材",null,null,null,{"$f":"IF('入力・印刷シート2(希望業種)'!I40=1,\"○\",\"\")","v":""},{"$f":"'入力・印刷シート2(希望業種)'!J40","v":0}]
[null,null,null,"02","ミシン・編機",null,null,null,{"$f":"IF('入力・印刷シート2(希望業種)'!I15=1,\"○\",\"\")","v":""},{"$f":"'入力・印刷シート2(希望業種)'!J15","v":0},null,null,null,null,"03","電気工事材料",null,null,null,{"$f":"IF('入力・印刷シート2(希望業種)'!I41=1,\"○\",\"\")","v":""},{"$f":"'入力・印刷シート2(希望業種)'!J41","v":0}]
[null,null,null,"03","厨房器具",null,null,null,{"$f":"IF('入力・印刷シート2(希望業種)'!I16=1,\"○\",\"\")","v":""},{"$f":"'入力・印刷シート2(希望業種)'!J16","v":0},null,null,null,null,"04","給排水設備材料",null,null,null,{"$f":"IF('入力・印刷シート2(希望業種)'!I42=1,\"○\",\"\")","v":""},{"$f":"'入力・印刷シート2(希望業種)'!J42","v":0}]
[34,"電気器具類",null,"01","ＯＡ機器",null,null,null,{"$f":"IF('入力・印刷シート2(希望業種)'!I17=1,\"○\",\"\")","v":""},{"$f":"'入力・印刷シート2(希望業種)'!J17","v":0},null,null,null,null,"05","標識・看板・塗料",null,null,null,{"$f":"IF('入力・印刷シート2(希望業種)'!I43=1,\"○\",\"\")","v":""},{"$f":"'入力・印刷シート2(希望業種)'!J43","v":0}]
[null,null,null,"02","電気器具",null,null,null,{"$f":"IF('入力・印刷シート2(希望業種)'!I18=1,\"○\",\"\")","v":""},{"$f":"'入力・印刷シート2(希望業種)'!J18","v":0},null,null,null,null,"06","消防・保安用品",null,null,null,{"$f":"IF('入力・印刷シート2(希望業種)'!I44=1,\"○\",\"\")","v":""},{"$f":"'入力・印刷シート2(希望業種)'!J44","v":0}]
[null,null,null,"03","通信器具",null,null,null,{"$f":"IF('入力・印刷シート2(希望業種)'!I19=1,\"○\",\"\")","v":""},{"$f":"'入力・印刷シート2(希望業種)'!J19","v":0},null,null,null,null,"07","建具",null,null,null,{"$f":"IF('入力・印刷シート2(希望業種)'!I45=1,\"○\",\"\")","v":""},{"$f":"'入力・印刷シート2(希望業種)'!J45","v":0}]
[null,null,null,"04","電気設備",null,null,null,{"$f":"IF('入力・印刷シート2(希望業種)'!I20=1,\"○\",\"\")","v":""},{"$f":"'入力・印刷シート2(希望業種)'!J20","v":0},null,41,"百貨・日用品類",null,"01","百貨",null,null,null,{"$f":"IF('入力・印刷シート2(希望業種)'!I46=1,\"○\",\"\")","v":""},{"$f":"'入力・印刷シート2(希望業種)'!J46","v":0}]
[null,null,null,"05","舞台設備",null,null,null,{"$f":"IF('入力・印刷シート2(希望業種)'!I21=1,\"○\",\"\")","v":""},{"$f":"'入力・印刷シート2(希望業種)'!J21","v":0},null,null,null,null,"02","繊維製品",null,null,null,{"$f":"IF('入力・印刷シート2(希望業種)'!I47=1,\"○\",\"\")","v":""},{"$f":"'入力・印刷シート2(希望業種)'!J47","v":0}]
[35,"機械器具類",null,"01","建設器具",null,null,null,{"$f":"IF('入力・印刷シート2(希望業種)'!I22=1,\"○\",\"\")","v":""},{"$f":"'入力・印刷シート2(希望業種)'!J22","v":0},null,null,null,null,"03","皮製品",null,null,null,{"$f":"IF('入力・印刷シート2(希望業種)'!I48=1,\"○\",\"\")","v":""},{"$f":"'入力・印刷シート2(希望業種)'!J48","v":0}]
[null,null,null,"02","工作機器",null,null,null,{"$f":"IF('入力・印刷シート2(希望業種)'!I23=1,\"○\",\"\")","v":""},{"$f":"'入力・印刷シート2(希望業種)'!J23","v":0},null,null,null,null,"04","食料品・雑貨",null,null,null,{"$f":"IF('入力・印刷シート2(希望業種)'!I49=1,\"○\",\"\")","v":""},{"$f":"'入力・印刷シート2(希望業種)'!J49","v":0}]
[null,null,null,"03","農業用機器",null,null,null,{"$f":"IF('入力・印刷シート2(希望業種)'!I24=1,\"○\",\"\")","v":""},{"$f":"'入力・印刷シート2(希望業種)'!J24","v":0},null,42,"その他の物品",null,"01","時計・貴金属",null,null,null,{"$f":"IF('入力・印刷シート2(希望業種)'!I50=1,\"○\",\"\")","v":""},{"$f":"'入力・印刷シート2(希望業種)'!J50","v":0}]
[36,"精密機械類",null,"01","光学機器",null,null,null,{"$f":"IF('入力・印刷シート2(希望業種)'!I25=1,\"○\",\"\")","v":""},{"$f":"'入力・印刷シート2(希望業種)'!J25","v":0},null,null,null,null,"02","音楽・運動用品",null,null,null,{"$f":"IF('入力・印刷シート2(希望業種)'!I51=1,\"○\",\"\")","v":""},{"$f":"'入力・印刷シート2(希望業種)'!J51","v":0}]
[null,null,null,"02","理化学機器",null,null,null,{"$f":"IF('入力・印刷シート2(希望業種)'!I26=1,\"○\",\"\")","v":""},{"$f":"'入力・印刷シート2(希望業種)'!J26","v":0},null,null,null,null,"03","図書",null,null,null,{"$f":"IF('入力・印刷シート2(希望業種)'!I52=1,\"○\",\"\")","v":""},{"$f":"'入力・印刷シート2(希望業種)'!J52","v":0}]
[null,null,null,"03","計測機器",null,null,null,{"$f":"IF('入力・印刷シート2(希望業種)'!I27=1,\"○\",\"\")","v":""},{"$f":"'入力・印刷シート2(希望業種)'!J27","v":0},null,null,null,null,"04","動物・植物",null,null,null,{"$f":"IF('入力・印刷シート2(希望業種)'!I53=1,\"○\",\"\")","v":""},{"$f":"'入力・印刷シート2(希望業種)'!J53","v":0}]
[37,"医療・薬品類",null,"01","医療機器",null,null,null,{"$f":"IF('入力・印刷シート2(希望業種)'!I28=1,\"○\",\"\")","v":""},{"$f":"'入力・印刷シート2(希望業種)'!J28","v":0},null,null,null,null,"05","消防用被服",null,null,null,{"$f":"IF('入力・印刷シート2(希望業種)'!I54=1,\"○\",\"\")","v":""},{"$f":"'入力・印刷シート2(希望業種)'!J54","v":0}]
[null,null,null,"02","救急用資機材",null,null,null,{"$f":"IF('入力・印刷シート2(希望業種)'!I29=1,\"○\",\"\")","v":""},{"$f":"'入力・印刷シート2(希望業種)'!J29","v":0},null,null,null,null,"06","無人航空機",null,null,null,{"$f":"IF('入力・印刷シート2(希望業種)'!I55=1,\"○\",\"\")","v":""},{"$f":"'入力・印刷シート2(希望業種)'!J55","v":0}]
[null,null,null,"03","車両用救急資機材",null,null,null,{"$f":"IF('入力・印刷シート2(希望業種)'!I30=1,\"○\",\"\")","v":""},{"$f":"'入力・印刷シート2(希望業種)'!J30","v":0},null,null,null,null,"07","その他(備考欄記載）",null,null,null,{"$f":"IF('入力・印刷シート2(希望業種)'!I56=1,\"○\",\"\")","v":""},{"$f":"'入力・印刷シート2(希望業種)'!J56","v":0}]
[null,null,null,"04","医・工業薬品",null,null,null,{"$f":"IF('入力・印刷シート2(希望業種)'!I31=1,\"○\",\"\")","v":""},{"$f":"'入力・印刷シート2(希望業種)'!J31","v":0}]
[]
["申請者カード（物品・役務提供用）",null,null,null,null,null,null,null,null,null,null,null,null,"3/3枚目"]
[]
["分類","大分類",null,"ｺｰﾄﾞ","小分類",null,null,null,null,null,null,null,null,"希望",null,null,"分類","大分類",null,"ｺｰﾄﾞ","小分類",null,null,null,null,null,null,null,null,"希望"]
[51,"資源回収",null,"01","古物",null,null,null,null,null,null,null,null,{"$f":"IF('入力・印刷シート2(希望業種)'!I61=1,\"○\",\"\")","v":""},{"$f":"'入力・印刷シート2(希望業種)'!J61","v":0},null,57,"情報処理・システム関連",null,"01","広告代理",null,null,null,null,null,null,null,null,{"$f":"IF('入力・印刷シート2(希望業種)'!I93=1,\"○\",\"\")","v":""},{"$f":"'入力・印刷シート2(希望業種)'!J93","v":0}]
[null,null,null,"02","廃棄物処分業",null,null,null,null,null,null,null,null,{"$f":"IF('入力・印刷シート2(希望業種)'!I62=1,\"○\",\"\")","v":""},{"$f":"'入力・印刷シート2(希望業種)'!J62","v":0},null,null,null,null,"02","給与電算",null,null,null,null,null,null,null,null,{"$f":"IF('入力・印刷シート2(希望業種)'!I94=1,\"○\",\"\")","v":""},{"$f":"'入力・印刷シート2(希望業種)'!J94","v":0}]
[52,"施設管理\n　(運転 ）",null,"01","火葬施設",null,null,null,null,null,null,null,null,{"$f":"IF('入力・印刷シート2(希望業種)'!I63=1,\"○\",\"\")","v":""},{"$f":"'入力・印刷シート2(希望業種)'!J63","v":0},null,null,null,null,"03","滞納整理",null,null,null,null,null,null,null,null,{"$f":"IF('入力・印刷シート2(希望業種)'!I95=1,\"○\",\"\")","v":""},{"$f":"'入力・印刷シート2(希望業種)'!J95","v":0}]
[null,null,null,"02","破砕・リサイクル施設",null,null,null,null,null,null,null,null,{"$f":"IF('入力・印刷シート2(希望業種)'!I64=1,\"○\",\"\")","v":""},{"$f":"'入力・印刷シート2(希望業種)'!J64","v":0},null,null,null,null,"04","介護認定",null,null,null,null,null,null,null,null,{"$f":"IF('入力・印刷シート2(希望業種)'!I96=1,\"○\",\"\")","v":""},{"$f":"'入力・印刷シート2(希望業種)'!J96","v":0}]
[null,null,null,"03","ごみ処理施設",null,null,null,null,null,null,null,null,{"$f":"IF('入力・印刷シート2(希望業種)'!I65=1,\"○\",\"\")","v":""},{"$f":"'入力・印刷シート2(希望業種)'!J65","v":0},null,null,null,null,"05","障害認定",null,null,null,null,null,null,null,null,{"$f":"IF('入力・印刷シート2(希望業種)'!I97=1,\"○\",\"\")","v":""},{"$f":"'入力・印刷シート2(希望業種)'!J97","v":0}]
[null,null,null,"04","し尿処理施設",null,null,null,null,null,null,null,null,{"$f":"IF('入力・印刷シート2(希望業種)'!I66=1,\"○\",\"\")","v":""},{"$f":"'入力・印刷シート2(希望業種)'!J66","v":0},null,null,null,null,"06","火葬予約",null,null,null,null,null,null,null,null,{"$f":"IF('入力・印刷シート2(希望業種)'!I98=1,\"○\",\"\")","v":""},{"$f":"'入力・印刷シート2(希望業種)'!J98","v":0}]
[null,null,null,"05","文化施設",null,null,null,null,null,null,null,null,{"$f":"IF('入力・印刷シート2(希望業種)'!I67=1,\"○\",\"\")","v":""},{"$f":"'入力・印刷シート2(希望業種)'!J67","v":0},null,null,null,null,"07","ごみ搬入予約",null,null,null,null,null,null,null,null,{"$f":"IF('入力・印刷シート2(希望業種)'!I99=1,\"○\",\"\")","v":""},{"$f":"'入力・印刷シート2(希望業種)'!J99","v":0}]
[null,null,null,"06","その他施設（詳細下記記載）",null,null,null,null,null,null,null,null,{"$f":"IF('入力・印刷シート2(希望業種)'!I68=1,\"○\",\"\")","v":""},{"$f":"'入力・印刷シート2(希望業種)'!J68","v":0},null,null,null,null,"08","有料指定袋受発注",null,null,null,null,null,null,null,null,{"$f":"IF('入力・印刷シート2(希望業種)'!I100=1,\"○\",\"\")","v":""},{"$f":"'入力・印刷シート2(希望業種)'!J100","v":0}]
[null,null,null,null,{"$f":"'入力・印刷シート2(希望業種)'!H69","v":0},null,null,null,null,null,null,null,null,null,null,null,null,null,null,"09","消防指令通信",null,null,null,null,null,null,null,null,{"$f":"IF('入力・印刷シート2(希望業種)'!I101=1,\"○\",\"\")","v":""},{"$f":"'入力・印刷シート2(希望業種)'!J101","v":0}]
[53,"施設管理\n （設備・保守管理 ）",null,"01","電気設備",null,null,null,null,null,null,null,null,{"$f":"IF('入力・印刷シート2(希望業種)'!I70=1,\"○\",\"\")","v":""},{"$f":"'入力・印刷シート2(希望業種)'!J70","v":0},null,null,null,null,"10","消防無線通信",null,null,null,null,null,null,null,null,{"$f":"IF('入力・印刷シート2(希望業種)'!I102=1,\"○\",\"\")","v":""},{"$f":"'入力・印刷シート2(希望業種)'!J102","v":0}]
[null,null,null,"02","空気調和設備",null,null,null,null,null,null,null,null,{"$f":"IF('入力・印刷シート2(希望業種)'!I71=1,\"○\",\"\")","v":""},{"$f":"'入力・印刷シート2(希望業種)'!J71","v":0},null,null,null,null,"11","Net119緊急通報",null,null,null,null,null,null,null,null,{"$f":"IF('入力・印刷シート2(希望業種)'!I103=1,\"○\",\"\")","v":""},{"$f":"'入力・印刷シート2(希望業種)'!J103","v":0}]
[null,null,null,"03","給排水設備",null,null,null,null,null,null,null,null,{"$f":"IF('入力・印刷シート2(希望業種)'!I72=1,\"○\",\"\")","v":""},{"$f":"'入力・印刷シート2(希望業種)'!J72","v":0},null,null,null,null,"12","集客管理",null,null,null,null,null,null,null,null,{"$f":"IF('入力・印刷シート2(希望業種)'!I104=1,\"○\",\"\")","v":""},{"$f":"'入力・印刷シート2(希望業種)'!J104","v":0}]
[null,null,null,"04","昇降機設備",null,null,null,null,null,null,null,null,{"$f":"IF('入力・印刷シート2(希望業種)'!I73=1,\"○\",\"\")","v":""},{"$f":"'入力・印刷シート2(希望業種)'!J73","v":0},null,null,null,null,"13","その他情報処理関連（詳細下記記載）",null,null,null,null,null,null,null,null,{"$f":"IF('入力・印刷シート2(希望業種)'!I105=1,\"○\",\"\")","v":""},{"$f":"'入力・印刷シート2(希望業種)'!J105","v":0}]
[null,null,null,"05","消防用設備",null,null,null,null,null,null,null,null,{"$f":"IF('入力・印刷シート2(希望業種)'!I74=1,\"○\",\"\")","v":""},{"$f":"'入力・印刷シート2(希望業種)'!J74","v":0},null,null,null,null,null,{"$f":"'入力・印刷シート2(希望業種)'!H106","v":0}]
[null,null,null,"06","舞台設備",null,null,null,null,null,null,null,null,{"$f":"IF('入力・印刷シート2(希望業種)'!I75=1,\"○\",\"\")","v":""},{"$f":"'入力・印刷シート2(希望業種)'!J75","v":0},null,58,"その他の役務",null,"01","クリーニング",null,null,null,null,null,null,null,null,{"$f":"IF('入力・印刷シート2(希望業種)'!I107=1,\"○\",\"\")","v":""},{"$f":"'入力・印刷シート2(希望業種)'!J107","v":0}]
[null,null,null,"07","自動ドア設備",null,null,null,null,null,null,null,null,{"$f":"IF('入力・印刷シート2(希望業種)'!I76=1,\"○\",\"\")","v":""},{"$f":"'入力・印刷シート2(希望業種)'!J76","v":0},null,null,null,null,"02","リース",null,null,null,null,null,null,null,null,{"$f":"IF('入力・印刷シート2(希望業種)'!I108=1,\"○\",\"\")","v":""},{"$f":"'入力・印刷シート2(希望業種)'!J108","v":0}]
[null,null,null,"08","クレーン設備",null,null,null,null,null,null,null,null,{"$f":"IF('入力・印刷シート2(希望業種)'!I77=1,\"○\",\"\")","v":""},{"$f":"'入力・印刷シート2(希望業種)'!J77","v":0},null,null,null,null,"03","運送",null,null,null,null,null,null,null,null,{"$f":"IF('入力・印刷シート2(希望業種)'!I109=1,\"○\",\"\")","v":""},{"$f":"'入力・印刷シート2(希望業種)'!J109","v":0}]
[null,null,null,"09","その他設備（詳細下記記載）",null,null,null,null,null,null,null,null,{"$f":"IF('入力・印刷シート2(希望業種)'!I78=1,\"○\",\"\")","v":""},{"$f":"'入力・印刷シート2(希望業種)'!J78","v":0},null,null,null,null,"04","害虫駆除",null,null,null,null,null,null,null,null,{"$f":"IF('入力・印刷シート2(希望業種)'!I110=1,\"○\",\"\")","v":""},{"$f":"'入力・印刷シート2(希望業種)'!J110","v":0}]
[null,null,null,null,{"$f":"'入力・印刷シート2(希望業種)'!H79","v":0},null,null,null,null,null,null,null,null,null,null,null,null,null,null,"05","有料指定袋",null,null,null,null,null,null,null,null,{"$f":"IF('入力・印刷シート2(希望業種)'!I111=1,\"○\",\"\")","v":""},{"$f":"'入力・印刷シート2(希望業種)'!J111","v":0}]
[54,"施設管理（清掃）",null,"01","庭園管理",null,null,null,null,null,null,null,null,{"$f":"IF('入力・印刷シート2(希望業種)'!I80=1,\"○\",\"\")","v":""},{"$f":"'入力・印刷シート2(希望業種)'!J80","v":0},null,null,null,null,"06","人材育成・研修",null,null,null,null,null,null,null,null,{"$f":"IF('入力・印刷シート2(希望業種)'!I112=1,\"○\",\"\")","v":""},{"$f":"'入力・印刷シート2(希望業種)'!J112","v":0}]
[null,null,null,"02","建物清掃",null,null,null,null,null,null,null,null,{"$f":"IF('入力・印刷シート2(希望業種)'!I81=1,\"○\",\"\")","v":""},{"$f":"'入力・印刷シート2(希望業種)'!J81","v":0},null,null,null,null,"07","演劇指導・支援",null,null,null,null,null,null,null,null,{"$f":"IF('入力・印刷シート2(希望業種)'!I113=1,\"○\",\"\")","v":""},{"$f":"'入力・印刷シート2(希望業種)'!J113","v":0}]
[null,null,null,"03","水槽清掃",null,null,null,null,null,null,null,null,{"$f":"IF('入力・印刷シート2(希望業種)'!I82=1,\"○\",\"\")","v":""},{"$f":"'入力・印刷シート2(希望業種)'!J82","v":0},null,null,null,null,"08","ピアノ調律",null,null,null,null,null,null,null,null,{"$f":"IF('入力・印刷シート2(希望業種)'!I114=1,\"○\",\"\")","v":""},{"$f":"'入力・印刷シート2(希望業種)'!J114","v":0}]
[null,null,null,"04","炉内清掃",null,null,null,null,null,null,null,null,{"$f":"IF('入力・印刷シート2(希望業種)'!I83=1,\"○\",\"\")","v":""},{"$f":"'入力・印刷シート2(希望業種)'!J83","v":0},null,null,null,null,"09","車両整備",null,null,null,null,null,null,null,null,{"$f":"IF('入力・印刷シート2(希望業種)'!I115=1,\"○\",\"\")","v":""},{"$f":"'入力・印刷シート2(希望業種)'!J115","v":0}]
[null,null,null,"05","その他清掃（詳細下記記載）",null,null,null,null,null,null,null,null,{"$f":"IF('入力・印刷シート2(希望業種)'!I84=1,\"○\",\"\")","v":""},{"$f":"'入力・印刷シート2(希望業種)'!J84","v":0},null,null,null,null,"10","その他（備考欄記載）",null,null,null,null,null,null,null,null,{"$f":"IF('入力・印刷シート2(希望業種)'!I116=1,\"○\",\"\")","v":""},{"$f":"'入力・印刷シート2(希望業種)'!J116","v":0}]
[null,null,null,null,{"$f":"'入力・印刷シート2(希望業種)'!H85","v":0}]
[55,"施設管理（警備）",null,"01","警備員",null,null,null,null,null,null,null,null,{"$f":"IF('入力・印刷シート2(希望業種)'!I86=1,\"○\",\"\")","v":""},{"$f":"'入力・印刷シート2(希望業種)'!J86","v":0},null,"備考　上記分類に属さない場合は具体的に記入してください。"]
[null,null,null,"02","セキュリティ",null,null,null,null,null,null,null,null,{"$f":"IF('入力・印刷シート2(希望業種)'!I87=1,\"○\",\"\")","v":""},{"$f":"'入力・印刷シート2(希望業種)'!J87","v":0},null,"役務の提供業務"]
[56,"分析測定",null,"01","環境測定",null,null,null,null,null,null,null,null,{"$f":"IF('入力・印刷シート2(希望業種)'!I88=1,\"○\",\"\")","v":""},{"$f":"'入力・印刷シート2(希望業種)'!J88","v":0},null,{"$f":"'入力・印刷シート2(希望業種)'!E117","v":0}]
[null,null,null,"02","ダイオキシン類測定",null,null,null,null,null,null,null,null,{"$f":"IF('入力・印刷シート2(希望業種)'!I89=1,\"○\",\"\")","v":""},{"$f":"'入力・印刷シート2(希望業種)'!J89","v":0}]
[null,null,null,"03","放射能測定",null,null,null,null,null,null,null,null,{"$f":"IF('入力・印刷シート2(希望業種)'!I90=1,\"○\",\"\")","v":""},{"$f":"'入力・印刷シート2(希望業種)'!J90","v":0}]
[null,null,null,"04","その他分析測定（詳細下記記載）",null,null,null,null,null,null,null,null,{"$f":"IF('入力・印刷シート2(希望業種)'!I91=1,\"○\",\"\")","v":""},{"$f":"'入力・印刷シート2(希望業種)'!J91","v":0}]
[null,null,null,null,{"$f":"'入力・印刷シート2(希望業種)'!H92","v":0}]

{"sheet":"印刷シート２","index":2,"n_rows":38,"n_cols":17,"rows_kept":38,"cut":false,"hidden":false,"merged":[[36,10,36,16],[37,10,37,16],[17,11,17,16],[29,11,29,16],[34,7,34,9],[36,7,36,9],[37,7,37,9],[35,10,35,16],[24,7,24,9],[29,7,29,9],[23,10,23,16],[31,7,31,9],[30,10,31,16],[32,10,33,16],[34,10,34,16],[30,7,30,9],[1,0,1,16],[17,5,17,6],[18,7,18,9],[17,7,17,9],[20,7,20,9],[3,0,5,16],[9,9,9,10],[13,0,13,6],[18,10,19,16],[32,7,32,9],[29,5,29,6],[25,7,25,9],[22,7,22,9],[20,10,21,16],[22,10,22,16],[24,10,24,16],[25,10,25,16]]}
["様式第１号（第３条関係）"]
["物品役務等入札参加資格承認申請書"]
[]
["　令和６年度において、貴組合で行われる　物品役務等に係る競争入札に参加したいので、その参加資格の審査を申請します。\n　なお、この申請書及び添付書類の内容については、事実と相違ないことを誓約します。"]
[]
[]
[]
[]
[]
[null,null,null,null,null,null,null,null,null,"令和",null,"　　　　　　　　　　　　","年",null,"月",null,"日"]
[]
[]
[]
["仙南地域広域行政事務組合理事長",null,null,null,null,null,null,"殿"]
[]
[]
[]
[null,null,null,null,null,"本　　店",null,"郵便番号",null,null,"〒",{"$f":"入力シート１!E12","v":0}]
[null,null,null,null,null,null,null,"住所又は所在地",null,null,{"$f":"CONCATENATE(入力シート１!E13,入力シート１!E15,入力シート１!E17)","v":""}]
[]
[null,null,null,null,null,null,null,"商号又は名称",null,null,{"$f":"入力シート１!E7","v":0}]
[]
[null,null,null,null,null,null,null,"代表者職氏名",null,null,{"$f":"CONCATENATE(入力シート１!E9,\"　\",入力シート１!E10)","v":"　"}]
[null,null,null,null,null,null,null,null,null,null,"　　　　　　　　　　　　　　　　　　　　　　  印"]
[null,null,null,null,null,null,null,"電話番号",null,null,{"$f":"入力シート１!E19","v":0}]
[null,null,null,null,null,null,null,"ﾌｧｸｼﾐﾘ番号",null,null,{"$f":"入力シート１!E20","v":0}]
[]
[]
[]
[null,null,null,null,null,"受任機関",null,"郵便番号",null,null,"〒",{"$f":"入力シート１!E30","v":0}]
[null,null,null,null,null,null,null,"住所又は所在地",null,null,{"$f":"CONCATENATE(入力シート１!E31,入力シート１!E32,入力シート１!E33)","v":""}]
[]
[null,null,null,null,null,null,null,"商号又は名称",null,null,{"$f":"入力シート１!E25","v":0}]
[]
[null,null,null,null,null,null,null,"代表者職氏名",null,null,{"$f":"CONCATENATE(入力シート１!E27,\"　\",入力シート１!E28)","v":"　"}]
[null,null,null,null,null,null,null,null,null,null,"　　　　　　　　　　　　　　　　　　　　　　  印"]
[null,null,null,null,null,null,null,"電話番号",null,null,{"$f":"入力シート１!E34","v":0}]
[null,null,null,null,null,null,null,"ﾌｧｸｼﾐﾘ番号",null,null,{"$f":"入力シート１!E35","v":0}]

{"sheet":"入力・印刷シート1(事業概要)","index":3,"n_rows":45,"n_cols":18,"rows_kept":45,"cut":false,"hidden":false,"merged":[[0,5,0,7],[1,0,1,7],[1,8,1,17],[2,0,2,7],[2,8,2,17],[3,0,3,7],[3,8,3,17],[11,1,11,17],[12,1,12,11],[12,12,12,17],[13,2,13,6],[13,7,13,11],[13,12,13,14],[7,1,7,4],[7,5,7,12],[7,13,7,17],[8,1,8,4],[8,5,8,12],[8,13,8,17],[9,1,9,4],[9,6,9,9],[9,12,10,13],[9,15,10,15],[9,16,10,16],[9,17,10,17],[10,1,10,4],[10,6,10,9],[21,2,21,6],[21,7,21,11],[21,12,21,14],[14,2,14,6],[14,7,14,11],[14,12,14,14],[15,2,15,6],[15,7,15,11],[15,12,15,14],[16,2,16,6],[16,7,16,11],[16,12,16,14],[17,2,17,6],[17,7,17,11],[17,12,17,14],[18,2,18,6],[18,7,18,11],[18,12,18,14],[19,2,19,6],[19,7,19,11],[19,12,19,14],[20,2,20,6],[20,7,20,11],[20,12,20,14],[30,13,30,15],[31,13,31,15],[32,13,32,15],[33,13,33,15],[34,13,34,15],[22,2,22,6],[22,7,22,11],[22,12,22,14],[23,1,25,3],[23,4,24,7],[23,8,24,9],[23,11,24,11],[23,12,25,14],[24,15,24,17],[25,4,25,5],[25,6,25,7],[26,1,26,2],[26,3,26,11],[26,12,26,17],[44,6,44,10],[36,6,36,10],[29,12,44,12],[39,6,39,10],[35,6,35,10],[29,13,29,15],[5,0,28,0],[5,1,5,4],[5,5,5,12],[5,13,5,17],[6,1,6,4],[6,5,6,12],[6,13,6,17],[23,16,23,17],[23,10,24,10],[35,13,35,15],[27,1,28,2],[27,3,27,11],[27,12,27,17],[28,3,28,11],[28,12,28,17],[29,0,44,2],[29,3,44,5],[29,6,34,11],[36,13,36,15],[37,6,37,10],[37,13,37,15],[38,6,38,10],[38,13,38,15],[40,6,40,10],[41,6,41,10],[42,6,42,10],[43,6,43,10]]}
["2　事業概要",null,null,null,null,null,null,null,"部分にに入力してください。"]
["主要な取扱品"]
["代理店"]
["特約店"]
[]
["経営規模及び経営状況",null,null,null,null,"前年度",null,null,null,null,null,null,null,"前々年度"]
[null,"資本金",null,null,null,{"$f":"入力シート１!E38","v":0},null,null,null,null,null,null,null,{"$f":"入力シート１!E37","v":0}]
[null,"資本の合計",null,null,null,{"$f":"入力シート１!E40","v":0},null,null,null,null,null,null,null,{"$f":"入力シート１!E39","v":0}]
[null,"年間売上高",null,null,null,{"$f":"入力シート１!E42","v":0},null,null,null,null,null,null,null,{"$f":"入力シート１!E41","v":0}]
[null,"流動比率",null,null,null,null,"流動資産（",null,null,null,{"$f":"入力シート１!E43","v":0},"）千円","×100",null,null,"＝",{"$f":"K10/K11*100","v":{"$error":"#DIV/0!"}},"％"]
[null,"(前年度)",null,null,null,null,"流動負債（",null,null,null,{"$f":"入力シート１!E44","v":0},"）千円"]
[null,"営業種目別・受注先別販売実績(前年度)"]
[null,"営業種目",null,null,null,null,null,null,null,null,null,null,"官公庁等に対する前年の販売実績　　(単位：千円)"]
[null,"業種","部門",null,null,null,null,"品名・業務内容等",null,null,null,null,"県内官公庁",null,null,"他県官公庁","民間","合計"]
[null,null,null,null,null,null,null,null,null,null,null,null,null,null,null,null,null,{"$f":"SUM(M15:Q15)","v":0}]
[null,null,null,null,null,null,null,null,null,null,null,null,null,null,null,null,null,0]
[null,null,null,null,null,null,null,null,null,null,null,null,null,null,null,null,null,0]
[null,null,null,null,null,null,null,null,null,null,null,null,null,null,null,null,null,0]
[null,null,null,null,null,null,null,null,null,null,null,null,null,null,null,null,null,0]
[null,null,null,null,null,null,null,null,null,null,null,null,null,null,null,null,null,0]
[null,null,null,null,null,null,null,null,null,null,null,null,null,null,null,null,null,0]
[null,null,null,null,null,null,null,null,null,null,null,null,null,null,null,null,null,0]
[null,null,null,null,null,null,null,"合計(前年度の年間売上高)",null,null,null,null,{"$f":"SUM(M15:O22)","v":0},null,null,{"$f":"SUM(P15:P22)","v":0},{"$f":"SUM(Q15:Q22)","v":0},{"$f":"SUM(R15:R22)","v":0}]
[null,"常用従業員の構成",null,null,"技術係",null,null,null,"事務係",null,"計","左記のうち県内の支店等の従業員","営業年数",null,null,"設立・創業（",{"$f":"入力シート１!E22","v":"00:00:00"}]
[]
[null,null,null,null,{"$f":"入力シート１!E46","v":0},null,"人",null,{"$f":"入力シート１!E47","v":0},"人",{"$f":"CONCATENATE((E26+I26),G26)","v":"0人"},{"$f":"CONCATENATE(入力シート１!E48,\"人\")","v":"人"},null,null,null,"年数　(",{"$f":"入力シート１!E45","v":0},"年)"]
[null,"外資状況",null,"1　外国籍会社",null,null,null,null,null,null,null,null,"2　外資状況"]
[null,"※外資を含む会社のみ記入",null,"〔国名：　　　　　　　〕",null,null,null,null,null,null,null,null,"〔国名：　　　〕　(比率　　　％)"]
[null,null,null,null,null,null,null,null,null,null,null,null,"〔国名：　　　〕　(比率　　　％)"]
["許認可及び有資格者状況",null,null,"許可・認可の有無",null,null,"建築物における衛生的環境の確保に関する法律に基づく事業登録",null,null,null,null,null,"有資格者数","ビル管理士　　　（　　　",null,null,{"$f":"入力シート１!E66","v":0},"人）"]
[null,null,null,null,null,null,null,null,null,null,null,null,null,"ボイラー技士　　（",null,null,{"$f":"入力シート１!E67","v":0},"人）"]
[null,null,null,null,null,null,null,null,null,null,null,null,null,"危険物取扱主任者（",null,null,{"$f":"入力シート１!E68","v":0},"人）"]
[null,null,null,null,null,null,null,null,null,null,null,null,null,"電気主任技術者等（　　",null,null,{"$f":"入力シート１!E69","v":0},"人）"]
[null,null,null,null,null,null,null,null,null,null,null,null,null,"ボイラー整備士　（　",null,null,{"$f":"入力シート１!E70","v":0},"人）"]
[null,null,null,null,null,null,null,null,null,null,null,null,null,"消防設備士　　　（　　　　　　",null,null,{"$f":"入力シート１!E71","v":0},"人）"]
[null,null,null,null,null,null,"建築物清掃業",null,null,null,null,{"$f":"入力シート１!E49","v":0},null,"電気工事士　　　（　　　　",null,null,{"$f":"入力シート１!E72","v":0},"人）"]
[null,null,null,null,null,null,"建築物空気環境測定業",null,null,null,null,{"$f":"入力シート１!E50","v":0},null,"冷凍機械責任者　（　",null,null,{"$f":"入力シート１!E73","v":0},"人）"]
[null,null,null,null,null,null,"建築物空気調和用ﾀﾞｸﾄ清掃業",null,null,null,null,{"$f":"入力シート１!E51","v":0},null,"ﾋﾞﾙｸﾘｰﾆﾝｸﾞ技能士（",null,null,{"$f":"入力シート１!E74","v":0},"人）"]
[null,null,null,null,null,null,"建築物飲料水水質検査業",null,null,null,null,{"$f":"入力シート１!E52","v":0},null,"清掃員数　　　　（",null,null,{"$f":"入力シート１!E75","v":0},"人）"]
[null,null,null,null,null,null,"建築物飲料水貯水槽清掃業",null,null,null,null,{"$f":"入力シート１!E53","v":0}]
[null,null,null,null,null,null,"建築物配水管清掃業",null,null,null,null,{"$f":"入力シート１!E54","v":0}]
[null,null,null,null,null,null,"建築物ねずみ昆虫等防除業",null,null,null,null,{"$f":"入力シート１!E55","v":0}]
[null,null,null,null,null,null,"建築物環境衛生一般管理業",null,null,null,null,{"$f":"入力シート１!E56","v":0}]
[null,null,null,null,null,null,"建築物環境衛生総合管理業",null,null,null,null,{"$f":"入力シート１!E57","v":0}]
[null,null,null,null,null,null,"警備業法に基づく登録",null,null,null,null,{"$f":"入力シート１!E58","v":0}]

{"sheet":"入力・印刷シート2(希望業種)","index":4,"n_rows":117,"n_cols":11,"rows_kept":117,"cut":false,"hidden":false,"merged":[[3,0,3,9],[4,1,4,2],[4,4,4,6],[5,0,7,0],[5,1,7,2],[21,0,23,0],[21,1,23,2],[21,4,21,6],[22,4,22,6],[23,4,23,6],[16,1,20,2],[16,4,16,6],[17,4,17,6],[18,4,18,6],[5,4,5,6],[6,4,6,6],[7,4,7,6],[20,4,20,6],[13,0,15,0],[13,1,15,2],[13,4,13,6],[8,0,12,0],[8,1,12,2],[8,4,8,6],[27,4,27,6],[30,4,30,6],[31,0,32,0],[31,1,32,2],[31,4,31,6],[32,4,32,6],[27,0,30,0],[27,1,30,2],[29,4,29,6],[28,4,28,6],[9,4,9,6],[10,4,10,6],[11,4,11,6],[12,4,12,6],[24,0,26,0],[24,1,26,2],[24,4,24,6],[25,4,25,6],[26,4,26,6],[14,4,14,6],[15,4,15,6],[16,0,20,0],[19,4,19,6],[33,0,37,0],[33,1,37,2],[33,4,33,6],[36,4,36,6],[37,4,37,6],[34,4,34,6],[39,4,39,6],[40,4,40,6],[38,0,44,0],[38,1,44,2],[38,4,38,6],[35,4,35,6],[45,0,48,0],[45,1,48,2],[41,4,41,6],[42,4,42,6],[43,4,43,6],[44,4,44,6],[49,4,49,6],[50,4,50,6],[45,4,45,6],[46,4,46,6],[47,4,47,6],[48,4,48,6],[49,0,55,0],[49,1,55,2],[53,4,53,6],[51,4,51,6],[52,4,52,6],[60,1,61,2],[60,4,60,6],[61,4,61,6],[54,4,54,6],[67,4,67,6],[78,4,78,6],[62,4,62,6],[69,4,69,6],[77,3,78,3],[68,4,68,6],[69,1,78,2],[66,4,66,6],[56,0,56,3],[56,4,56,9],[58,0,58,9],[59,1,59,2],[59,4,59,6],[60,0,61,0],[55,4,55,6],[67,3,68,3],[62,0,68,0],[73,4,73,6],[63,4,63,6],[64,4,64,6],[65,4,65,6],[69,0,78,0],[92,0,105,0],[92,1,105,2],[92,4,92,6],[97,4,97,6],[99,4,99,6],[105,4,105,6],[98,4,98,6],[104,3,105,3],[104,4,104,6],[62,1,68,2],[77,4,77,6],[83,3,84,3],[83,4,83,6],[84,4,84,6],[90,3,91,3],[85,0,86,0],[85,1,86,2],[90,4,90,6],[91,4,91,6],[94,4,94,6],[93,4,93,6],[81,4,81,6],[116,0,116,3],[116,4,116,9],[106,0,115,0],[106,1,115,2],[106,4,106,6],[107,4,107,6],[108,4,108,6],[109,4,109,6],[110,4,110,6],[115,4,115,6],[111,4,111,6],[112,4,112,6],[114,4,114,6],[113,4,113,6],[87,0,91,0],[87,1,91,2],[82,4,82,6],[88,4,88,6],[89,4,89,6],[85,4,85,6],[86,4,86,6],[80,4,80,6],[87,4,87,6],[79,0,84,0],[79,1,84,2],[79,4,79,6],[103,4,103,6],[96,4,96,6],[101,4,101,6],[72,4,72,6],[100,4,100,6],[102,4,102,6],[71,4,71,6],[76,4,76,6],[70,4,70,6],[95,4,95,6],[74,4,74,6],[75,4,75,6]]}
["希望する業種",null,null,null,null,null,null,null,null,null,"本"]
["入札を希望される分類の希望欄へ数字の「1」を選択・入力してください。（本店・受任機関の選択・入力もお願いします。）",null,null,null,null,null,null,null,null,null,"受"]
[null,"部分に入力してください。"]
["物　　　　　品"]
["分類","大分類",null,"ｺｰﾄﾞ","小分類",null,null,"記事","希望","本・受"]
[31,"文具・事務用機器類",null,"01","文具・事務機器",null,null,"文房具等、複写機、印刷機、輪転機、シュレッダー、製本機、裁断機、丁合機、紙折機"]
[null,null,null,"02","紙・紙製品",null,null,"上質紙、中質紙、更紙、封筒、再生紙、色紙、厚紙"]
[null,null,null,"03","印章",null,null,"ゴム印、回転式スタンプ印、公印"]
[32,"印刷物類",null,"01","活版・オフセット印刷",null,null,"パンフレット印刷、ポスター印刷、リーフレット、カタログ、ステッカー、冊子などカラー全般"]
[null,null,null,"02","軽印刷",null,null,"名刺、はがき、封筒、帳票類"]
[null,null,null,"03","地図",null,null,"地図印刷"]
[null,null,null,"04","青写真",null,null,"電子複写、青写真焼き付け、第二原図焼き付け"]
[null,null,null,"05","製本",null,null,"製本、製本用資材"]
[33,"什器類",null,"01","家具調度",null,null,"陳列台、ラック、平台、カート、ワゴン、アクリルボックス"]
[null,null,null,"02","ミシン・編機",null,null,"ミシン、あみ機"]
[null,null,null,"03","厨房器具",null,null,"流し台、調理台、調理用機器、食器洗浄、消毒機器、冷凍冷蔵関係機器"]
[34,"電気器具類",null,"01","ＯＡ機器",null,null,"凡用コンピュータ、オフィッスコンピュータ、パーソナルコンピュータ、無停電電源装置、ソフトウェア"]
[null,null,null,"02","電気器具",null,null,"テレビ、ビデオ、ステレオ、エアコン、ファンヒーター、調理用電気器具、乾電池"]
[null,null,null,"03","通信器具",null,null,"無線機器、アンテナ、電話機、ファクシミリ、携帯電話"]
[null,null,null,"04","電気設備",null,null,"配電用制御機器、高圧用遮断器、安全開閉器、照明機器"]
[null,null,null,"05","舞台設備",null,null,"舞台機構機器、舞台照明機器、舞台音響機器"]
[35,"機械器具類",null,"01","建設器具",null,null,"掘削機、せん孔機、締固め機、ボーリング機械、発電機、建設工具、チェーンブロック"]
[null,null,null,"02","工作機器",null,null,"施盤、研削機、プレス機、切断機、溶接機、木工機器"]
[null,null,null,"03","農業用機器",null,null,"噴霧器、芝刈機、草刈機、除雪機"]
[36,"精密機械類",null,"01","光学機器",null,null,"顕微鏡、双眼鏡、ルーペ、カメラ"]
[null,null,null,"02","理化学機器",null,null,"分析機器、環境測定器、攪拌機、遠心分離機、滅菌器、ビーカー、フラスコ"]
[null,null,null,"03","計測機器",null,null,"ノギス、電子天秤、テスター、気力計、分光光度計、雨量計、風速計、温度計"]
[37,"医療・薬品類",null,"01","医療機器",null,null,"心電計、血圧計、ＡＥＤ"]
[null,null,null,"02","救急用資機材",null,null,"救急医療資機材"]
[null,null,null,"03","車両用救急資機材",null,null,"救急自動車等積載用救急医療資機材"]
[null,null,null,"04","医・工業薬品",null,null,"無機酸、有機酸、ソーダ酸製品、アンモニア系薬品、消毒剤"]
[38,"燃料類",null,"01","石油製品",null,null,"ガソリン、軽油、灯油、Ａ重油"]
[null,null,null,"02","高圧ガス",null,null,"高圧ガス"]
[39,"車両船舶類",null,"01","車両（一般）",null,null,"軽自動車、小型自動車、普通自動車、建設重機、フォークリフト"]
[null,null,null,"02","車両（特殊車両）",null,null,"消防自動車、救急自動車"]
[null,null,null,"03","軽車両",null,null,"オートバイ、自転車、リアカー"]
[null,null,null,"04","船舶",null,null,"船舶"]
[null,null,null,"05","用品",null,null,"自動車部品、タイヤ等用品及び関連機器"]
[40,"建設資材・機器類",null,"01","骨材",null,null,"川砂、山砂、砂利、砕石"]
[null,null,null,"02","木材",null,null,"木材、合板"]
[null,null,null,"03","電気工事材料",null,null,"各種電線、ケーブル、端末処理材、接続材料"]
[null,null,null,"04","給排水設備材料",null,null,"上水道・下水道管（塩ビ管、強化プラスチック管、鋳鉄管）、配管バルブ、継ぎ手、ろ過砂、ろ過布"]
[null,null,null,"05","標識・看板・塗料",null,null,"標識類、看板、バリケード、塗料（ペンキ、ニス類）、シンナー、さび取り剤、接着剤、塗装用品"]
[null,null,null,"06","消防・保安用品",null,null,"消火器、消化薬剤、消防用ホース、空気呼吸器、救命（ボート・胴衣・浮環）、防災用品、\n消防用機器、救急用機器、救助用機器、その他の消防用品"]
[null,null,null,"07","建具",null,null,"ふすま、障子、欄間、ガラス戸、サッシ戸、シャッター"]
[41,"百貨・日用品類",null,"01","百貨",null,null,"百貨"]
[null,null,null,"02","繊維製品",null,null,"布団、毛布、シーツ、タオルケット、テント、シート、カーテン、カーペット、絨毯、作業服、帽子、幕"]
[null,null,null,"03","皮製品",null,null,"革靴、安全靴、かばん、皮手袋、布靴"]
[null,null,null,"04","食料品・雑貨",null,null,"食品、記念品、金物、陶磁器、清掃用具、工具"]
[42,"その他の物品",null,"01","時計・貴金属",null,null,"時計、貴金属"]
[null,null,null,"02","音楽・運動用品",null,null,"楽器、楽譜、運動用具、キャンプ用品"]
[null,null,null,"03","図書",null,null,"書籍、雑誌"]
[null,null,null,"04","動物・植物",null,null,"各種動物、各種植物"]
[null,null,null,"05","消防用被服",null,null,"防火（衣・ヘルメット・手袋・長靴）、防護服、制服等"]
[null,null,null,"06","無人航空機",null,null,"ドローン（マルチコプター）、ラジコン機、農薬散布用ヘリコプター"]
[null,null,null,"07","※その他",null,null,"※備考欄に記載  "]
["※備考（上記分類に属さない場合は具体的に記入してください。（営業用品目））"]
[]
["役務の提供等"]
["分類","大分類",null,"ｺｰﾄﾞ","小分類",null,null,"記事","希望","本・受"]
[51,"資源回収",null,"01","古物"]
[null,null,null,"02","廃棄物処分業",null,null,"一般廃棄物の収集運搬処理　鉄・非鉄屑、廃棄車両"]
[52,"施設管理\n（運転）",null,"01","火葬施設",null,null,"火葬施設における火葬業務"]
[null,null,null,"02","破砕・リサイクル施設",null,null,"破砕・リサイクル施設の運転管理"]
[null,null,null,"03","ごみ処理施設",null,null,"ごみ処理施設の運転管理"]
[null,null,null,"04","し尿処理施設",null,null,"し尿処理施設の運転管理"]
[null,null,null,"05","文化施設",null,null,"文化施設の運営管理"]
[null,null,null,"06","その他施設",null,null,"上記種類に属さない施設は下記備考欄に具体的に記入して下さい。"]
[null,null,null,null,"※備考（複数可）"]
[53,"施設管理\n（設備・保守管理）",null,"01","電気設備",null,null,"受変電設備、自家用電気工作物"]
[null,null,null,"02","空気調和設備",null,null,"熱源設備、熱搬送設備、空気調和設備"]
[null,null,null,"03","給排水設備",null,null,"受水槽、浄化槽、ポンプ設備"]
[null,null,null,"04","昇降機設備",null,null,"エレベーター、エスカレーター、小荷物専用昇降機"]
[null,null,null,"05","消防用設備",null,null,"消火設備、警報設備、避難設備"]
[null,null,null,"06","舞台設備",null,null,"舞台機構設備、舞台照明設備、舞台音響設備"]
[null,null,null,"07","自動ドア設備",null,null,"引き戸、二重引き戸、回転ドア等"]
[null,null,null,"08","クレーン設備",null,null,"天井クレーン等"]
[null,null,null,"09","その他設備",null,null,"上記種類に属さない設備は下記備考欄に具体的に記入して下さい。"]
[null,null,null,null,"※備考（複数可）"]
[54,"施設管理\n（清掃）",null,"01","庭園管理",null,null,"除草、剪定、伐採、植栽、施肥"]
[null,null,null,"02","建物清掃",null,null,"床清掃、窓ガラス清掃、カーペット清掃"]
[null,null,null,"03","水槽清掃",null,null,"受水槽、高架水槽、浄化槽等の水槽清掃"]
[null,null,null,"04","炉内清掃",null,null,"火葬炉、焼却炉の炉内清掃"]
[null,null,null,"05","その他清掃",null,null,"上記種類に属さない清掃は下記備考欄に具体的に記入して下さい。"]
[null,null,null,null,"※備考（複数可）"]
[55,"施設管理\n（警備）",null,"01","警備員",null,null,"警備員の配備による施設警備等"]
[null,null,null,"02","セキュリティ",null,null,"セキュリティ機器の設置による施設警備等"]
[56,"分析測定",null,"01","環境測定",null,null,"大気、水質、土壌、騒音・振動等"]
[null,null,null,"02","ダイオキシン類測定",null,null,"ダイオキシン類の濃度測定"]
[null,null,null,"03","放射能測定",null,null,"放射性物質の濃度測定"]
[null,null,null,"04","その他分析測定",null,null,"上記種類に属さない分析測定は下記備考欄に具体的に記入して下さい。"]
[null,null,null,null,"※備考（複数可）"]
[57,"情報処理・システム関連",null,"01","広告代理",null,null,"ホームページ、印刷物等の企画・デザイン"]
[null,null,null,"02","給与電算",null,null,"給与管理システムの開発・運用支援・保守等"]
[null,null,null,"03","滞納整理",null,null,"滞納管理システムの開発・運用支援・保守等"]
[null,null,null,"04","介護認定",null,null,"審査会に係る資料作成支援システムの開発・運用支援・保守等"]
[null,null,null,"05","障害認定",null,null,"審査会に係る資料作成支援システムの開発・運用支援・保守等"]
[null,null,null,"06","火葬予約",null,null,"火葬施設の利用に係る予約システムの開発・運用支援・保守等"]
[null,null,null,"07","ごみ搬入予約",null,null,"ごみ処理施設の搬入受付に係る予約システムの開発・運用支援・保守等"]
[null,null,null,"08","有料指定袋受発注",null,null,"有料指定袋に係る受発注システムの開発・運用支援・保守等"]
[null,null,null,"09","消防指令通信",null,null,"消防署及び消防車両等に係る指令システムの開発・運用支援・保守等"]
[null,null,null,"10","消防無線通信",null,null,"消防署及び消防車両等に係る無線システムの開発・運用支援・保守等"]
[null,null,null,"11","Net119緊急通報",null,null,"音声による通報が困難な方向けの１１９番通報システムの開発・運用支援・保守等"]
[null,null,null,"12","集客管理",null,null,"施設の利用予約、チケット販売管理、利用者の会員管理システムの開発・運用支援・保守等"]
[null,null,null,"13","その他情報処理関連",null,null,"上記種類に属さない情報処理関連は下記備考欄に具体的に記入して下さい。"]
[null,null,null,null,"※備考（複数可）"]
[58,"その他の役務",null,"01","クリーニング",null,null,"衣類、寝具、防炎加工"]
[null,null,null,"02","リース",null,null,"ＯＡ機器賃借、電子複写機、プリンター、ファクシミリ、医療機器、自動車、重機、植木"]
[null,null,null,"03","運送",null,null,"一般貨物運送"]
[null,null,null,"04","害虫駆除",null,null,"建物、樹木、ネズミ駆除、シロアリ駆除"]
[null,null,null,"05","有料指定袋",null,null,"有料指定袋の製造・保管"]
[null,null,null,"06","人材育成・研修",null,null,"職員の育成支援、講師派遣による研修会等の開催"]
[null,null,null,"07","演劇指導・支援",null,null,"演劇公演の創作・指導・俳優育成"]
[null,null,null,"08","ピアノ調律",null,null,"ピアノの調律・修理"]
[null,null,null,"09","車両整備",null,null,"自動車の整備・点検・修理"]
[null,null,null,"10","※その他",null,null,"※備考欄に記載"]
["※備考（上記分類に属さない場合は具体的に記入してください。（役務の提供））"]

{"sheet":"入力・印刷シート3(営業所一覧表)","index":5,"n_rows":32,"n_cols":6,"rows_kept":32,"cut":false,"hidden":false,"merged":[[4,0,5,0],[4,1,5,1],[4,2,5,2],[4,3,5,3],[4,5,5,14],[8,0,9,0],[8,1,9,1],[8,2,9,2],[8,3,9,3],[8,5,9,14],[0,0,0,14],[2,0,3,0],[2,1,3,1],[2,2,3,2],[2,3,3,3],[2,5,3,14],[12,0,13,0],[12,1,13,1],[12,2,13,2],[12,3,13,3],[12,5,13,14],[6,0,7,0],[6,1,7,1],[6,2,7,2],[6,3,7,3],[6,5,7,14],[16,0,17,0],[16,1,17,1],[16,2,17,2],[16,3,17,3],[16,5,17,14],[10,0,11,0],[10,1,11,1],[10,2,11,2],[10,3,11,3],[10,5,11,14],[20,0,21,0],[20,1,21,1],[20,2,21,2],[20,3,21,3],[20,5,21,14],[14,0,15,0],[14,1,15,1],[14,2,15,2],[14,3,15,3],[14,5,15,14],[18,0,19,0],[18,1,19,1],[18,2,19,2],[18,3,19,3],[18,5,19,14],[26,3,27,3],[22,5,23,14],[30,0,30,1],[24,0,25,0],[24,1,25,1],[24,2,25,2],[24,3,25,3],[24,5,25,14],[26,0,27,0],[26,1,27,1],[26,2,27,2],[26,5,27,14],[22,0,23,0],[22,1,23,1],[22,2,23,2],[22,3,23,3]]}
["営　　業　　所　　一　　覧"]
[]
["番号","営業所名称","郵便番号","所在地","電話番号（上段）","担当者の部署・氏名"]
[null,null,null,null,"FAX番号（下段）"]
[]
[]
[]
[]
[]
[]
[]
[]
[]
[]
[]
[]
[]
[]
[]
[]
[]
[]
[]
[]
[]
[]
[]
[]
[]
[]
["記載要領"]
[null,"1.この表は、申請日現在で作成すること"]

{"sheet":"印刷シート３","index":6,"n_rows":51,"n_cols":30,"rows_kept":51,"cut":false,"hidden":false,"merged":[[47,2,47,5],[47,7,47,22],[42,1,42,2],[44,2,45,5],[44,8,44,11],[45,7,45,28],[46,2,46,5],[46,7,46,28],[19,5,19,8],[19,10,19,24],[21,2,21,16],[23,0,23,29],[25,2,37,3],[25,4,37,11],[25,18,37,19],[25,20,37,27],[14,2,18,4],[14,5,15,8],[14,10,14,13],[15,10,15,28],[16,5,16,8],[16,10,16,28],[17,5,17,8],[17,10,17,24],[17,26,17,27],[18,5,18,8],[18,10,18,24],[0,0,0,29],[2,22,2,23],[6,2,10,4],[6,5,7,8],[6,10,6,13],[7,10,7,28],[8,5,8,8],[8,10,8,28],[9,5,9,8],[9,10,9,24],[9,26,9,27],[10,5,10,8],[10,10,10,24]]}
["委　　　　　任　　　　　状"]
[]
[null,null,null,null,null,null,null,null,null,null,null,null,null,null,null,null,null,null,null,null,null,null,"令和",null,null,"年",null,"月",null,"日"]
["　仙南地域広域行政事務組合　　"]
[null,"理事長　滝　口　　茂　　殿"]
[]
[null,null,"委任者",null,null,"住所",null,null,null,"〒",{"$f":"入力シート１!E12","v":0}]
[null,null,null,null,null,null,null,null,null,null,{"$f":"CONCATENATE(入力シート１!E13,入力シート１!E15,入力シート１!E17)","v":""}]
[null,null,null,null,null,"商号又は名称",null,null,null,null,{"$f":"入力シート１!E7","v":0}]
[null,null,null,null,null,"代表者氏名",null,null,null,null,{"$f":"CONCATENATE(入力シート１!E9,\" \",入力シート１!E10)","v":" "},null,null,null,null,null,null,null,null,null,null,null,null,null,null,null,"代表者印"]
[null,null,null,null,null,"電話番号",null,null,null,null,{"$f":"入力シート１!E19","v":0}]
[]
[null,null,"私は、次のものを代理人と定め、下記の権限を委任します。"]
[]
[null,null,"代理人",null,null,"住所",null,null,null,"〒",{"$f":"入力シート１!E30","v":0}]
[null,null,null,null,null,null,null,null,null,null,{"$f":"CONCATENATE(入力シート１!E31,入力シート１!E32,入力シート１!E33)","v":""}]
[null,null,null,null,null,"商号又は名称",null,null,null,null,{"$f":"入力シート１!E25","v":0}]
[null,null,null,null,null,"代表者氏名",null,null,null,null,{"$f":"CONCATENATE(入力シート１!E27,\" \",入力シート１!E28)","v":" "},null,null,null,null,null,null,null,null,null,null,null,null,null,null,null,"使用印"]
[null,null,null,null,null,"電話番号",null,null,null,null,{"$f":"入力シート１!E34","v":0}]
[null,null,null,null,null,"受任期間",null,null,null,null,"令和６年４月１日から令和７年３月31日まで"]
[]
[null,null,"1.入札及び見積りに関すること\n2.契約締結に関すること\n3.契約履行に関すること\n4.契約代金の請求及び受領に関すること\n5.上記の各号に関し、復代理人を選任及び解任すること"]
[]
["使　用　印　鑑　届"]
[]
[null,null,"使用印",null,null,null,null,null,null,null,null,null,null,null,null,null,null,null,"実印"]
[]
[]
[]
[]
[]
[]
[]
[]
[]
[]
[]
[]
[]
[]
[null,"上記の印鑑は、入札見積に参加し、契約の締結並びに代金の請求受領のため使用したいからお届けします。"]
[]
[null,"令和",null,null,"年",null,"月",null,"日"]
[]
[null,null,"住所",null,null,null,null,"〒",{"$f":"入力シート１!E12","v":0}]
[null,null,null,null,null,null,null,{"$f":"CONCATENATE(入力シート１!E13,入力シート１!E15,入力シート１!E17)","v":""}]
[null,null,"商号又は名称",null,null,null,null,{"$f":"入力シート１!E7","v":0}]
[null,null,"代表者名",null,null,null,null,{"$f":"CONCATENATE(入力シート１!E9,\"　　\",入力シート１!E10)","v":"　　"},null,null,null,null,null,null,null,null,null,null,null,null,null,null,null,"印"]
[]
[null,"※受任者がいる場合は、実印は代表者印、使用印は受任者（支店長など）の印鑑になります。"]
[null,"※受任者がいない場合は、実印・使用印とも代表者の印鑑になります。"]

{"sheet":"誓約書","index":7,"n_rows":15,"n_cols":5,"rows_kept":15,"cut":false,"hidden":false,"merged":[[2,0,2,4],[4,0,4,4],[6,0,6,2],[11,1,12,1],[11,2,12,2]]}
["様式第１号の２（第３条関係）"]
[]
["誓　約　書"]
[]
["　私（当社）は、「暴力団員による不当な行為の防止等に関する法律（平成３年法律第77号）第32条第１項各号に掲げる者」のいずれにも該当しません。また、将来においても該当することのないことを誓約します。"]
[]
["令和　　年　　月　　日　　"]
[]
["　仙南地域広域行政事務組合　"]
["　　理事長　滝　口　　茂　　殿"]
[]
[null,"申請者","住所又は所在地",{"$f":"入力シート１!E12","v":0}]
[null,null,null,{"$f":"CONCATENATE(入力シート１!E13,入力シート１!E15,入力シート１!E17)","v":""}]
[null,null,"商号又は名称",{"$f":"入力シート１!E7","v":0}]
[null,null,"代表者職氏名",{"$f":"入力シート１!E9&\" \"&入力シート１!E10","v":" "},"印"]

{"sheet":"受理票","index":8,"n_rows":26,"n_cols":21,"rows_kept":26,"cut":false,"hidden":true,"merged":[[9,8,10,21],[25,8,26,15],[1,0,1,29],[3,0,3,3],[3,4,3,10],[3,20,4,29],[5,0,5,3],[5,5,5,18],[5,20,5,21],[7,0,7,29],[25,16,26,21]]}
[]
["令和６年度　仙南地域広域行政事務組合入札参加資格申請受理票"]
[]
["申請業種",null,null,null,"物品役務等",null,null,null,null,null,null,null,null,null,null,null,null,null,null,null,"仙南地域広域行政事務組合"]
[]
["申請者",null,null,null,null,{"$f":"入力シート１!E7","v":0},null,null,null,null,null,null,null,null,null,null,null,null,null,null,"様"]
[]
["　令和６年度に係る入札参加資格申請書を受理いたしました。\n　（審査の結果、不承認となった場合は別途御案内いたします。）\n\n※　承認後において、申請内容に変更が生じた場合は、変更届様式により速やかに提出願います。"]
[]
[null,null,null,null,null,null,null,null,"受　　領　　印"]
[]
[]
[]
[]
[]
[]
[]
[]
[]
[]
[]
[]
[]
[]
[]
[null,null,null,null,null,null,null,null,"受付番号",null,null,null,null,null,null,null,{"$f":"DBCS(【組合使用】!A4)","v":""}]

{"sheet":"承認書","index":9,"n_rows":75,"n_cols":7,"rows_kept":75,"cut":false,"hidden":true,"merged":[[40,0,42,0],[43,0,46,0],[47,0,48,0],[49,4,61,4],[62,4,71,4],[38,4,42,4],[43,4,44,4],[45,4,48,4],[65,0,71,0],[61,0,64,0],[49,0,53,0],[54,0,60,0],[24,0,28,0],[29,0,31,0],[21,4,22,4],[23,4,28,4],[29,4,37,4],[32,0,36,0],[37,0,39,0],[1,0,1,6],[21,0,23,0],[5,2,5,6],[6,2,6,6],[7,2,7,6],[8,2,8,6]]}
["様式第２号（第６条関係）"]
["物品役務等入札参加資格承認通知書"]
[]
[{"$f":"\"承認番号　第\"&DBCS(【組合使用】!A4)&\"号\"","v":"承認番号　第号"}]
[]
[null,"郵  便  番  号",{"$f":"入力シート１!E12","v":0}]
[null,"住所又は所在地",{"$f":"入力シート１!E13&入力シート１!E15&入力シート１!E17","v":""}]
[null,"商号 又は 名称",{"$f":"入力シート１!E7","v":0}]
[null,"代  表  者  名",{"$f":"入力シート１!E9&\"　\"&入力シート１!E10&\"　様\"","v":"　　様"}]
[]
["令和６年度における仙南地域広域行政事務組合が発注する物品役務等に係る下記の"]
["業種について、競争入札に参加する資格を承認します。"]
[]
["令和"]
[null,null,null,"仙南地域広域行政事務組合"]
[null,null,null,null,"理事長　滝　 口 　　茂　 印"]
[]
[null,null,null,"記"]
["１　業種及び部門"]
["業種","部門","本・受",null,"業種","部門","本・受"]
["物品",null,null,null,"役務の提供"]
[{"$f":"IF(SUM('入力・印刷シート2(希望業種)'!I6:I8)=0,\"\",'入力・印刷シート2(希望業種)'!B6)","v":""},{"$f":"IF('入力・印刷シート2(希望業種)'!I6=1,'入力・印刷シート2(希望業種)'!E6,\"\")","v":""},{"$f":"IF('入力・印刷シート2(希望業種)'!J6=\"\",\"\",'入力・印刷シート2(希望業種)'!J6)","v":""},null,{"$f":"IF(SUM('入力・印刷シート2(希望業種)'!I61:I62)=0,\"\",'入力・印刷シート2(希望業種)'!B61)","v":""},{"$f":"IF('入力・印刷シート2(希望業種)'!I61=1,'入力・印刷シート2(希望業種)'!E61,\"\")","v":""},{"$f":"IF('入力・印刷シート2(希望業種)'!J61=\"\",\"\",'入力・印刷シート2(希望業種)'!J61)","v":""}]
[null,{"$f":"IF('入力・印刷シート2(希望業種)'!I7=1,'入力・印刷シート2(希望業種)'!E7,\"\")","v":""},{"$f":"IF('入力・印刷シート2(希望業種)'!J7=\"\",\"\",'入力・印刷シート2(希望業種)'!J7)","v":""},null,null,{"$f":"IF('入力・印刷シート2(希望業種)'!I62=1,'入力・印刷シート2(希望業種)'!E62,\"\")","v":""},{"$f":"IF('入力・印刷シート2(希望業種)'!J62=\"\",\"\",'入力・印刷シート2(希望業種)'!J62)","v":""}]
[null,{"$f":"IF('入力・印刷シート2(希望業種)'!I8=1,'入力・印刷シート2(希望業種)'!E8,\"\")","v":""},{"$f":"IF('入力・印刷シート2(希望業種)'!J8=\"\",\"\",'入力・印刷シート2(希望業種)'!J8)","v":""},null,{"$f":"IF(SUM('入力・印刷シート2(希望業種)'!I63:I69)=0,\"\",'入力・印刷シート2(希望業種)'!B63)","v":""},{"$f":"IF('入力・印刷シート2(希望業種)'!I63=1,'入力・印刷シート2(希望業種)'!E63,\"\")","v":""},{"$f":"IF('入力・印刷シート2(希望業種)'!J63=\"\",\"\",'入力・印刷シート2(希望業種)'!J63)","v":""}]
[{"$f":"IF(SUM('入力・印刷シート2(希望業種)'!I9:I13)=0,\"\",'入力・印刷シート2(希望業種)'!B9)","v":""},{"$f":"IF('入力・印刷シート2(希望業種)'!I9=1,'入力・印刷シート2(希望業種)'!E9,\"\")","v":""},{"$f":"IF('入力・印刷シート2(希望業種)'!J9=\"\",\"\",'入力・印刷シート2(希望業種)'!J9)","v":""},null,null,{"$f":"IF('入力・印刷シート2(希望業種)'!I64=1,'入力・印刷シート2(希望業種)'!E64,\"\")","v":""},{"$f":"IF('入力・印刷シート2(希望業種)'!J64=\"\",\"\",'入力・印刷シート2(希望業種)'!J64)","v":""}]
[null,{"$f":"IF('入力・印刷シート2(希望業種)'!I10=1,'入力・印刷シート2(希望業種)'!E10,\"\")","v":""},{"$f":"IF('入力・印刷シート2(希望業種)'!J10=\"\",\"\",'入力・印刷シート2(希望業種)'!J10)","v":""},null,null,{"$f":"IF('入力・印刷シート2(希望業種)'!I65=1,'入力・印刷シート2(希望業種)'!E65,\"\")","v":""},{"$f":"IF('入力・印刷シート2(希望業種)'!J65=\"\",\"\",'入力・印刷シート2(希望業種)'!J65)","v":""}]
[null,{"$f":"IF('入力・印刷シート2(希望業種)'!I11=1,'入力・印刷シート2(希望業種)'!E11,\"\")","v":""},{"$f":"IF('入力・印刷シート2(希望業種)'!J11=\"\",\"\",'入力・印刷シート2(希望業種)'!J11)","v":""},null,null,{"$f":"IF('入力・印刷シート2(希望業種)'!I66=1,'入力・印刷シート2(希望業種)'!E66,\"\")","v":""},{"$f":"IF('入力・印刷シート2(希望業種)'!J66=\"\",\"\",'入力・印刷シート2(希望業種)'!J66)","v":""}]
[null,{"$f":"IF('入力・印刷シート2(希望業種)'!I12=1,'入力・印刷シート2(希望業種)'!E12,\"\")","v":""},{"$f":"IF('入力・印刷シート2(希望業種)'!J12=\"\",\"\",'入力・印刷シート2(希望業種)'!J12)","v":""},null,null,{"$f":"IF('入力・印刷シート2(希望業種)'!I67=1,'入力・印刷シート2(希望業種)'!E67,\"\")","v":""},{"$f":"IF('入力・印刷シート2(希望業種)'!J67=\"\",\"\",'入力・印刷シート2(希望業種)'!J67)","v":""}]
[null,{"$f":"IF('入力・印刷シート2(希望業種)'!I13=1,'入力・印刷シート2(希望業種)'!E13,\"\")","v":""},{"$f":"IF('入力・印刷シート2(希望業種)'!J13=\"\",\"\",'入力・印刷シート2(希望業種)'!J13)","v":""},null,null,{"$f":"IF('入力・印刷シート2(希望業種)'!I68=1,'入力・印刷シート2(希望業種)'!E68,\"\")","v":""},{"$f":"IF('入力・印刷シート2(希望業種)'!J68=\"\",\"\",'入力・印刷シート2(希望業種)'!J68)","v":""}]
[{"$f":"IF(SUM('入力・印刷シート2(希望業種)'!I14:I16)=0,\"\",'入力・印刷シート2(希望業種)'!B14)","v":""},{"$f":"IF('入力・印刷シート2(希望業種)'!I14=1,'入力・印刷シート2(希望業種)'!E14,\"\")","v":""},{"$f":"IF('入力・印刷シート2(希望業種)'!J14=\"\",\"\",'入力・印刷シート2(希望業種)'!J14)","v":""},null,{"$f":"IF(SUM('入力・印刷シート2(希望業種)'!I70:I79)=0,\"\",'入力・印刷シート2(希望業種)'!B70)","v":""},{"$f":"IF('入力・印刷シート2(希望業種)'!I70=1,'入力・印刷シート2(希望業種)'!E70,\"\")","v":""},{"$f":"IF('入力・印刷シート2(希望業種)'!J70=\"\",\"\",'入力・印刷シート2(希望業種)'!J70)","v":""}]
[null,{"$f":"IF('入力・印刷シート2(希望業種)'!I15=1,'入力・印刷シート2(希望業種)'!E15,\"\")","v":""},{"$f":"IF('入力・印刷シート2(希望業種)'!J15=\"\",\"\",'入力・印刷シート2(希望業種)'!J15)","v":""},null,null,{"$f":"IF('入力・印刷シート2(希望業種)'!I71=1,'入力・印刷シート2(希望業種)'!E71,\"\")","v":""},{"$f":"IF('入力・印刷シート2(希望業種)'!J71=\"\",\"\",'入力・印刷シート2(希望業種)'!J71)","v":""}]
[null,{"$f":"IF('入力・印刷シート2(希望業種)'!I16=1,'入力・印刷シート2(希望業種)'!E16,\"\")","v":""},{"$f":"IF('入力・印刷シート2(希望業種)'!J16=\"\",\"\",'入力・印刷シート2(希望業種)'!J16)","v":""},null,null,{"$f":"IF('入力・印刷シート2(希望業種)'!I72=1,'入力・印刷シート2(希望業種)'!E72,\"\")","v":""},{"$f":"IF('入力・印刷シート2(希望業種)'!J72=\"\",\"\",'入力・印刷シート2(希望業種)'!J72)","v":""}]
[{"$f":"IF(SUM('入力・印刷シート2(希望業種)'!I17:I21)=0,\"\",'入力・印刷シート2(希望業種)'!B17)","v":""},{"$f":"IF('入力・印刷シート2(希望業種)'!I17=1,'入力・印刷シート2(希望業種)'!E17,\"\")","v":""},{"$f":"IF('入力・印刷シート2(希望業種)'!J17=\"\",\"\",'入力・印刷シート2(希望業種)'!J17)","v":""},null,null,{"$f":"IF('入力・印刷シート2(希望業種)'!I73=1,'入力・印刷シート2(希望業種)'!E73,\"\")","v":""},{"$f":"IF('入力・印刷シート2(希望業種)'!J73=\"\",\"\",'入力・印刷シート2(希望業種)'!J73)","v":""}]
[null,{"$f":"IF('入力・印刷シート2(希望業種)'!I18=1,'入力・印刷シート2(希望業種)'!E18,\"\")","v":""},{"$f":"IF('入力・印刷シート2(希望業種)'!J18=\"\",\"\",'入力・印刷シート2(希望業種)'!J18)","v":""},null,null,{"$f":"IF('入力・印刷シート2(希望業種)'!I74=1,'入力・印刷シート2(希望業種)'!E74,\"\")","v":""},{"$f":"IF('入力・印刷シート2(希望業種)'!J74=\"\",\"\",'入力・印刷シート2(希望業種)'!J74)","v":""}]
[null,{"$f":"IF('入力・印刷シート2(希望業種)'!I19=1,'入力・印刷シート2(希望業種)'!E19,\"\")","v":""},{"$f":"IF('入力・印刷シート2(希望業種)'!J19=\"\",\"\",'入力・印刷シート2(希望業種)'!J19)","v":""},null,null,{"$f":"IF('入力・印刷シート2(希望業種)'!I75=1,'入力・印刷シート2(希望業種)'!E75,\"\")","v":""},{"$f":"IF('入力・印刷シート2(希望業種)'!J75=\"\",\"\",'入力・印刷シート2(希望業種)'!J75)","v":""}]
[null,{"$f":"IF('入力・印刷シート2(希望業種)'!I20=1,'入力・印刷シート2(希望業種)'!E20,\"\")","v":""},{"$f":"IF('入力・印刷シート2(希望業種)'!J20=\"\",\"\",'入力・印刷シート2(希望業種)'!J20)","v":""},null,null,{"$f":"IF('入力・印刷シート2(希望業種)'!I76=1,'入力・印刷シート2(希望業種)'!E76,\"\")","v":""},{"$f":"IF('入力・印刷シート2(希望業種)'!J76=\"\",\"\",'入力・印刷シート2(希望業種)'!J76)","v":""}]
[null,{"$f":"IF('入力・印刷シート2(希望業種)'!I21=1,'入力・印刷シート2(希望業種)'!E21,\"\")","v":""},{"$f":"IF('入力・印刷シート2(希望業種)'!J21=\"\",\"\",'入力・印刷シート2(希望業種)'!J21)","v":""},null,null,{"$f":"IF('入力・印刷シート2(希望業種)'!I77=1,'入力・印刷シート2(希望業種)'!E77,\"\")","v":""},{"$f":"IF('入力・印刷シート2(希望業種)'!J77=\"\",\"\",'入力・印刷シート2(希望業種)'!J77)","v":""}]
[{"$f":"IF(SUM('入力・印刷シート2(希望業種)'!I22:I24)=0,\"\",'入力・印刷シート2(希望業種)'!B22)","v":""},{"$f":"IF('入力・印刷シート2(希望業種)'!I22=1,'入力・印刷シート2(希望業種)'!E22,\"\")","v":""},{"$f":"IF('入力・印刷シート2(希望業種)'!J22=\"\",\"\",'入力・印刷シート2(希望業種)'!J22)","v":""},null,null,{"$f":"IF('入力・印刷シート2(希望業種)'!I78=1,'入力・印刷シート2(希望業種)'!E78,\"\")","v":""},{"$f":"IF('入力・印刷シート2(希望業種)'!J78=\"\",\"\",'入力・印刷シート2(希望業種)'!J78)","v":""}]
[null,{"$f":"IF('入力・印刷シート2(希望業種)'!I23=1,'入力・印刷シート2(希望業種)'!E23,\"\")","v":""},{"$f":"IF('入力・印刷シート2(希望業種)'!J23=\"\",\"\",'入力・印刷シート2(希望業種)'!J23)","v":""},null,{"$f":"IF(SUM('入力・印刷シート2(希望業種)'!I80:I85)=0,\"\",'入力・印刷シート2(希望業種)'!B80)","v":""},{"$f":"IF('入力・印刷シート2(希望業種)'!I80=1,'入力・印刷シート2(希望業種)'!E80,\"\")","v":""},{"$f":"IF('入力・印刷シート2(希望業種)'!J80=\"\",\"\",'入力・印刷シート2(希望業種)'!J80)","v":""}]
[null,{"$f":"IF('入力・印刷シート2(希望業種)'!I24=1,'入力・印刷シート2(希望業種)'!E24,\"\")","v":""},{"$f":"IF('入力・印刷シート2(希望業種)'!J24=\"\",\"\",'入力・印刷シート2(希望業種)'!J24)","v":""},null,null,{"$f":"IF('入力・印刷シート2(希望業種)'!I81=1,'入力・印刷シート2(希望業種)'!E81,\"\")","v":""},{"$f":"IF('入力・印刷シート2(希望業種)'!J81=\"\",\"\",'入力・印刷シート2(希望業種)'!J81)","v":""}]
[{"$f":"IF(SUM('入力・印刷シート2(希望業種)'!I25:I27)=0,\"\",'入力・印刷シート2(希望業種)'!B25)","v":""},{"$f":"IF('入力・印刷シート2(希望業種)'!I25=1,'入力・印刷シート2(希望業種)'!E25,\"\")","v":""},{"$f":"IF('入力・印刷シート2(希望業種)'!J25=\"\",\"\",'入力・印刷シート2(希望業種)'!J25)","v":""},null,null,{"$f":"IF('入力・印刷シート2(希望業種)'!I82=1,'入力・印刷シート2(希望業種)'!E82,\"\")","v":""},{"$f":"IF('入力・印刷シート2(希望業種)'!J82=\"\",\"\",'入力・印刷シート2(希望業種)'!J82)","v":""}]
[null,{"$f":"IF('入力・印刷シート2(希望業種)'!I26=1,'入力・印刷シート2(希望業種)'!E26,\"\")","v":""},{"$f":"IF('入力・印刷シート2(希望業種)'!J26=\"\",\"\",'入力・印刷シート2(希望業種)'!J26)","v":""},null,null,{"$f":"IF('入力・印刷シート2(希望業種)'!I83=1,'入力・印刷シート2(希望業種)'!E83,\"\")","v":""},{"$f":"IF('入力・印刷シート2(希望業種)'!J83=\"\",\"\",'入力・印刷シート2(希望業種)'!J83)","v":""}]
[null,{"$f":"IF('入力・印刷シート2(希望業種)'!I27=1,'入力・印刷シート2(希望業種)'!E27,\"\")","v":""},{"$f":"IF('入力・印刷シート2(希望業種)'!J27=\"\",\"\",'入力・印刷シート2(希望業種)'!J27)","v":""},null,null,{"$f":"IF('入力・印刷シート2(希望業種)'!I84=1,'入力・印刷シート2(希望業種)'!E84,\"\")","v":""},{"$f":"IF('入力・印刷シート2(希望業種)'!J84=\"\",\"\",'入力・印刷シート2(希望業種)'!J84)","v":""}]
[{"$f":"IF(SUM('入力・印刷シート2(希望業種)'!I28:I31)=0,\"\",'入力・印刷シート2(希望業種)'!B28)","v":""},{"$f":"IF('入力・印刷シート2(希望業種)'!I28=1,'入力・印刷シート2(希望業種)'!E28,\"\")","v":""},{"$f":"IF('入力・印刷シート2(希望業種)'!J28=\"\",\"\",'入力・印刷シート2(希望業種)'!J28)","v":""},null,{"$f":"IF(SUM('入力・印刷シート2(希望業種)'!I86:I87)=0,\"\",'入力・印刷シート2(希望業種)'!B86)","v":""},{"$f":"IF('入力・印刷シート2(希望業種)'!I86=1,'入力・印刷シート2(希望業種)'!E86,\"\")","v":""},{"$f":"IF('入力・印刷シート2(希望業種)'!J86=\"\",\"\",'入力・印刷シート2(希望業種)'!J86)","v":""}]
[null,{"$f":"IF('入力・印刷シート2(希望業種)'!I29=1,'入力・印刷シート2(希望業種)'!E29,\"\")","v":""},{"$f":"IF('入力・印刷シート2(希望業種)'!J29=\"\",\"\",'入力・印刷シート2(希望業種)'!J29)","v":""},null,null,{"$f":"IF('入力・印刷シート2(希望業種)'!I87=1,'入力・印刷シート2(希望業種)'!E87,\"\")","v":""},{"$f":"IF('入力・印刷シート2(希望業種)'!J87=\"\",\"\",'入力・印刷シート2(希望業種)'!J87)","v":""}]
[null,{"$f":"IF('入力・印刷シート2(希望業種)'!I30=1,'入力・印刷シート2(希望業種)'!E30,\"\")","v":""},{"$f":"IF('入力・印刷シート2(希望業種)'!J30=\"\",\"\",'入力・印刷シート2(希望業種)'!J30)","v":""},null,{"$f":"IF(SUM('入力・印刷シート2(希望業種)'!I88:I92)=0,\"\",'入力・印刷シート2(希望業種)'!B88)","v":""},{"$f":"IF('入力・印刷シート2(希望業種)'!I88=1,'入力・印刷シート2(希望業種)'!E88,\"\")","v":""},{"$f":"IF('入力・印刷シート2(希望業種)'!J88=\"\",\"\",'入力・印刷シート2(希望業種)'!J88)","v":""}]
[null,{"$f":"IF('入力・印刷シート2(希望業種)'!I31=1,'入力・印刷シート2(希望業種)'!E31,\"\")","v":""},{"$f":"IF('入力・印刷シート2(希望業種)'!J31=\"\",\"\",'入力・印刷シート2(希望業種)'!J31)","v":""},null,null,{"$f":"IF('入力・印刷シート2(希望業種)'!I89=1,'入力・印刷シート2(希望業種)'!E89,\"\")","v":""},{"$f":"IF('入力・印刷シート2(希望業種)'!J89=\"\",\"\",'入力・印刷シート2(希望業種)'!J89)","v":""}]
[{"$f":"IF(SUM('入力・印刷シート2(希望業種)'!I32:I33)=0,\"\",'入力・印刷シート2(希望業種)'!B32)","v":""},{"$f":"IF('入力・印刷シート2(希望業種)'!I32=1,'入力・印刷シート2(希望業種)'!E32,\"\")","v":""},{"$f":"IF('入力・印刷シート2(希望業種)'!J32=\"\",\"\",'入力・印刷シート2(希望業種)'!J32)","v":""},null,null,{"$f":"IF('入力・印刷シート2(希望業種)'!I90=1,'入力・印刷シート2(希望業種)'!E90,\"\")","v":""},{"$f":"IF('入力・印刷シート2(希望業種)'!J90=\"\",\"\",'入力・印刷シート2(希望業種)'!J90)","v":""}]
[null,{"$f":"IF('入力・印刷シート2(希望業種)'!I33=1,'入力・印刷シート2(希望業種)'!E33,\"\")","v":""},{"$f":"IF('入力・印刷シート2(希望業種)'!J33=\"\",\"\",'入力・印刷シート2(希望業種)'!J33)","v":""},null,null,{"$f":"IF('入力・印刷シート2(希望業種)'!I91=1,'入力・印刷シート2(希望業種)'!E91,\"\")","v":""},{"$f":"IF('入力・印刷シート2(希望業種)'!J91=\"\",\"\",'入力・印刷シート2(希望業種)'!J91)","v":""}]
[{"$f":"IF(SUM('入力・印刷シート2(希望業種)'!I34:I38)=0,\"\",'入力・印刷シート2(希望業種)'!B34)","v":""},{"$f":"IF('入力・印刷シート2(希望業種)'!I34=1,'入力・印刷シート2(希望業種)'!E34,\"\")","v":""},{"$f":"IF('入力・印刷シート2(希望業種)'!J34=\"\",\"\",'入力・印刷シート2(希望業種)'!J34)","v":""},null,{"$f":"IF(SUM('入力・印刷シート2(希望業種)'!I93:I106)=0,\"\",'入力・印刷シート2(希望業種)'!B93)","v":""},{"$f":"IF('入力・印刷シート2(希望業種)'!I93=1,'入力・印刷シート2(希望業種)'!E93,\"\")","v":""},{"$f":"IF('入力・印刷シート2(希望業種)'!J93=\"\",\"\",'入力・印刷シート2(希望業種)'!J93)","v":""}]
[null,{"$f":"IF('入力・印刷シート2(希望業種)'!I35=1,'入力・印刷シート2(希望業種)'!E35,\"\")","v":""},{"$f":"IF('入力・印刷シート2(希望業種)'!J35=\"\",\"\",'入力・印刷シート2(希望業種)'!J35)","v":""},null,null,{"$f":"IF('入力・印刷シート2(希望業種)'!I94=1,'入力・印刷シート2(希望業種)'!E94,\"\")","v":""},{"$f":"IF('入力・印刷シート2(希望業種)'!J94=\"\",\"\",'入力・印刷シート2(希望業種)'!J94)","v":""}]
[null,{"$f":"IF('入力・印刷シート2(希望業種)'!I36=1,'入力・印刷シート2(希望業種)'!E36,\"\")","v":""},{"$f":"IF('入力・印刷シート2(希望業種)'!J36=\"\",\"\",'入力・印刷シート2(希望業種)'!J36)","v":""},null,null,{"$f":"IF('入力・印刷シート2(希望業種)'!I95=1,'入力・印刷シート2(希望業種)'!E95,\"\")","v":""},{"$f":"IF('入力・印刷シート2(希望業種)'!J95=\"\",\"\",'入力・印刷シート2(希望業種)'!J95)","v":""}]
[null,{"$f":"IF('入力・印刷シート2(希望業種)'!I37=1,'入力・印刷シート2(希望業種)'!E37,\"\")","v":""},{"$f":"IF('入力・印刷シート2(希望業種)'!J37=\"\",\"\",'入力・印刷シート2(希望業種)'!J37)","v":""},null,null,{"$f":"IF('入力・印刷シート2(希望業種)'!I96=1,'入力・印刷シート2(希望業種)'!E96,\"\")","v":""},{"$f":"IF('入力・印刷シート2(希望業種)'!J96=\"\",\"\",'入力・印刷シート2(希望業種)'!J96)","v":""}]
[null,{"$f":"IF('入力・印刷シート2(希望業種)'!I38=1,'入力・印刷シート2(希望業種)'!E38,\"\")","v":""},{"$f":"IF('入力・印刷シート2(希望業種)'!J38=\"\",\"\",'入力・印刷シート2(希望業種)'!J38)","v":""},null,null,{"$f":"IF('入力・印刷シート2(希望業種)'!I97=1,'入力・印刷シート2(希望業種)'!E97,\"\")","v":""},{"$f":"IF('入力・印刷シート2(希望業種)'!J97=\"\",\"\",'入力・印刷シート2(希望業種)'!J97)","v":""}]
[{"$f":"IF(SUM('入力・印刷シート2(希望業種)'!I39:I45)=0,\"\",'入力・印刷シート2(希望業種)'!B39)","v":""},{"$f":"IF('入力・印刷シート2(希望業種)'!I39=1,'入力・印刷シート2(希望業種)'!E39,\"\")","v":""},{"$f":"IF('入力・印刷シート2(希望業種)'!J39=\"\",\"\",'入力・印刷シート2(希望業種)'!J39)","v":""},null,null,{"$f":"IF('入力・印刷シート2(希望業種)'!I98=1,'入力・印刷シート2(希望業種)'!E98,\"\")","v":""},{"$f":"IF('入力・印刷シート2(希望業種)'!J98=\"\",\"\",'入力・印刷シート2(希望業種)'!J98)","v":""}]
[null,{"$f":"IF('入力・印刷シート2(希望業種)'!I40=1,'入力・印刷シート2(希望業種)'!E40,\"\")","v":""},{"$f":"IF('入力・印刷シート2(希望業種)'!J40=\"\",\"\",'入力・印刷シート2(希望業種)'!J40)","v":""},null,null,{"$f":"IF('入力・印刷シート2(希望業種)'!I99=1,'入力・印刷シート2(希望業種)'!E99,\"\")","v":""},{"$f":"IF('入力・印刷シート2(希望業種)'!J99=\"\",\"\",'入力・印刷シート2(希望業種)'!J99)","v":""}]
[null,{"$f":"IF('入力・印刷シート2(希望業種)'!I41=1,'入力・印刷シート2(希望業種)'!E41,\"\")","v":""},{"$f":"IF('入力・印刷シート2(希望業種)'!J41=\"\",\"\",'入力・印刷シート2(希望業種)'!J41)","v":""},null,null,{"$f":"IF('入力・印刷シート2(希望業種)'!I100=1,'入力・印刷シート2(希望業種)'!E100,\"\")","v":""},{"$f":"IF('入力・印刷シート2(希望業種)'!J100=\"\",\"\",'入力・印刷シート2(希望業種)'!J100)","v":""}]
[null,{"$f":"IF('入力・印刷シート2(希望業種)'!I42=1,'入力・印刷シート2(希望業種)'!E42,\"\")","v":""},{"$f":"IF('入力・印刷シート2(希望業種)'!J42=\"\",\"\",'入力・印刷シート2(希望業種)'!J42)","v":""},null,null,{"$f":"IF('入力・印刷シート2(希望業種)'!I101=1,'入力・印刷シート2(希望業種)'!E101,\"\")","v":""},{"$f":"IF('入力・印刷シート2(希望業種)'!J101=\"\",\"\",'入力・印刷シート2(希望業種)'!J101)","v":""}]
[null,{"$f":"IF('入力・印刷シート2(希望業種)'!I43=1,'入力・印刷シート2(希望業種)'!E43,\"\")","v":""},{"$f":"IF('入力・印刷シート2(希望業種)'!J43=\"\",\"\",'入力・印刷シート2(希望業種)'!J43)","v":""},null,null,{"$f":"IF('入力・印刷シート2(希望業種)'!I102=1,'入力・印刷シート2(希望業種)'!E102,\"\")","v":""},{"$f":"IF('入力・印刷シート2(希望業種)'!J102=\"\",\"\",'入力・印刷シート2(希望業種)'!J102)","v":""}]
[null,{"$f":"IF('入力・印刷シート2(希望業種)'!I44=1,'入力・印刷シート2(希望業種)'!E44,\"\")","v":""},{"$f":"IF('入力・印刷シート2(希望業種)'!J44=\"\",\"\",'入力・印刷シート2(希望業種)'!J44)","v":""},null,null,{"$f":"IF('入力・印刷シート2(希望業種)'!I103=1,'入力・印刷シート2(希望業種)'!E103,\"\")","v":""},{"$f":"IF('入力・印刷シート2(希望業種)'!J103=\"\",\"\",'入力・印刷シート2(希望業種)'!J103)","v":""}]
[null,{"$f":"IF('入力・印刷シート2(希望業種)'!I45=1,'入力・印刷シート2(希望業種)'!E45,\"\")","v":""},{"$f":"IF('入力・印刷シート2(希望業種)'!J45=\"\",\"\",'入力・印刷シート2(希望業種)'!J45)","v":""},null,null,{"$f":"IF('入力・印刷シート2(希望業種)'!I104=1,'入力・印刷シート2(希望業種)'!E104,\"\")","v":""},{"$f":"IF('入力・印刷シート2(希望業種)'!J104=\"\",\"\",'入力・印刷シート2(希望業種)'!J104)","v":""}]
[{"$f":"IF(SUM('入力・印刷シート2(希望業種)'!I46:I49)=0,\"\",'入力・印刷シート2(希望業種)'!B46)","v":""},{"$f":"IF('入力・印刷シート2(希望業種)'!I46=1,'入力・印刷シート2(希望業種)'!E46,\"\")","v":""},{"$f":"IF('入力・印刷シート2(希望業種)'!J46=\"\",\"\",'入力・印刷シート2(希望業種)'!J46)","v":""},null,null,{"$f":"IF('入力・印刷シート2(希望業種)'!I105=1,'入力・印刷シート2(希望業種)'!E105,\"\")","v":""},{"$f":"IF('入力・印刷シート2(希望業種)'!J105=\"\",\"\",'入力・印刷シート2(希望業種)'!J105)","v":""}]
[null,{"$f":"IF('入力・印刷シート2(希望業種)'!I47=1,'入力・印刷シート2(希望業種)'!E47,\"\")","v":""},{"$f":"IF('入力・印刷シート2(希望業種)'!J47=\"\",\"\",'入力・印刷シート2(希望業種)'!J47)","v":""},null,{"$f":"IF(SUM('入力・印刷シート2(希望業種)'!I107:I116)=0,\"\",'入力・印刷シート2(希望業種)'!B107)","v":""},{"$f":"IF('入力・印刷シート2(希望業種)'!I107=1,'入力・印刷シート2(希望業種)'!E107,\"\")","v":""},{"$f":"IF('入力・印刷シート2(希望業種)'!J107=\"\",\"\",'入力・印刷シート2(希望業種)'!J107)","v":""}]
[null,{"$f":"IF('入力・印刷シート2(希望業種)'!I48=1,'入力・印刷シート2(希望業種)'!E48,\"\")","v":""},{"$f":"IF('入力・印刷シート2(希望業種)'!J48=\"\",\"\",'入力・印刷シート2(希望業種)'!J48)","v":""},null,null,{"$f":"IF('入力・印刷シート2(希望業種)'!I108=1,'入力・印刷シート2(希望業種)'!E108,\"\")","v":""},{"$f":"IF('入力・印刷シート2(希望業種)'!J108=\"\",\"\",'入力・印刷シート2(希望業種)'!J108)","v":""}]
[null,{"$f":"IF('入力・印刷シート2(希望業種)'!I49=1,'入力・印刷シート2(希望業種)'!E49,\"\")","v":""},{"$f":"IF('入力・印刷シート2(希望業種)'!J49=\"\",\"\",'入力・印刷シート2(希望業種)'!J49)","v":""},null,null,{"$f":"IF('入力・印刷シート2(希望業種)'!I109=1,'入力・印刷シート2(希望業種)'!E109,\"\")","v":""},{"$f":"IF('入力・印刷シート2(希望業種)'!J109=\"\",\"\",'入力・印刷シート2(希望業種)'!J109)","v":""}]
[{"$f":"IF(SUM('入力・印刷シート2(希望業種)'!I50:I56)=0,\"\",'入力・印刷シート2(希望業種)'!B50)","v":""},{"$f":"IF('入力・印刷シート2(希望業種)'!I50=1,'入力・印刷シート2(希望業種)'!E50,\"\")","v":""},{"$f":"IF('入力・印刷シート2(希望業種)'!J50=\"\",\"\",'入力・印刷シート2(希望業種)'!J50)","v":""},null,null,{"$f":"IF('入力・印刷シート2(希望業種)'!I110=1,'入力・印刷シート2(希望業種)'!E110,\"\")","v":""},{"$f":"IF('入力・印刷シート2(希望業種)'!J110=\"\",\"\",'入力・印刷シート2(希望業種)'!J110)","v":""}]
[null,{"$f":"IF('入力・印刷シート2(希望業種)'!I51=1,'入力・印刷シート2(希望業種)'!E51,\"\")","v":""},{"$f":"IF('入力・印刷シート2(希望業種)'!J51=\"\",\"\",'入力・印刷シート2(希望業種)'!J51)","v":""},null,null,{"$f":"IF('入力・印刷シート2(希望業種)'!I111=1,'入力・印刷シート2(希望業種)'!E111,\"\")","v":""},{"$f":"IF('入力・印刷シート2(希望業種)'!J111=\"\",\"\",'入力・印刷シート2(希望業種)'!J111)","v":""}]
[null,{"$f":"IF('入力・印刷シート2(希望業種)'!I52=1,'入力・印刷シート2(希望業種)'!E52,\"\")","v":""},{"$f":"IF('入力・印刷シート2(希望業種)'!J52=\"\",\"\",'入力・印刷シート2(希望業種)'!J52)","v":""},null,null,{"$f":"IF('入力・印刷シート2(希望業種)'!I112=1,'入力・印刷シート2(希望業種)'!E112,\"\")","v":""},{"$f":"IF('入力・印刷シート2(希望業種)'!J112=\"\",\"\",'入力・印刷シート2(希望業種)'!J112)","v":""}]
[null,{"$f":"IF('入力・印刷シート2(希望業種)'!I53=1,'入力・印刷シート2(希望業種)'!E53,\"\")","v":""},{"$f":"IF('入力・印刷シート2(希望業種)'!J53=\"\",\"\",'入力・印刷シート2(希望業種)'!J53)","v":""},null,null,{"$f":"IF('入力・印刷シート2(希望業種)'!I113=1,'入力・印刷シート2(希望業種)'!E113,\"\")","v":""},{"$f":"IF('入力・印刷シート2(希望業種)'!J113=\"\",\"\",'入力・印刷シート2(希望業種)'!J113)","v":""}]
[null,{"$f":"IF('入力・印刷シート2(希望業種)'!I54=1,'入力・印刷シート2(希望業種)'!E54,\"\")","v":""},{"$f":"IF('入力・印刷シート2(希望業種)'!J54=\"\",\"\",'入力・印刷シート2(希望業種)'!J54)","v":""},null,null,{"$f":"IF('入力・印刷シート2(希望業種)'!I114=1,'入力・印刷シート2(希望業種)'!E114,\"\")","v":""},{"$f":"IF('入力・印刷シート2(希望業種)'!J114=\"\",\"\",'入力・印刷シート2(希望業種)'!J114)","v":""}]
[null,{"$f":"IF('入力・印刷シート2(希望業種)'!I55=1,'入力・印刷シート2(希望業種)'!E55,\"\")","v":""},{"$f":"IF('入力・印刷シート2(希望業種)'!J55=\"\",\"\",'入力・印刷シート2(希望業種)'!J55)","v":""},null,null,{"$f":"IF('入力・印刷シート2(希望業種)'!I115=1,'入力・印刷シート2(希望業種)'!E115,\"\")","v":""},{"$f":"IF('入力・印刷シート2(希望業種)'!J115=\"\",\"\",'入力・印刷シート2(希望業種)'!J115)","v":""}]
[null,{"$f":"IF('入力・印刷シート2(希望業種)'!I56=1,'入力・印刷シート2(希望業種)'!E56,\"\")","v":""},{"$f":"IF('入力・印刷シート2(希望業種)'!J56=\"\",\"\",'入力・印刷シート2(希望業種)'!J56)","v":""},null,null,{"$f":"IF('入力・印刷シート2(希望業種)'!I116=1,'入力・印刷シート2(希望業種)'!E116,\"\")","v":""},{"$f":"IF('入力・印刷シート2(希望業種)'!J116=\"\",\"\",'入力・印刷シート2(希望業種)'!J116)","v":""}]
["※　本・受　本店または受任機関の別"]
[]
["２　参加資格の有効期間　自　令和６年４月１日　至　令和７年３月31日"]

{"sheet":"データシート","index":10,"n_rows":4,"n_cols":180,"rows_kept":4,"cut":false,"hidden":true,"merged":[[1,51,2,51],[1,52,2,52],[1,53,2,53],[1,54,2,54],[1,39,2,39],[1,40,2,40],[1,41,2,41],[1,42,2,42],[1,43,2,43],[1,44,2,44],[1,46,2,46],[1,47,2,47],[1,48,2,48],[1,49,2,49],[1,50,2,50],[0,1,0,13],[1,12,2,12],[1,13,2,13],[0,15,0,26],[0,27,0,38],[1,37,2,37],[1,38,2,38],[1,1,1,2],[1,3,1,5],[1,6,1,10],[1,11,2,11],[0,39,0,48],[0,49,0,58],[1,33,2,33],[1,15,1,16],[1,17,1,19],[1,20,1,23],[1,24,2,24],[1,25,2,25],[1,26,2,26],[1,27,1,28],[1,29,1,30],[1,31,1,32],[1,45,2,45],[1,34,2,34],[1,35,2,35],[1,36,2,36],[1,55,2,55],[1,56,2,56],[1,104,1,107],[1,58,2,58],[1,64,1,66],[1,67,1,71],[1,72,1,74],[1,80,1,82],[0,59,1,63],[1,57,2,57],[1,83,1,85],[1,86,1,89],[1,90,1,91],[1,92,1,96],[1,97,1,103],[1,75,1,79],[1,108,1,115],[1,173,1,179],[1,116,1,117],[1,148,1,161],[1,162,1,171],[1,172,2,172],[1,141,1,142],[1,125,1,134],[1,135,1,140],[1,143,1,147],[1,118,1,124]]}
[1,"本店情報",null,null,null,null,null,null,null,null,null,null,null,null,"受任","受任者情報",null,null,null,null,null,null,null,null,null,null,null,"経営状況",null,null,null,null,null,null,null,null,null,null,null,"許認可の有無",null,null,null,null,null,null,null,null,null,"有資格者数",null,null,null,null,null,null,null,null,null,"担当者"]
[2,"商号",null,"代表者",null,null,"所在地",null,null,null,null,"電話番号","FAX番号","Eメール\nアドレス","受任","商号",null,"受任者",null,null,"所在地",null,null,null,"電話番号","FAX番号","Eメール\nアドレス","資本金",null,"自己資本額",null,"年間売上高",null,"流動資産","流動負債","営業年数","技術系\n職員","事務系\n職員","合計\n職員","建築物清掃業","建築物空気環境測定業","建築物空気調和用ダクト清掃業","建築物飲料水水質検査業","建築物飲料水貯水槽清掃業","建築物配水管清掃業","建築物ねずみ昆虫等防除業","建築物環境衛生一般管理業","建築物環境衛生総合管理業","警備業法に基づく登録","ビル\n管理士","ボイラー\n技士","危険物取扱主任者","電気主任技術者等","ボイラー\n整備士","消防\n設備士","電気\n工事士","冷凍機械責任者","ﾋﾞﾙ\nｸﾘｰﾆﾝｸﾞ\n技能士","清掃員数",null,null,null,null,null,"文具・事務用機器類",null,null,"印刷物類",null,null,null,null,"什器類",null,null,"電気器具類",null,null,null,null,"機械器具類",null,null,"精密機械類",null,null,"医療・薬品類",null,null,null,"燃料類",null,"車両船舶類",null,null,null,null,"建設資材・機器類",null,null,null,null,null,null,"百貨・日用品類",null,null,null,"その他の物品",null,null,null,null,null,null,null,"資源回収",null,"施設管理（運転）",null,null,null,null,null,null,"施設管理（設備・保守管理）",null,null,null,null,null,null,null,null,null,"施設管理（清掃）",null,null,null,null,null,"施設管理（警備）",null,"分析測定",null,null,null,null,"情報処理・システム関連",null,null,null,null,null,null,null,null,null,null,null,null,null,"その他の役務",null,null,null,null,null,null,null,null,null,"役務の提供","計量証明事業"]
[3,"名称","フリガナ","役職名","氏名","フリガナ","郵便番号","所在地\n（都道府県名）","所在地\n（市区・郡町村名）","所在地","所在地\nフリガナ",null,null,null,"受任の有無","名称","フリガナ","役職名","氏名","フリガナ","郵便番号","所在地\n（都道府県名）","所在地\n（市区・郡町村名）","所在地",null,null,null,"前々年度","前年度","前々年度","前年度","前々年度","前年度",null,null,null,null,null,null,null,null,null,null,null,null,null,null,null,null,null,null,null,null,null,null,null,null,null,null,"部署名","氏名","電話番号","FAX番号","Eメールアドレス","文具・事務機器","紙・紙製品","印章","活版・オフセット印刷","軽印刷","地図","青写真","製本","家具調度","ミシン・編機","厨房器具","ＯＡ機器","電気器具","通信器具","電気設備","舞台設備","建設器具","工作機器","農業用機器","光学機器","理化学機器","計測機器","医療機器","救急用資機材","車両用救急資機材","医・工業薬品","石油製品","高圧ガス","車両（一般）","車両（特殊車両）","軽車両","船舶","用品","骨材","木材","電気工事材料","給排水設備材料","標識・看板・塗料","消防・保安用品","建具","百貨","繊維製品","皮製品","食料品・雑貨","時計・貴金属","音楽・運動用品","図書","動物・植物","消防用被服","無人航空機","その他","営業用品目","古物","廃棄物処分業","火葬施設","破砕・リサイクル施設","ごみ処理施設","し尿処理施設","文化施設","その他施設","備考","電気設備","空気調和設備","給排水設備","昇降機設備","消防用設備","舞台設備","自動ドア設備","クレーン設備","その他設備","備考","庭園管理","建物清掃","水槽清掃","炉内清掃","その他清掃","備考","警備員","セキュリティ","環境測定","ダイオキシン類測定","放射能測定","その他分析測定","備考","広告代理","給与電算","滞納整理","介護認定","障害認定","火葬予約","ごみ搬入予約","有料指定袋受発注","消防指令通信","消防無線通信","Net119緊急通報","集客管理","その他情報処理関連","備考","クリーニング","リース","運送","害虫駆除","有料指定袋","人材育成・研修","演劇指導・支援","ピアノ調律","車両整備","その他",null,"濃度","特定濃度","音圧","振動加速度","騒音","質量","ＭＬＡＰ"]
[null,{"$f":"入力シート１!E7","v":0},{"$f":"入力シート１!E8","v":0},{"$f":"入力シート１!E9","v":0},{"$f":"入力シート１!E10","v":0},{"$f":"入力シート１!E11","v":0},{"$f":"入力シート１!E12","v":0},{"$f":"入力シート１!E13","v":0},{"$f":"入力シート１!E15","v":0},{"$f":"入力シート１!E17","v":0},{"$f":"CONCATENATE(入力シート１!E14,入力シート１!E16,入力シート１!E18)","v":""},{"$f":"入力シート１!E19","v":0},{"$f":"入力シート１!E20","v":0},{"$f":"入力シート１!E21","v":0},{"$f":"入力シート１!E24","v":0},{"$f":"入力シート１!E25","v":0},{"$f":"入力シート１!E26","v":0},{"$f":"入力シート１!E27","v":0},{"$f":"入力シート１!E28","v":0},{"$f":"入力シート１!E29","v":0},{"$f":"入力シート１!E30","v":0},{"$f":"入力シート１!E31","v":0},{"$f":"入力シート１!E32","v":0},{"$f":"入力シート１!E33","v":0},{"$f":"入力シート１!E34","v":0},{"$f":"入力シート１!E35","v":0},{"$f":"入力シート１!E36","v":0},{"$f":"入力シート１!E37","v":0},{"$f":"入力シート１!E38","v":0},{"$f":"入力シート１!E39","v":0},{"$f":"入力シート１!E40","v":0},{"$f":"入力シート１!E41","v":0},{"$f":"入力シート１!E42","v":0},{"$f":"入力シート１!E43","v":0},{"$f":"入力シート１!E44","v":0},{"$f":"入力シート１!E45","v":0},{"$f":"入力シート１!E46","v":0},{"$f":"入力シート１!E47","v":0},{"$f":"AK4+AL4","v":0},{"$f":"入力シート１!$E49","v":0},{"$f":"入力シート１!$E50","v":0},{"$f":"入力シート１!$E51","v":0},{"$f":"入力シート１!$E52","v":0},{"$f":"入力シート１!$E53","v":0},{"$f":"入力シート１!$E54","v":0},{"$f":"入力シート１!$E55","v":0},{"$f":"入力シート１!$E56","v":0},{"$f":"入力シート１!$E57","v":0},{"$f":"入力シート１!$E58","v":0},{"$f":"入力シート１!$E66","v":0},{"$f":"入力シート１!$E67","v":0},{"$f":"入力シート１!$E68","v":0},{"$f":"入力シート１!$E69","v":0},{"$f":"入力シート１!$E70","v":0},{"$f":"入力シート１!$E71","v":0},{"$f":"入力シート１!$E72","v":0},{"$f":"入力シート１!$E73","v":0},{"$f":"入力シート１!$E74","v":0},{"$f":"入力シート１!$E75","v":0},{"$f":"入力シート１!$E76","v":0},{"$f":"入力シート１!$E77","v":0},{"$f":"入力シート１!$E79","v":0},{"$f":"入力シート１!$E80","v":0},{"$f":"入力シート１!$E81","v":0},{"$f":"'入力・印刷シート2(希望業種)'!$I$6","v":0},{"$f":"'入力・印刷シート2(希望業種)'!$I$7","v":0},{"$f":"'入力・印刷シート2(希望業種)'!$I$8","v":0},{"$f":"'入力・印刷シート2(希望業種)'!$I$9","v":0},{"$f":"'入力・印刷シート2(希望業種)'!$I$10","v":0},{"$f":"'入力・印刷シート2(希望業種)'!$I$11","v":0},{"$f":"'入力・印刷シート2(希望業種)'!$I$12","v":0},{"$f":"'入力・印刷シート2(希望業種)'!$I$13","v":0},{"$f":"'入力・印刷シート2(希望業種)'!$I$14","v":0},{"$f":"'入力・印刷シート2(希望業種)'!$I$15","v":0},{"$f":"'入力・印刷シート2(希望業種)'!$I$16","v":0},{"$f":"'入力・印刷シート2(希望業種)'!$I$17","v":0},{"$f":"'入力・印刷シート2(希望業種)'!$I$18","v":0},{"$f":"'入力・印刷シート2(希望業種)'!$I$19","v":0},{"$f":"'入力・印刷シート2(希望業種)'!$I$20","v":0},{"$f":"'入力・印刷シート2(希望業種)'!$I$21","v":0},{"$f":"'入力・印刷シート2(希望業種)'!$I$22","v":0},{"$f":"'入力・印刷シート2(希望業種)'!$I$23","v":0},{"$f":"'入力・印刷シート2(希望業種)'!$I$24","v":0},{"$f":"'入力・印刷シート2(希望業種)'!$I$25","v":0},{"$f":"'入力・印刷シート2(希望業種)'!$I$26","v":0},{"$f":"'入力・印刷シート2(希望業種)'!$I$27","v":0},{"$f":"'入力・印刷シート2(希望業種)'!$I$28","v":0},{"$f":"'入力・印刷シート2(希望業種)'!$I$29","v":0},{"$f":"'入力・印刷シート2(希望業種)'!$I$30","v":0},{"$f":"'入力・印刷シート2(希望業種)'!$I$31","v":0},{"$f":"'入力・印刷シート2(希望業種)'!$I$32","v":0},{"$f":"'入力・印刷シート2(希望業種)'!$I$33","v":0},{"$f":"'入力・印刷シート2(希望業種)'!$I$34","v":0},{"$f":"'入力・印刷シート2(希望業種)'!$I$35","v":0},{"$f":"'入力・印刷シート2(希望業種)'!$I$36","v":0},{"$f":"'入力・印刷シート2(希望業種)'!$I$37","v":0},{"$f":"'入力・印刷シート2(希望業種)'!$I$38","v":0},{"$f":"'入力・印刷シート2(希望業種)'!$I$39","v":0},{"$f":"'入力・印刷シート2(希望業種)'!$I$40","v":0},{"$f":"'入力・印刷シート2(希望業種)'!$I$41","v":0},{"$f":"'入力・印刷シート2(希望業種)'!$I$42","v":0},{"$f":"'入力・印刷シート2(希望業種)'!$I$43","v":0},{"$f":"'入力・印刷シート2(希望業種)'!$I$44","v":0},{"$f":"'入力・印刷シート2(希望業種)'!$I$45","v":0},{"$f":"'入力・印刷シート2(希望業種)'!$I$46","v":0},{"$f":"'入力・印刷シート2(希望業種)'!$I$47","v":0},{"$f":"'入力・印刷シート2(希望業種)'!$I$48","v":0},{"$f":"'入力・印刷シート2(希望業種)'!$I$49","v":0},{"$f":"'入力・印刷シート2(希望業種)'!$I$50","v":0},{"$f":"'入力・印刷シート2(希望業種)'!$I$51","v":0},{"$f":"'入力・印刷シート2(希望業種)'!$I$52","v":0},{"$f":"'入力・印刷シート2(希望業種)'!$I$53","v":0},{"$f":"'入力・印刷シート2(希望業種)'!$I$54","v":0},{"$f":"'入力・印刷シート2(希望業種)'!$I$55","v":0},{"$f":"'入力・印刷シート2(希望業種)'!$I$56","v":0},{"$f":"'入力・印刷シート2(希望業種)'!E57","v":0},{"$f":"'入力・印刷シート2(希望業種)'!$I$61","v":0},{"$f":"'入力・印刷シート2(希望業種)'!$I$62","v":0},{"$f":"'入力・印刷シート2(希望業種)'!$I$63","v":0},{"$f":"'入力・印刷シート2(希望業種)'!$I$64","v":0},{"$f":"'入力・印刷シート2(希望業種)'!$I$65","v":0},{"$f":"'入力・印刷シート2(希望業種)'!$I$66","v":0},{"$f":"'入力・印刷シート2(希望業種)'!$I$67","v":0},{"$f":"'入力・印刷シート2(希望業種)'!$I$68","v":0},{"$f":"'入力・印刷シート2(希望業種)'!$H$69","v":0},{"$f":"'入力・印刷シート2(希望業種)'!$I$70","v":0},{"$f":"'入力・印刷シート2(希望業種)'!$I$71","v":0},{"$f":"'入力・印刷シート2(希望業種)'!$I$72","v":0},{"$f":"'入力・印刷シート2(希望業種)'!$I$73","v":0},{"$f":"'入力・印刷シート2(希望業種)'!$I$74","v":0},{"$f":"'入力・印刷シート2(希望業種)'!$I$75","v":0},{"$f":"'入力・印刷シート2(希望業種)'!$I$76","v":0},{"$f":"'入力・印刷シート2(希望業種)'!$I$77","v":0},{"$f":"'入力・印刷シート2(希望業種)'!$I$78","v":0},{"$f":"'入力・印刷シート2(希望業種)'!$H$79","v":0},{"$f":"'入力・印刷シート2(希望業種)'!$I$80","v":0},{"$f":"'入力・印刷シート2(希望業種)'!$I$81","v":0},{"$f":"'入力・印刷シート2(希望業種)'!$I$82","v":0},{"$f":"'入力・印刷シート2(希望業種)'!$I$83","v":0},{"$f":"'入力・印刷シート2(希望業種)'!$I$84","v":0},{"$f":"'入力・印刷シート2(希望業種)'!$H$85","v":0},{"$f":"'入力・印刷シート2(希望業種)'!$I$86","v":0},{"$f":"'入力・印刷シート2(希望業種)'!$I$87","v":0},{"$f":"'入力・印刷シート2(希望業種)'!$I$88","v":0},{"$f":"'入力・印刷シート2(希望業種)'!$I$89","v":0},{"$f":"'入力・印刷シート2(希望業種)'!$I$90","v":0},{"$f":"'入力・印刷シート2(希望業種)'!$I$91","v":0},{"$f":"'入力・印刷シート2(希望業種)'!$H$92","v":0},{"$f":"'入力・印刷シート2(希望業種)'!$I$93","v":0},{"$f":"'入力・印刷シート2(希望業種)'!$I$94","v":0},{"$f":"'入力・印刷シート2(希望業種)'!$I$95","v":0},{"$f":"'入力・印刷シート2(希望業種)'!$I$96","v":0},{"$f":"'入力・印刷シート2(希望業種)'!$I$97","v":0},{"$f":"'入力・印刷シート2(希望業種)'!$I$98","v":0},{"$f":"'入力・印刷シート2(希望業種)'!$I$99","v":0},{"$f":"'入力・印刷シート2(希望業種)'!$I$100","v":0},{"$f":"'入力・印刷シート2(希望業種)'!$I$101","v":0},{"$f":"'入力・印刷シート2(希望業種)'!$I$102","v":0},{"$f":"'入力・印刷シート2(希望業種)'!$I$103","v":0},{"$f":"'入力・印刷シート2(希望業種)'!$I$104","v":0},{"$f":"'入力・印刷シート2(希望業種)'!$I$105","v":0},{"$f":"'入力・印刷シート2(希望業種)'!$H$106","v":0},{"$f":"'入力・印刷シート2(希望業種)'!$I$107","v":0},{"$f":"'入力・印刷シート2(希望業種)'!$I$108","v":0},{"$f":"'入力・印刷シート2(希望業種)'!$I$109","v":0},{"$f":"'入力・印刷シート2(希望業種)'!$I$110","v":0},{"$f":"'入力・印刷シート2(希望業種)'!$I$111","v":0},{"$f":"'入力・印刷シート2(希望業種)'!$I$112","v":0},{"$f":"'入力・印刷シート2(希望業種)'!$I$113","v":0},{"$f":"'入力・印刷シート2(希望業種)'!$I$114","v":0},{"$f":"'入力・印刷シート2(希望業種)'!$I$115","v":0},{"$f":"'入力・印刷シート2(希望業種)'!$I$116","v":0},{"$f":"'入力・印刷シート2(希望業種)'!$E$117","v":0},{"$f":"入力シート１!E59","v":0},{"$f":"入力シート１!E60","v":0},{"$f":"入力シート１!E61","v":0},{"$f":"入力シート１!E62","v":0},{"$f":"入力シート１!E63","v":0},{"$f":"入力シート１!E64","v":0},{"$f":"入力シート１!E65","v":0}]

{"sheet":"【組合使用】","index":11,"n_rows":4,"n_cols":182,"rows_kept":4,"cut":false,"hidden":true,"merged":[[1,160,1,161],[1,162,1,163],[1,164,1,165],[1,111,1,112],[1,113,1,117],[1,152,2,152],[1,153,1,159],[1,86,1,87],[1,95,1,104],[1,143,1,151],[1,88,1,94],[1,105,1,110],[0,172,0,181],[1,1,1,2],[1,3,1,5],[1,6,1,10],[1,15,1,16],[1,17,1,19],[1,20,1,23],[1,24,2,24],[1,25,2,25],[1,26,2,26],[0,1,0,13],[0,15,0,26],[0,32,1,33],[1,45,1,49],[0,143,0,152],[0,153,0,159],[0,160,0,171],[1,27,1,31],[1,34,1,36],[1,37,1,41],[1,42,1,44],[1,62,1,66],[1,50,1,52],[1,53,1,55],[1,56,1,59],[1,60,1,61],[1,118,1,131],[1,132,1,141],[1,142,2,142],[1,67,1,73],[1,74,1,77],[1,78,1,85]]}
[1,"本店情報",null,null,null,null,null,null,null,null,null,null,null,null,"受任","受任者情報",null,null,null,null,null,null,null,null,null,null,null,null,null,null,null,null,"本・支店\n営業所",null,null,null,null,null,null,null,null,null,null,null,null,null,null,null,null,null,null,null,null,null,null,null,null,null,null,null,null,null,null,null,null,null,null,null,null,null,null,null,null,null,null,null,null,null,null,null,null,null,null,null,null,null,null,null,null,null,null,null,null,null,null,null,null,null,null,null,null,null,null,null,null,null,null,null,null,null,null,null,null,null,null,null,null,null,null,null,null,null,null,null,null,null,null,null,null,null,null,null,null,null,null,null,null,null,null,null,null,null,null,"許認可の有無",null,null,null,null,null,null,null,null,null,null,null,null,null,null,null,null,"経営状況",null,null,null,null,null,null,null,null,null,null,null,"有資格者数"]
[2,"商号",null,"代表者",null,null,"所在地",null,null,null,null,null,null,null,"受任","商号",null,"受任者",null,null,"所在地",null,null,null,"電話番号","FAX番号","Eメール\nアドレス","担当者",null,null,null,null,null,null,"文具・事務用機器類",null,null,"印刷物類",null,null,null,null,"什器類",null,null,"電気器具類",null,null,null,null,"機械器具類",null,null,"精密機械類",null,null,"医療・薬品類",null,null,null,"燃料類",null,"車両船舶類",null,null,null,null,"建設資材・機器類",null,null,null,null,null,null,"百貨・日用品類",null,null,null,"その他の物品",null,null,null,null,null,null,null,"資源回収",null,"施設管理（運転）",null,null,null,null,null,null,"施設管理（設備・保守管理）",null,null,null,null,null,null,null,null,null,"施設管理（清掃）",null,null,null,null,null,"施設管理（警備）",null,"分析測定",null,null,null,null,"情報処理",null,null,null,null,null,null,null,null,null,null,null,null,null,"その他の役務",null,null,null,null,null,null,null,null,null,"役務の提供","建築物関係",null,null,null,null,null,null,null,null,"警備業法に基づく登録","計量証明事業",null,null,null,null,null,null,"資本金",null,"自己資本額",null,"年間売上高"]
[3,"名称","フリガナ","役職名","氏名","フリガナ","郵便番号","所在地\n（都道府県名）","所在地\n（市区・郡町村名）","所在地","所在地\nフリガナ","電話番号","FAX番号","Eメール\nアドレス","受任の有無","名称","フリガナ","役職名","氏名","フリガナ","郵便番号","所在地\n（都道府県名）","所在地\n（市区・郡町村名）","所在地",null,null,null,"部署名","氏名","電話番号","FAX番号","Eメールアドレス","県内","仙南地区","文具・事務機器","紙・紙製品","印章","活版・オフセット印刷","軽印刷","地図","青写真","製本","家具調度","ミシン・編機","厨房器具","ＯＡ機器","電気器具","通信器具","電気設備","舞台設備","建設器具","工作機器","農業用機器","光学機器","理化学機器","計測機器","医療機器","救急用資機材","車両用救急資機材","医・工業薬品","石油製品","高圧ガス","車両（一般）","車両（特殊車両）","軽車両","船舶","用品","骨材","木材","電気工事材料","給排水設備材料","標識・看板・塗料","消防・保安用品","建具","百貨","繊維製品","皮製品","食料品・雑貨","時計・貴金属","音楽・運動用品","図書","動物・植物","消防用被服","無人航空機","その他","営業用品目","古物","廃棄物処分業","火葬施設","破砕・リサイクル施設","ごみ処理施設","し尿処理施設","文化施設","その他施設","備考","電気設備","空気調和設備","給排水設備","昇降機設備","消防用設備","舞台設備","自動ドア設備","クレーン設備","その他設備","備考","庭園管理","建物清掃","水槽清掃","炉内清掃","その他清掃","備考","警備員","セキュリティ","環境測定","ダイオキシン類測定","放射能測定","その他分析測定","備考","広告代理","給与電算","滞納整理","介護認定","障害認定","火葬予約","ごみ搬入予約","有料指定袋受発注","消防指令通信","消防無線通信","Net119緊急通報","集客管理","その他情報処理関連","備考","クリーニング","リース","運送","害虫駆除","有料指定袋","人材育成・研修","演劇指導・支援","ピアノ調律","車両整備","その他",null,"建築物清掃業","建築物空気環境測定業","建築物空気調和用ダクト清掃業","建築物飲料水水質検査業","建築物飲料水貯水槽清掃業","建築物配水管清掃業","建築物ねずみ昆虫等防除業","建築物環境衛生一般管理業","建築物環境衛生総合管理業",null,"濃度","特定濃度","音圧","振動加速度","騒音","質量","ＭＬＡＰ","前々年度","前年度","前々年度","前年度","前々年度","前年度","流動資産","流動負債","営業年数","技術系\n職員","事務系\n職員","合計\n職員","ビル\n管理士","ボイラー\n技士","危険物取扱主任者","電気主任技術者等","ボイラー\n整備士","消防\n設備士","電気\n工事士","冷凍機械責任者","ﾋﾞﾙ\nｸﾘｰﾆﾝｸﾞ\n技能士","清掃員数"]
[null,{"$f":"IF(データシート!B4=0,\"\",データシート!B4)","v":""},{"$f":"IF(データシート!C4=0,\"\",データシート!C4)","v":""},{"$f":"IF(データシート!D4=0,\"\",データシート!D4)","v":""},{"$f":"IF(データシート!E4=0,\"\",データシート!E4)","v":""},{"$f":"IF(データシート!F4=0,\"\",データシート!F4)","v":""},{"$f":"IF(データシート!G4=0,\"\",データシート!G4)","v":""},{"$f":"IF(データシート!H4=0,\"\",データシート!H4)","v":""},{"$f":"IF(データシート!I4=0,\"\",データシート!I4)","v":""},{"$f":"IF(データシート!J4=0,\"\",データシート!J4)","v":""},{"$f":"IF(データシート!K4=0,\"\",データシート!K4)","v":""},{"$f":"IF(データシート!L4=0,\"\",データシート!L4)","v":""},{"$f":"IF(データシート!M4=0,\"\",データシート!M4)","v":""},{"$f":"IF(データシート!N4=0,\"\",データシート!N4)","v":""},{"$f":"IF(データシート!O4=1,\"有\",データシート!O4)","v":0},{"$f":"IF(データシート!P4=0,\"\",データシート!P4)","v":""},{"$f":"IF(データシート!Q4=0,\"\",データシート!Q4)","v":""},{"$f":"IF(データシート!R4=0,\"\",データシート!R4)","v":""},{"$f":"IF(データシート!S4=0,\"\",データシート!S4)","v":""},{"$f":"IF(データシート!T4=0,\"\",データシート!T4)","v":""},{"$f":"IF(データシート!U4=0,\"\",データシート!U4)","v":""},{"$f":"IF(データシート!V4=0,\"\",データシート!V4)","v":""},{"$f":"IF(データシート!W4=0,\"\",データシート!W4)","v":""},{"$f":"IF(データシート!X4=0,\"\",データシート!X4)","v":""},{"$f":"IF(データシート!Y4=0,\"\",データシート!Y4)","v":""},{"$f":"IF(データシート!Z4=0,\"\",データシート!Z4)","v":""},{"$f":"IF(データシート!AA4=0,\"\",データシート!AA4)","v":""},{"$f":"IF(データシート!BH4=0,\"\",データシート!BH4)","v":""},{"$f":"IF(データシート!BI4=0,\"\",データシート!BI4)","v":""},{"$f":"IF(データシート!BJ4=0,\"\",データシート!BJ4)","v":""},{"$f":"IF(データシート!BK4=0,\"\",データシート!BK4)","v":""},{"$f":"IF(データシート!BL4=0,\"\",データシート!BL4)","v":""},{"$f":"IF(H4=\"宮城県\",\"○\",IF(V4=\"宮城県\",\"○\",\"\"))","v":""},{"$f":"IF(I4=\"白石市\",\"○\",IF(I4=\"角田市\",\"○\",IF(I4=\"刈田郡蔵王町\",\"○\",IF(I4=\"蔵王町\",\"○\",IF(I4=\"刈田郡七ヶ宿町\",\"○\",IF(I4=\"七ヶ宿町\",\"○\",IF(I4=\"柴田郡大河原町\",\"○\",IF(I4=\"大河原町\",\"○\",IF(I4=\"柴田郡村田町\",\"○\",IF(I4=\"村田町\",\"○\",IF(I4=\"柴田郡柴田町\",\"○\",IF(I4=\"柴田町\",\"○\",IF(I4=\"柴田郡川崎町\",\"○\",IF(I4=\"川崎町\",\"○\",IF(I4=\"伊具郡丸森町\",\"○\",IF(I4=\"丸森町\",\"○\",IF(W4=\"白石市\",\"○\",IF(W4=\"角田市\",\"○\",IF(W4=\"刈田郡蔵王町\",\"○\",IF(W4=\"蔵王町\",\"○\",IF(W4=\"刈田郡七ヶ宿町\",\"○\",IF(W4=\"七ヶ宿町\",\"○\",IF(W4=\"柴田郡大河原町\",\"○\",IF(W4=\"大河原町\",\"○\",IF(W4=\"柴田郡村田町\",\"○\",IF(W4=\"村田町\",\"○\",IF(W4=\"柴田郡柴田町\",\"○\",IF(W4=\"柴田町\",\"○\",IF(W4=\"柴田郡川崎町\",\"○\",IF(W4=\"川崎町\",\"○\",IF(W4=\"伊具郡丸森町\",\"○\",IF(W4=\"丸森町\",\"○\",\"\"))))))))))))))))))))))))))))))))","v":""},{"$f":"IF(データシート!BM4=1,\"○\",IF(データシート!BM4=0,\"\"))","v":""},{"$f":"IF(データシート!BN4=1,\"○\",IF(データシート!BN4=0,\"\"))","v":""},{"$f":"IF(データシート!BO4=1,\"○\",IF(データシート!BO4=0,\"\"))","v":""},{"$f":"IF(データシート!BP4=1,\"○\",IF(データシート!BP4=0,\"\"))","v":""},{"$f":"IF(データシート!BQ4=1,\"○\",IF(データシート!BQ4=0,\"\"))","v":""},{"$f":"IF(データシート!BR4=1,\"○\",IF(データシート!BR4=0,\"\"))","v":""},{"$f":"IF(データシート!BS4=1,\"○\",IF(データシート!BS4=0,\"\"))","v":""},{"$f":"IF(データシート!BT4=1,\"○\",IF(データシート!BT4=0,\"\"))","v":""},{"$f":"IF(データシート!BU4=1,\"○\",IF(データシート!BU4=0,\"\"))","v":""},{"$f":"IF(データシート!BV4=1,\"○\",IF(データシート!BV4=0,\"\"))","v":""},{"$f":"IF(データシート!BW4=1,\"○\",IF(データシート!BW4=0,\"\"))","v":""},{"$f":"IF(データシート!BX4=1,\"○\",IF(データシート!BX4=0,\"\"))","v":""},{"$f":"IF(データシート!BY4=1,\"○\",IF(データシート!BY4=0,\"\"))","v":""},{"$f":"IF(データシート!BZ4=1,\"○\",IF(データシート!BZ4=0,\"\"))","v":""},{"$f":"IF(データシート!CA4=1,\"○\",IF(データシート!CA4=0,\"\"))","v":""},{"$f":"IF(データシート!CB4=1,\"○\",IF(データシート!CB4=0,\"\"))","v":""},{"$f":"IF(データシート!CC4=1,\"○\",IF(データシート!CC4=0,\"\"))","v":""},{"$f":"IF(データシート!CD4=1,\"○\",IF(データシート!CD4=0,\"\"))","v":""},{"$f":"IF(データシート!CE4=1,\"○\",IF(データシート!CE4=0,\"\"))","v":""},{"$f":"IF(データシート!CF4=1,\"○\",IF(データシート!CF4=0,\"\"))","v":""},{"$f":"IF(データシート!CG4=1,\"○\",IF(データシート!CG4=0,\"\"))","v":""},{"$f":"IF(データシート!CH4=1,\"○\",IF(データシート!CH4=0,\"\"))","v":""},{"$f":"IF(データシート!CI4=1,\"○\",IF(データシート!CI4=0,\"\"))","v":""},{"$f":"IF(データシート!CJ4=1,\"○\",IF(データシート!CJ4=0,\"\"))","v":""},{"$f":"IF(データシート!CK4=1,\"○\",IF(データシート!CK4=0,\"\"))","v":""},{"$f":"IF(データシート!CL4=1,\"○\",IF(データシート!CL4=0,\"\"))","v":""},{"$f":"IF(データシート!CM4=1,\"○\",IF(データシート!CM4=0,\"\"))","v":""},{"$f":"IF(データシート!CN4=1,\"○\",IF(データシート!CN4=0,\"\"))","v":""},{"$f":"IF(データシート!CO4=1,\"○\",IF(データシート!CO4=0,\"\"))","v":""},{"$f":"IF(データシート!CP4=1,\"○\",IF(データシート!CP4=0,\"\"))","v":""},{"$f":"IF(データシート!CQ4=1,\"○\",IF(データシート!CQ4=0,\"\"))","v":""},{"$f":"IF(データシート!CR4=1,\"○\",IF(データシート!CR4=0,\"\"))","v":""},{"$f":"IF(データシート!CS4=1,\"○\",IF(データシート!CS4=0,\"\"))","v":""},{"$f":"IF(データシート!CT4=1,\"○\",IF(データシート!CT4=0,\"\"))","v":""},{"$f":"IF(データシート!CU4=1,\"○\",IF(データシート!CU4=0,\"\"))","v":""},{"$f":"IF(データシート!CV4=1,\"○\",IF(データシート!CV4=0,\"\"))","v":""},{"$f":"IF(データシート!CW4=1,\"○\",IF(データシート!CW4=0,\"\"))","v":""},{"$f":"IF(データシート!CX4=1,\"○\",IF(データシート!CX4=0,\"\"))","v":""},{"$f":"IF(データシート!CY4=1,\"○\",IF(データシート!CY4=0,\"\"))","v":""},{"$f":"IF(データシート!CZ4=1,\"○\",IF(データシート!CZ4=0,\"\"))","v":""},{"$f":"IF(データシート!DA4=1,\"○\",IF(データシート!DA4=0,\"\"))","v":""},{"$f":"IF(データシート!DB4=1,\"○\",IF(データシート!DB4=0,\"\"))","v":""},{"$f":"IF(データシート!DC4=1,\"○\",IF(データシート!DC4=0,\"\"))","v":""},{"$f":"IF(データシート!DD4=1,\"○\",IF(データシート!DD4=0,\"\"))","v":""},{"$f":"IF(データシート!DE4=1,\"○\",IF(データシート!DE4=0,\"\"))","v":""},{"$f":"IF(データシート!DF4=1,\"○\",IF(データシート!DF4=0,\"\"))","v":""},{"$f":"IF(データシート!DG4=1,\"○\",IF(データシート!DG4=0,\"\"))","v":""},{"$f":"IF(データシート!DH4=1,\"○\",IF(データシート!DH4=0,\"\"))","v":""},{"$f":"IF(データシート!DI4=1,\"○\",IF(データシート!DI4=0,\"\"))","v":""},{"$f":"IF(データシート!DJ4=1,\"○\",IF(データシート!DJ4=0,\"\"))","v":""},{"$f":"IF(データシート!DK4=1,\"○\",IF(データシート!DK4=0,\"\"))","v":""},{"$f":"IF(データシート!DL4=0,\"\",データシート!DL4)","v":""},{"$f":"IF(データシート!DM4=1,\"○\",IF(データシート!DM4=0,\"\"))","v":""},{"$f":"IF(データシート!DN4=1,\"○\",IF(データシート!DN4=0,\"\"))","v":""},{"$f":"IF(データシート!DO4=1,\"○\",IF(データシート!DO4=0,\"\"))","v":""},{"$f":"IF(データシート!DP4=1,\"○\",IF(データシート!DP4=0,\"\"))","v":""},{"$f":"IF(データシート!DQ4=1,\"○\",IF(データシート!DQ4=0,\"\"))","v":""},{"$f":"IF(データシート!DR4=1,\"○\",IF(データシート!DR4=0,\"\"))","v":""},{"$f":"IF(データシート!DS4=1,\"○\",IF(データシート!DS4=0,\"\"))","v":""},{"$f":"IF(データシート!DT4=1,\"○\",IF(データシート!DT4=0,\"\"))","v":""},{"$f":"IF(データシート!DU4=0,\"\",データシート!DU4)","v":""},{"$f":"IF(データシート!DV4=1,\"○\",IF(データシート!DV4=0,\"\"))","v":""},{"$f":"IF(データシート!DW4=1,\"○\",IF(データシート!DW4=0,\"\"))","v":""},{"$f":"IF(データシート!DX4=1,\"○\",IF(データシート!DX4=0,\"\"))","v":""},{"$f":"IF(データシート!DY4=1,\"○\",IF(データシート!DY4=0,\"\"))","v":""},{"$f":"IF(データシート!DZ4=1,\"○\",IF(データシート!DZ4=0,\"\"))","v":""},{"$f":"IF(データシート!EA4=1,\"○\",IF(データシート!EA4=0,\"\"))","v":""},{"$f":"IF(データシート!EB4=1,\"○\",IF(データシート!EB4=0,\"\"))","v":""},{"$f":"IF(データシート!EC4=1,\"○\",IF(データシート!EC4=0,\"\"))","v":""},{"$f":"IF(データシート!ED4=1,\"○\",IF(データシート!ED4=0,\"\"))","v":""},{"$f":"IF(データシート!EE4=0,\"\",データシート!EE4)","v":""},{"$f":"IF(データシート!EF4=1,\"○\",IF(データシート!EF4=0,\"\"))","v":""},{"$f":"IF(データシート!EG4=1,\"○\",IF(データシート!EG4=0,\"\"))","v":""},{"$f":"IF(データシート!EH4=1,\"○\",IF(データシート!EH4=0,\"\"))","v":""},{"$f":"IF(データシート!EI4=1,\"○\",IF(データシート!EI4=0,\"\"))","v":""},{"$f":"IF(データシート!EJ4=1,\"○\",IF(データシート!EJ4=0,\"\"))","v":""},{"$f":"IF(データシート!EK4=0,\"\",データシート!EK4)","v":""},{"$f":"IF(データシート!EL4=1,\"○\",IF(データシート!EL4=0,\"\"))","v":""},{"$f":"IF(データシート!EM4=1,\"○\",IF(データシート!EM4=0,\"\"))","v":""},{"$f":"IF(データシート!EN4=1,\"○\",IF(データシート!EN4=0,\"\"))","v":""},{"$f":"IF(データシート!EO4=1,\"○\",IF(データシート!EO4=0,\"\"))","v":""},{"$f":"IF(データシート!EP4=1,\"○\",IF(データシート!EP4=0,\"\"))","v":""},{"$f":"IF(データシート!EQ4=1,\"○\",IF(データシート!EQ4=0,\"\"))","v":""},{"$f":"IF(データシート!ER4=0,\"\",データシート!ER4)","v":""},{"$f":"IF(データシート!ES4=1,\"○\",IF(データシート!ES4=0,\"\"))","v":""},{"$f":"IF(データシート!ET4=1,\"○\",IF(データシート!ET4=0,\"\"))","v":""},{"$f":"IF(データシート!EU4=1,\"○\",IF(データシート!EU4=0,\"\"))","v":""},{"$f":"IF(データシート!EV4=1,\"○\",IF(データシート!EV4=0,\"\"))","v":""},{"$f":"IF(データシート!EW4=1,\"○\",IF(データシート!EW4=0,\"\"))","v":""},{"$f":"IF(データシート!EX4=1,\"○\",IF(データシート!EX4=0,\"\"))","v":""},{"$f":"IF(データシート!EY4=1,\"○\",IF(データシート!EY4=0,\"\"))","v":""},{"$f":"IF(データシート!EZ4=1,\"○\",IF(データシート!EZ4=0,\"\"))","v":""},{"$f":"IF(データシート!FA4=1,\"○\",IF(データシート!FA4=0,\"\"))","v":""},{"$f":"IF(データシート!FB4=1,\"○\",IF(データシート!FB4=0,\"\"))","v":""},{"$f":"IF(データシート!FC4=1,\"○\",IF(データシート!FC4=0,\"\"))","v":""},{"$f":"IF(データシート!FD4=1,\"○\",IF(データシート!FD4=0,\"\"))","v":""},{"$f":"IF(データシート!FE4=1,\"○\",IF(データシート!FE4=0,\"\"))","v":""},{"$f":"IF(データシート!FF4=0,\"\",データシート!FF4)","v":""},{"$f":"IF(データシート!FG4=1,\"○\",IF(データシート!FG4=0,\"\"))","v":""},{"$f":"IF(データシート!FH4=1,\"○\",IF(データシート!FH4=0,\"\"))","v":""},{"$f":"IF(データシート!FI4=1,\"○\",IF(データシート!FI4=0,\"\"))","v":""},{"$f":"IF(データシート!FJ4=1,\"○\",IF(データシート!FJ4=0,\"\"))","v":""},{"$f":"IF(データシート!FK4=1,\"○\",IF(データシート!FK4=0,\"\"))","v":""},{"$f":"IF(データシート!FL4=1,\"○\",IF(データシート!FL4=0,\"\"))","v":""},{"$f":"IF(データシート!FM4=1,\"○\",IF(データシート!FM4=0,\"\"))","v":""},{"$f":"IF(データシート!FN4=1,\"○\",IF(データシート!FN4=0,\"\"))","v":""},{"$f":"IF(データシート!FO4=1,\"○\",IF(データシート!FO4=0,\"\"))","v":""},{"$f":"IF(データシート!FP4=1,\"○\",IF(データシート!FP4=0,\"\"))","v":""},{"$f":"IF(データシート!FQ4=0,\"\",データシート!FQ4)","v":""},{"$f":"IF(データシート!AN4=\"無\",\"\",IF(データシート!AN4=\"有\",\"○\",\"\"))","v":""},{"$f":"IF(データシート!AO4=\"無\",\"\",IF(データシート!AO4=\"有\",\"○\",\"\"))","v":""},{"$f":"IF(データシート!AP4=\"無\",\"\",IF(データシート!AP4=\"有\",\"○\",\"\"))","v":""},{"$f":"IF(データシート!AQ4=\"無\",\"\",IF(データシート!AQ4=\"有\",\"○\",\"\"))","v":""},{"$f":"IF(データシート!AR4=\"無\",\"\",IF(データシート!AR4=\"有\",\"○\",\"\"))","v":""},{"$f":"IF(データシート!AS4=\"無\",\"\",IF(データシート!AS4=\"有\",\"○\",\"\"))","v":""},{"$f":"IF(データシート!AT4=\"無\",\"\",IF(データシート!AT4=\"有\",\"○\",\"\"))","v":""},{"$f":"IF(データシート!AU4=\"無\",\"\",IF(データシート!AU4=\"有\",\"○\",\"\"))","v":""},{"$f":"IF(データシート!AV4=\"無\",\"\",IF(データシート!AV4=\"有\",\"○\",\"\"))","v":""},{"$f":"IF(データシート!AW4=\"無\",\"\",IF(データシート!AW4=\"有\",\"○\",\"\"))","v":""},{"$f":"IF(データシート!FR4=\"無\",\"\",IF(データシート!FR4=\"有\",\"○\",\"\"))","v":""},{"$f":"IF(データシート!FS4=\"無\",\"\",IF(データシート!FS4=\"有\",\"○\",\"\"))","v":""},{"$f":"IF(データシート!FT4=\"無\",\"\",IF(データシート!FT4=\"有\",\"○\",\"\"))","v":""},{"$f":"IF(データシート!FU4=\"無\",\"\",IF(データシート!FU4=\"有\",\"○\",\"\"))","v":""},{"$f":"IF(データシート!FV4=\"無\",\"\",IF(データシート!FV4=\"有\",\"○\",\"\"))","v":""},{"$f":"IF(データシート!FW4=\"無\",\"\",IF(データシート!FW4=\"有\",\"○\",\"\"))","v":""},{"$f":"IF(データシート!FX4=\"無\",\"\",IF(データシート!FX4=\"有\",\"○\",\"\"))","v":""},{"$f":"IF(データシート!AB4=0,\"\",データシート!AB4)","v":""},{"$f":"IF(データシート!AC4=0,\"\",データシート!AC4)","v":""},{"$f":"IF(データシート!AD4=0,\"\",データシート!AD4)","v":""},{"$f":"IF(データシート!AE4=0,\"\",データシート!AE4)","v":""},{"$f":"IF(データシート!AF4=0,\"\",データシート!AF4)","v":""},{"$f":"IF(データシート!AG4=0,\"\",データシート!AG4)","v":""},{"$f":"IF(データシート!AH4=0,\"\",データシート!AH4)","v":""},{"$f":"IF(データシート!AI4=0,\"\",データシート!AI4)","v":""},{"$f":"IF(データシート!AJ4=0,\"\",データシート!AJ4)","v":""},{"$f":"IF(データシート!AK4=0,\"\",データシート!AK4)","v":""},{"$f":"IF(データシート!AL4=0,\"\",データシート!AL4)","v":""},{"$f":"IF(データシート!AM4=0,\"\",データシート!AM4)","v":""},{"$f":"IF(データシート!AX4=0,\"\",データシート!AX4)","v":""},{"$f":"IF(データシート!AY4=0,\"\",データシート!AY4)","v":""},{"$f":"IF(データシート!AZ4=0,\"\",データシート!AZ4)","v":""},{"$f":"IF(データシート!BA4=0,\"\",データシート!BA4)","v":""},{"$f":"IF(データシート!BB4=0,\"\",データシート!BB4)","v":""},{"$f":"IF(データシート!BC4=0,\"\",データシート!BC4)","v":""},{"$f":"IF(データシート!BD4=0,\"\",データシート!BD4)","v":""},{"$f":"IF(データシート!BE4=0,\"\",データシート!BE4)","v":""},{"$f":"IF(データシート!BF4=0,\"\",データシート!BF4)","v":""},{"$f":"IF(データシート!BG4=0,\"\",データシート!BG4)","v":""}]

{"sheet":"都道府県","index":12,"n_rows":47,"n_cols":3,"rows_kept":47,"cut":false,"hidden":true,"merged":[]}
[1,"北海道","ﾎｯｶｲﾄﾞｳ"]
[2,"青森県","ｱｵﾓﾘｹﾝ"]
[3,"岩手県","ｲﾜﾃｹﾝ"]
[4,"宮城県","ﾐﾔｷﾞｹﾝ"]
[5,"秋田県","ｱｷﾀｹﾝ"]
[6,"山形県","ﾔﾏｶﾞﾀｹﾝ"]
[7,"福島県","ﾌｸｼﾏｹﾝ"]
[8,"茨城県","ｲﾊﾞﾗｷｹﾝ"]
[9,"栃木県","ﾄﾁｷﾞｹﾝ"]
[10,"群馬県","ｸﾞﾝﾏｹﾝ"]
[11,"埼玉県","ｻｲﾀﾏｹﾝ"]
[12,"千葉県","ﾁﾊﾞｹﾝ"]
[13,"東京都","ﾄｳｷｮｳﾄ"]
[14,"神奈川県","ｶﾅｶﾞﾜｹﾝ"]
[15,"新潟県","ﾆｲｶﾞﾀｹﾝ"]
[16,"富山県","ﾄﾔﾏｹﾝ"]
[17,"石川県","ｲｼｶﾜｹﾝ"]
[18,"福井県","ﾌｸｲｹﾝ"]
[19,"山梨県","ﾔﾏﾅｼｹﾝ"]
[20,"長野県","ﾅｶﾞﾉｹﾝ"]
[21,"岐阜県","ｷﾞﾌｹﾝ"]
[22,"静岡県","ｼｽﾞｵｶｹﾝ"]
[23,"愛知県","ｱｲﾁｹﾝ"]
[24,"三重県","ﾐｴｹﾝ"]
[25,"滋賀県","ｼｶﾞｹﾝ"]
[26,"京都府","ｷｮｳﾄﾌ"]
[27,"大阪府","ｵｵｻｶﾌ"]
[28,"兵庫県","ﾋｮｳｺﾞｹﾝ"]
[29,"奈良県","ﾅﾗｹﾝ"]
[30,"和歌山県","ﾜｶﾔﾏｹﾝ"]
[31,"鳥取県","ﾄｯﾄﾘｹﾝ"]
[32,"島根県","ｼﾏﾈｹﾝ"]
[33,"岡山県","ｵｶﾔﾏｹﾝ"]
[34,"広島県","ﾋﾛｼﾏｹﾝ"]
[35,"山口県","ﾔﾏｸﾞﾁｹﾝ"]
[36,"徳島県","ﾄｸｼﾏｹﾝ"]
[37,"香川県","ｶｶﾞﾜｹﾝ"]
[38,"愛媛県","ｴﾋﾒｹﾝ"]
[39,"高知県","ｺｳﾁｹﾝ"]
[40,"福岡県","ﾌｸｵｶｹﾝ"]
[41,"佐賀県","ｻｶﾞｹﾝ"]
[42,"長崎県","ﾅｶﾞｻｷｹﾝ"]
[43,"熊本県","ｸﾏﾓﾄｹﾝ"]
[44,"大分県","ｵｵｲﾀｹﾝ"]
[45,"宮崎県","ﾐﾔｻﾞｷｹﾝ"]
[46,"鹿児島県","ｶｺﾞｼﾏｹﾝ"]
[47,"沖縄県","ｵｷﾅﾜｹﾝ"]