{"text_format":"1","workbook":"xlsx","n_sheets":14,"sheets":["入力シート１","入力シート２","印刷シート1","入力・印刷シート1(承認申請書)","入力・印刷シート2(経営規模総括表)","入力・印刷シート3(業態調書)","入力・印刷シート4(営業所一覧・技術者経歴書)","印刷シート２","誓約書","受理票","承認書","【組合使用】","データシート","都道府県"],"not_rendered":{"charts":0,"images":0,"macros":1,"external_links":0,"defined_names":11,"comments":3,"pivot_tables":0},"unopened":[],"bounds":{"document_bytes":16777216,"sheet_cells":100000,"rows_first":2000,"rows_last":500,"rows_between":2000,"halvings":0,"cell_chars":16384,"cell_head_chars":4096},"cells_cut":0,"cells_raw":0,"read":"whole","date_system":"1900"}

{"sheet":"入力シート１","index":0,"n_rows":108,"n_cols":8,"rows_kept":108,"cut":false,"hidden":false,"merged":[[60,2,61,2],[62,2,63,2],[26,0,40,0],[58,0,87,0],[49,2,49,3],[55,2,55,3],[56,2,56,3],[57,2,57,3],[49,0,57,0],[51,2,51,3],[52,2,52,3],[53,2,53,3],[54,2,54,3],[1,7,2,14],[3,7,4,14],[101,0,107,0],[66,2,67,2],[68,2,69,2],[64,2,65,2],[41,0,48,0],[41,2,42,2],[43,2,44,2],[45,2,46,2],[50,2,50,3],[94,2,98,2],[99,2,100,2],[5,2,5,3],[6,0,25,0],[58,2,59,2]]}
["入力シート1",null,null,null,null,"全ての入力が終わったらこのボタンを押すことでデスクトップに保存されます→",null,{"$f":"IF(【組合使用】!A5=\"\",\"\",CONCATENATE(【組合使用】!A5,\"･\"))&\"建設関連・\"&E7&\"・\"&SUBSTITUTE(SUBSTITUTE(ASC(E24),\"-\",\"\"),\"ｰ\",\"\")","v":"建設関連・・"}]
[null,"色のシートのところにデータを入力してください。",null,null,null,null,null,"↑ 作成するパソコンがセキュリティ等の理由によりマクロを有効にできないときは、\n　　上の表示内容どおりにこのファイルの名前を変更してください。"]
["「入力方法」欄に「入力」とある欄については、直接入力をしてください。"]
["「選択」とある欄については、カーソルを持っていくと下向き矢印が出るので、それをクリックし選択してください。",null,null,null,null,null,null,"↓　下のボタンは、仙南地域広域行政事務組合が使用しますので押さないでください。"]
[]
[null,"ｺｰﾄﾞ","記入項目",null,"データ入力欄","記入上の注意事項","入力\n方法"]
["本社（店）情報","2-1","商号","名称",null,"会社名を入力（例:株式会社□□□）","入力"]
[null,"2-2",null,"ﾌﾘｶﾞﾅ",null,"半角ｶﾀｶﾅで入力","入力"]
[null,"2-3","代表者","役職名",null,"役職名を入力（例:代表取締役）","入力"]
[null,"2-4",null,"氏名",null,"氏名を入力","入力"]
[null,"2-5",null,"氏名ﾌﾘｶﾞﾅ",null,"半角ｶﾀｶﾅで入力","入力"]
[null,"2-6","所在地","郵便番号",null,"数字７桁で入力（ハイフンは自動）","入力"]
[null,"2-7",null,"都道府県",null,"都道府県名を選択","選択"]
[null,"2-8",null,"都道府県ﾌﾘｶﾞﾅ",{"$f":"IF(E13=\"\",\"\",VLOOKUP(E13,都道府県!B:C,2,FALSE))","v":""},"自動入力"]
[null,"2-9",null,"市区・郡町村名",null,"市区名又は郡町村名を入力","入力"]
[null,"2-10",null,"市区・郡町村名ﾌﾘｶﾞﾅ",null,"半角ｶﾀｶﾅで入力","入力"]
[null,"2-11",null,"町名・番地・建物名",null,"市区町村名より後の住所を入力","入力"]
[null,"2-12",null,"所在地ﾌﾘｶﾞﾅ",null,"半角ｶﾀｶﾅで入力","入力"]
[null,"2-13","営業年数",null,null,"半角英数字で入力","入力"]
[null,"2-14","技術者数",null,null,"半角英数字で入力","入力"]
[null,"2-15","事務職員数",null,null,"半角英数字で入力","入力"]
[null,"2-16","その他の職員数",null,null,"半角英数字で入力","入力"]
[null,"2-17","総職員数",null,null,"半角英数字で入力","入力"]
[null,"2-18","電話番号(入札・契約関係担当部門)",null,null,"ハイフンつきで入力（例0224-52-1320）","入力"]
[null,"2-19","FAX番号(　　　　　同　　 上　　　　　)",null,null,"ハイフンつきで入力（例0224-52-2660）","入力"]
[null,"2-20","Eメールアドレス（　　　同　　上　　　）",null,null,"半角英数字で入力","入力"]
["受任者情報","3-1","受任者の有無",null,null,"有無を選択","選択"]
[null,"3-1","商号","支店・部署等",null,"支店・部署等を入力（例:大河原支店）","入力"]
[null,"3-2",null,"ﾌﾘｶﾞﾅ",null,"半角ｶﾀｶﾅで入力","入力"]
[null,"3-3","受任者名","役職名",null,"受任者の役職名を入力","入力"]
[null,"3-4",null,"氏名",null,"氏名を入力","入力"]
[null,"3-5",null,"ﾌﾘｶﾞﾅ",null,"半角ｶﾀｶﾅで入力","入力"]
[null,"3-6","所在地","郵便番号",null,"数字７桁で入力（ハイフンは自動）","入力"]
[null,"3-7",null,"都道府県",null,"都道府県名を選択","選択"]
[null,"3-8",null,"市区・郡町村名",null,"市区名又は郡町村名を入力","入力"]
[null,"3-9",null,"町名・番地・建物名",null,"市区町村名より後の住所を入力","入力"]
[null,"3-10","うち受任先職員数",null,null,"半角英数字で入力","入力"]
[null,"3-11","うち受任先技術者数",null,null,"半角英数字で入力","入力"]
[null,"3-12","電話番号(入札・契約関係担当部門)",null,null,"ハイフンつきで入力（例0224-52-1320）","入力"]
[null,"3-13","FAX番号(　　　　　同　　 上　　　　　)",null,null,"ハイフンつきで入力（例0224-52-2660）","入力"]
[null,"3-14","Eメールアドレス（　　　同　　上　　　）",null,null,"半角英数字で入力","入力"]
["自己資本金","4-1","払込資本金","直前決算時",null,"数字で入力、単位：千円","入力"]
[null,"4-2",null,"剰余（欠損）金処分",null,"数字で入力、単位：千円","入力"]
[null,"4-3","準備金・積立金等","直前決算時",null,"数字で入力、単位：千円","入力"]
[null,"4-4",null,"剰余（欠損）金処分",null,"数字で入力、単位：千円","入力"]
[null,"4-5","次期繰越利益\n（欠損）金","直前決算時",null,"数字で入力、単位：千円","入力"]
[null,"4-6",null,"剰余（欠損）金処分",null,"数字で入力、単位：千円","入力"]
[null,"4-7","流動資産",null,null,"数字で入力、直前決算分単位：千円","入力"]
[null,"4-8","流動負債",null,null,"数字で入力、直前決算分単位：千円","入力"]
["自己資本額等","4-1","株主資本",null,null,"数字で入力、単位：千円","入力"]
[null,"4-2","4-1のうち外国資本",null,null,"数字で入力、単位：千円","入力"]
[null,"4-3","評価・換算差額等",null,null,"数字で入力、単位：千円","入力"]
[null,"4-4","新株予約権",null,null,"数字で入力、単位：千円","入力"]
[null,"4-5","（損益計算書）税引前当期利益",null,null,"数字で入力、単位：千円","入力"]
[null,"4-6","（貸借対照表）流動資産",null,null,"数字で入力、単位：千円","入力"]
[null,"4-7","（貸借対照表）流動負債",null,null,"数字で入力、単位：千円","入力"]
[null,"4-8","（貸借対照表）固定資産",null,null,"数字で入力、単位：千円","入力"]
[null,"4-9","（貸借対照表）総資本額",null,null,"数字で入力、単位：千円","入力"]
["登録状況","5-1","測量","登録番号",null,"半角英数字で入力","入力"]
[null,"5-2",null,"登録年月日",null,"「H23.12.31」の形式で入力","入力"]
[null,"5-3","建設コンサルタント","登録番号",null,"半角英数字で入力","入力"]
[null,"5-4",null,"登録年月日",null,"「H23.12.31」の形式で入力","入力"]
[null,"5-5","地質調査","登録番号",null,"半角英数字で入力","入力"]
[null,"5-6",null,"登録年月日",null,"「H23.12.31」の形式で入力","入力"]
[null,"5-7","補償コンサルタント","登録番号",null,"半角英数字で入力","入力"]
[null,"5-8",null,"登録年月日",null,"「H23.12.31」の形式で入力","入力"]
[null,"5-9","建築設計","登録番号",null,"半角英数字で入力","入力"]
[null,"5-10",null,"登録年月日",null,"「H23.12.31」の形式で入力","入力"]
[null,"5-11","その他","登録番号",null,"半角英数字で入力","入力"]
[null,"5-12",null,"登録年月日",null,"「H23.12.31」の形式で入力","入力"]
[null,"5-1","測量業者","登録番号",null,"半角英数字で入力","入力"]
[null,"5-2",null,"登録年月日",null,"「R01.06.30」の形式で入力","入力"]
[null,"5-3","地質調査業者","登録番号",null,"半角英数字で入力","入力"]
[null,"5-4",null,"登録年月日",null,"「R01.06.30」の形式で入力","入力"]
[null,"5-5","土地家屋調査士","登録番号",null,"半角英数字で入力","入力"]
[null,"5-6",null,"登録年月日",null,"「R01.06.30」の形式で入力","入力"]
[null,"5-7","建築士事務所","登録番号",null,"半角英数字で入力","入力"]
[null,"5-8",null,"登録年月日",null,"「R01.06.30」の形式で入力","入力"]
[null,"5-9","補償ｺﾝｻﾙﾀﾝﾄ","登録番号",null,"半角英数字で入力","入力"]
[null,"5-10",null,"登録年月日",null,"「R01.06.30」の形式で入力","入力"]
[null,"5-11","司法書士","登録番号",null,"半角英数字で入力","入力"]
[null,"5-12",null,"登録年月日",null,"「R01.06.30」の形式で入力","入力"]
[null,"5-13","建設ｺﾝｻﾙﾀﾝﾄ","登録番号",null,"半角英数字で入力","入力"]
[null,"5-14",null,"登録年月日",null,"「R01.06.30」の形式で入力","入力"]
[null,"5-15","不動産鑑定業者","登録番号",null,"半角英数字で入力","入力"]
[null,"5-16",null,"登録年月日",null,"「R01.06.30」の形式で入力","入力"]
[null,"5-17","計量証明事業者","登録番号",null,"半角英数字で入力","入力"]
[null,"5-18",null,"登録年月日",null,"「R01.06.30」の形式で入力","入力"]
[null,"5-19","その他①","登録番号",null,"半角英数字で入力","入力"]
[null,"5-20",null,"登録年月日",null,"「R01.06.30」の形式で入力","入力"]
[null,"5-21","その他②","登録番号",null,"半角英数字で入力","入力"]
[null,"5-22",null,"登録年月日",null,"「R01.06.30」の形式で入力","入力"]
[null,"5-23","その他③","登録番号",null,"半角英数字で入力","入力"]
[null,"5-24",null,"登録年月日",null,"「R01.06.30」の形式で入力","入力"]
[null,null,"計量証明","振動",null,"有無を選択","選択"]
[null,null,null,"音圧",null,"有無を選択","選択"]
[null,null,null,"濃度",null,"有無を選択","選択"]
[null,null,null,"特定濃度",null,"有無を選択","選択"]
[null,null,null,"MLAP",null,"有無を選択","選択"]
[null,null,"環境調査","作業環境測定",null,"有無を選択","選択"]
[null,null,null,"土壌汚染状況調査",null,"有無を選択","選択"]
["担当者","6-1","入札参加資格","申請担当部署、事務所名",null,"この申請に係る担当部署、事務所等の名称を入力","入力"]
[null,"6-2","承認申請関係","申請担当者氏名",null,"この申請に係る担当者氏名を入力","入力"]
[null,"6-3","連絡先","ﾌﾘｶﾞﾅ",null,"氏名のフリガナを半角ｶﾀｶﾅで入力","入力"]
[null,"6-4",null,"電話番号",null,"ハイフンつきで入力（例:0224-53-2111）","入力"]
[null,"6-5",null,"電話番号（内線番号）",null,"半角数字で入力","入力"]
[null,"6-6",null,"FAX番号",null,"ハイフンつきで入力（例:0224-53-2112）","入力"]
[null,"6-7",null,"Eメールアドレス",null,"半角英数字で入力","入力"]

{"sheet":"入力シート２","index":1,"n_rows":67,"n_cols":80,"rows_kept":67,"cut":false,"hidden":false,"merged":[[55,13,55,14],[49,9,49,10],[50,4,50,8],[55,4,55,8],[59,4,59,8],[59,11,59,12],[58,4,58,8],[47,4,47,8],[47,9,47,10],[48,4,48,8],[48,9,48,10],[49,4,49,8],[57,9,57,10],[54,9,54,10],[57,11,57,12],[58,9,58,10],[58,11,58,12],[54,4,54,8],[64,0,66,0],[64,1,66,3],[64,9,66,10],[65,11,65,12],[66,4,66,8],[66,11,66,12],[57,4,57,8],[59,9,59,10],[61,4,61,8],[61,9,61,10],[61,11,61,12],[66,13,66,14],[60,4,60,8],[44,9,44,10],[53,9,53,10],[52,4,52,8],[52,9,52,10],[54,11,54,12],[58,13,58,14],[56,4,56,8],[62,4,62,8],[60,9,60,10],[62,11,62,12],[60,11,60,12],[65,13,65,14],[65,4,65,8],[64,11,64,12],[62,13,62,14],[62,9,62,10],[64,13,64,14],[64,4,64,8],[61,13,61,14],[59,13,59,14],[57,13,57,14],[60,13,60,14],[4,0,5,3],[54,1,54,3],[4,4,4,14],[4,17,5,19],[5,4,5,8],[5,9,5,10],[5,11,5,12],[5,13,5,14],[6,13,6,14],[8,4,8,8],[6,0,8,0],[6,1,8,3],[28,13,28,14],[38,4,38,8],[32,13,32,14],[33,4,33,8],[33,13,33,14],[35,13,35,14],[6,9,6,10],[6,4,6,8],[26,4,26,8],[30,4,30,8],[30,13,30,14],[31,13,31,14],[32,4,32,8],[8,13,8,14],[24,4,24,8],[24,13,24,14],[25,13,25,14],[26,13,26,14],[27,13,27,14],[25,4,25,8],[11,4,11,8],[12,4,12,8],[13,4,13,8],[16,4,16,8],[15,13,15,14],[18,9,18,10],[19,9,19,10],[20,9,20,10],[21,9,21,10],[28,4,28,8],[29,4,29,8],[13,13,13,14],[23,4,23,8],[27,4,27,8],[31,4,31,8],[24,11,24,12],[33,9,33,10],[34,9,34,10],[32,11,32,12],[33,11,33,12],[56,13,56,14],[56,9,56,10],[56,11,56,12],[55,9,55,10],[55,11,55,12],[39,9,39,10],[40,9,40,10],[41,9,41,10],[54,13,54,14],[44,11,44,12],[44,13,44,14],[46,13,46,14],[47,13,47,14],[48,13,48,14],[49,13,49,14],[50,9,50,10],[52,13,52,14],[43,13,43,14],[45,13,45,14],[42,13,42,14],[41,4,41,8],[34,11,34,12],[34,13,34,14],[34,4,34,8],[39,4,39,8],[53,4,53,8],[43,9,43,10],[46,4,46,8],[46,9,46,10],[42,11,42,12],[43,11,43,12],[42,4,42,8],[43,4,43,8],[45,9,45,10],[42,9,42,10],[40,4,40,8],[35,9,35,10],[36,9,36,10],[37,9,37,10],[38,9,38,10],[44,4,44,8],[45,4,45,8],[54,15,54,16],[29,15,29,16],[30,15,30,16],[31,15,31,16],[32,15,32,16],[33,15,33,16],[35,15,35,16],[36,15,36,16],[37,15,37,16],[42,15,42,16],[34,15,34,16],[4,15,5,16],[6,15,6,16],[8,15,8,16],[24,15,24,16],[25,15,25,16],[26,15,26,16],[21,15,21,16],[16,15,16,16],[14,15,14,16],[20,15,20,16],[19,15,19,16],[18,15,18,16],[23,15,23,16],[22,15,22,16],[11,15,11,16],[12,15,12,16],[15,15,15,16],[13,15,13,16],[66,15,66,16],[58,15,58,16],[55,15,55,16],[56,15,56,16],[57,15,57,16],[59,15,59,16],[60,15,60,16],[61,15,61,16],[62,15,62,16],[64,15,64,16],[65,15,65,16],[7,4,7,8],[7,9,7,10],[7,13,7,14],[7,15,7,16],[9,4,9,8],[10,4,10,8],[9,15,9,16],[8,9,8,10],[6,11,8,12],[9,9,9,10],[10,15,10,16],[9,0,23,0],[9,13,9,14],[10,13,10,14],[23,13,23,14],[22,13,22,14],[18,4,18,8],[19,4,19,8],[20,4,20,8],[21,4,21,8],[22,4,22,8],[14,9,14,10],[15,9,15,10],[16,9,16,10],[17,9,17,10],[10,9,10,10],[11,9,11,10],[12,9,12,10],[13,9,13,10],[14,4,14,8],[15,4,15,8],[17,4,17,8],[9,1,23,3],[11,13,11,14],[12,13,12,14],[25,11,25,12],[26,11,26,12],[27,11,27,12],[28,11,28,12],[21,13,21,14],[20,13,20,14],[19,13,19,14],[18,13,18,14],[27,15,27,16],[28,15,28,16],[29,9,29,10],[30,9,30,10],[6,17,8,19],[9,17,23,19],[24,17,53,19],[14,13,14,14],[17,13,17,14],[17,15,17,16],[16,13,16,14],[36,13,36,14],[38,13,38,14],[39,13,39,14],[29,11,29,12],[30,11,30,12],[28,9,28,10],[43,15,43,16],[45,15,45,16],[46,15,46,16],[47,15,47,16],[39,15,39,16],[40,15,40,16],[40,13,40,14],[41,13,41,14],[32,9,32,10],[55,17,63,19],[64,17,66,19],[24,0,53,0],[9,11,23,12],[45,11,53,12],[63,4,63,8],[63,9,63,10],[63,11,63,12],[63,13,63,14],[63,15,63,16],[29,13,29,14],[35,11,35,12],[36,11,36,12],[37,11,37,12],[41,15,41,16],[44,15,44,16],[31,11,31,12],[49,15,49,16],[54,17,54,19],[38,11,38,12],[39,11,39,12],[40,11,40,12],[41,11,41,12],[37,13,37,14],[31,9,31,10],[22,9,22,10],[55,1,63,3],[55,0,63,0],[53,13,53,14],[53,15,53,16],[24,1,53,3],[50,13,50,14],[50,15,50,16],[51,4,51,8],[51,9,51,10],[51,13,51,14],[51,15,51,16],[52,15,52,16],[38,15,38,16],[48,15,48,16],[35,4,35,8],[36,4,36,8],[37,4,37,8],[23,9,23,10],[25,9,25,10],[26,9,26,10],[27,9,27,10],[24,9,24,10]]}
["入力シート2",null,null,null,null,null,null,null,null,null,null,null,null,null,null,null,null,null,null,null,null,"本"]
[null,"色のシートのところにデータを入力してください。",null,null,null,null,null,null,null,null,null,null,null,null,null,null,null,null,null,null,null,"受"]
["[登録業種]［希望業種］で該当するものには必ず「1」を入力してください。"]
["本店の場合は「本」を、受任機関は「受」を入力して下さい。"]
["区分",null,null,null,"コンサルタント登録部門",null,null,null,null,null,null,null,null,null,null,"本・受",null,"備考",null,null,null,null,null,null,null,null,null,null,null,null,null,null,null,null,null,null,null,null,null,null,null,null,null,null,null,null,null,null,null,null,null,null,null,null,null,null,null,null,null,null,null,null,null,null,null,null,null,null,null,null,null,null,null,null,null,null,null,null,null,{"$f":"入力シート２!L25:O25","v":{"$error":"#VALUE!"}}]
[null,null,null,null,"区分",null,null,null,null,"整理番号",null,"登録業種",null,"希望業種"]
["①","測量",null,null,"測量一般",null,null,null,null,2101]
[null,null,null,null,"地図の調整",null,null,null,null,2102]
[null,null,null,null,"航空測量",null,null,null,null,2103]
["②","建築関係建設\nコンサルタント\n業務",null,null,"建築一般",null,null,null,null,2201]
[null,null,null,null,"意匠",null,null,null,null,2202]
[null,null,null,null,"構造",null,null,null,null,2203]
[null,null,null,null,"暖冷房",null,null,null,null,2204]
[null,null,null,null,"衛生",null,null,null,null,2205]
[null,null,null,null,"電気",null,null,null,null,2206]
[null,null,null,null,"建築積算",null,null,null,null,2207]
[null,null,null,null,"機械積算",null,null,null,null,2208]
[null,null,null,null,"電気積算",null,null,null,null,2209]
[null,null,null,null,"工事監理（建築）",null,null,null,null,2210]
[null,null,null,null,"工事監理（電気）",null,null,null,null,2211]
[null,null,null,null,"工事監理（機械）",null,null,null,null,2212]
[null,null,null,null,"調査",null,null,null,null,2213]
[null,null,null,null,"耐震診断",null,null,null,null,2214]
[null,null,null,null,"地区計画及び地域計画",null,null,null,null,2215]
["③","土木関係建設\nコンサルタント\n業務",null,null,"河川、砂防及び海岸・海洋",null,null,null,null,2301]
[null,null,null,null,"港湾及び空港",null,null,null,null,2302]
[null,null,null,null,"電力土木",null,null,null,null,2303]
[null,null,null,null,"道路",null,null,null,null,2304]
[null,null,null,null,"鉄道",null,null,null,null,2305]
[null,null,null,null,"上水道及び工業用水道",null,null,null,null,2306]
[null,null,null,null,"下水道",null,null,null,null,2307]
[null,null,null,null,"農業土木",null,null,null,null,2308]
[null,null,null,null,"森林土木",null,null,null,null,2309]
[null,null,null,null,"水産土木",null,null,null,null,2310]
[null,null,null,null,"廃棄物",null,null,null,null,2311]
[null,null,null,null,"造園",null,null,null,null,2312]
[null,null,null,null,"都市計画及び地方計画",null,null,null,null,2313]
[null,null,null,null,"地質",null,null,null,null,2314]
[null,null,null,null,"土質及び基礎",null,null,null,null,2315]
[null,null,null,null,"鋼構造及びコンクリート",null,null,null,null,2316]
[null,null,null,null,"トンネル",null,null,null,null,2317]
[null,null,null,null,"施工計画・施工設備及び積算",null,null,null,null,2318]
[null,null,null,null,"建設環境",null,null,null,null,2319]
[null,null,null,null,"機械",null,null,null,null,2320]
[null,null,null,null,"電気電子",null,null,null,null,2321]
[null,null,null,null,"交通量調査",null,null,null,null,2322]
[null,null,null,null,"環境調査",null,null,null,null,2323]
[null,null,null,null,"経済調査",null,null,null,null,2324]
[null,null,null,null,"分析・解析",null,null,null,null,2325]
[null,null,null,null,"宅地造成",null,null,null,null,2326]
[null,null,null,null,"電算関係",null,null,null,null,2327]
[null,null,null,null,"計算業務",null,null,null,null,2328]
[null,null,null,null,"資料等整理",null,null,null,null,2329]
[null,null,null,null,"施工監理",null,null,null,null,2330]
["④","地質調査業務",null,null,null,null,null,null,null,2401]
["⑤","補償関係\nコンサルタント\n業務",null,null,"土地調査",null,null,null,null,2501]
[null,null,null,null,"土地評価",null,null,null,null,2502]
[null,null,null,null,"物件",null,null,null,null,2503]
[null,null,null,null,"機械工作物",null,null,null,null,2504]
[null,null,null,null,"営業補償・特殊補償",null,null,null,null,2505]
[null,null,null,null,"事業損失",null,null,null,null,2506]
[null,null,null,null,"補償関連",null,null,null,null,2507]
[null,null,null,null,"総合補償",null,null,null,null,2508]
[null,null,null,null,"不動産鑑定",null,null,null,null,2509]
["⑥","その他",null,null,{"$f":"入力シート１!C90","v":0}]
[null,null,null,null,{"$f":"入力シート１!C92","v":0}]
[null,null,null,null,{"$f":"入力シート１!C94","v":0}]

{"sheet":"印刷シート1","index":2,"n_rows":124,"n_cols":29,"rows_kept":124,"cut":false,"hidden":false,"merged":[[70,28,71,30],[72,28,101,30],[46,26,46,27],[48,26,48,27],[49,26,49,27],[79,26,79,27],[73,22,73,23],[48,22,48,23],[39,4,53,6],[41,17,41,21],[39,17,39,21],[42,17,42,21],[48,17,48,21],[94,22,94,23],[93,22,93,23],[40,17,40,21],[39,22,39,23],[40,22,40,23],[72,17,72,21],[49,22,49,23],[50,22,50,23],[51,22,51,23],[52,22,52,23],[72,24,72,25],[32,0,32,12],[32,13,32,14],[35,17,35,21],[37,22,37,23],[36,22,36,23],[70,17,70,27],[71,17,71,21],[71,22,71,23],[71,24,71,25],[71,26,71,27],[53,22,53,23],[39,0,53,0],[34,4,35,6],[34,7,35,9],[34,10,35,11],[35,22,35,23],[43,17,43,21],[46,17,46,21],[36,17,36,21],[36,4,38,6],[38,7,38,9],[38,10,38,11],[38,12,38,14],[38,15,38,16],[36,24,38,25],[38,26,38,27],[39,26,39,27],[40,26,40,27],[41,26,41,27],[72,22,72,23],[38,22,38,23],[37,26,37,27],[43,22,43,23],[44,22,44,23],[41,22,41,23],[42,22,42,23],[47,22,47,23],[45,22,45,23],[46,22,46,23],[15,25,15,26],[16,17,16,20],[16,21,16,24],[16,25,16,26],[35,24,35,25],[29,25,29,27],[29,22,29,24],[18,28,19,30],[20,28,21,30],[29,28,29,30],[22,28,23,30],[24,28,25,30],[18,22,19,24],[18,25,19,27],[20,22,21,24],[20,25,21,27],[22,22,23,24],[22,25,23,27],[24,22,25,24],[24,25,25,27],[35,26,35,27],[26,22,27,24],[26,25,27,27],[26,28,27,30],[36,28,38,30],[39,28,53,30],[49,17,49,21],[50,17,50,21],[51,17,51,21],[13,0,13,3],[15,0,15,3],[13,4,13,7],[15,4,15,7],[44,17,44,21],[45,17,45,21],[38,17,38,21],[36,7,37,9],[36,10,37,11],[36,12,37,14],[36,15,37,16],[36,0,38,0],[36,1,38,3],[16,8,16,9],[15,17,15,20],[15,21,15,24],[18,14,19,16],[34,28,35,30],[34,0,35,3],[13,8,13,9],[15,8,15,9],[16,4,16,7],[29,0,30,4],[30,8,30,21],[29,5,29,7],[20,11,21,13],[16,0,16,3],[18,0,19,2],[20,0,21,2],[22,0,23,2],[24,0,25,2],[24,11,25,13],[24,14,25,16],[24,17,25,19],[20,3,21,5],[22,3,23,5],[22,11,23,13],[22,14,23,16],[22,17,23,19],[26,0,27,2],[18,3,19,5],[24,3,25,5],[18,6,19,8],[6,10,6,13],[4,0,4,2],[0,22,0,25],[0,26,0,30],[3,17,3,19],[3,20,3,30],[4,17,4,19],[4,20,4,30],[5,22,6,24],[5,27,5,30],[6,25,6,26],[6,27,6,30],[5,25,5,26],[7,17,8,19],[7,21,7,23],[8,20,8,30],[2,0,2,13],[0,13,0,14],[11,0,11,2],[10,0,10,2],[9,0,9,2],[8,3,8,13],[7,0,8,2],[7,4,7,6],[5,3,6,4],[3,0,3,2],[3,3,3,13],[5,8,5,9],[6,8,6,9],[5,5,6,7],[5,17,6,19],[5,20,6,21],[0,0,0,12],[2,17,2,30],[5,0,6,2],[4,3,4,13],[5,10,5,13],[106,4,107,6],[106,10,107,11],[106,12,107,14],[11,20,11,30],[11,17,11,19],[10,17,10,19],[10,3,10,13],[9,17,9,19],[9,3,9,13],[11,3,11,13],[9,20,9,30],[10,20,10,30],[93,17,93,21],[29,8,29,11],[29,12,29,14],[29,15,29,18],[34,17,34,27],[34,15,35,16],[34,12,35,14],[36,26,36,27],[52,17,52,21],[53,17,53,21],[20,14,21,16],[20,17,21,19],[112,0,120,0],[112,1,120,3],[114,7,115,9],[114,10,115,11],[114,12,115,14],[114,15,115,16],[120,17,120,21],[116,15,117,16],[108,7,109,9],[108,0,111,0],[108,1,111,3],[108,4,111,6],[110,7,111,9],[110,10,111,11],[110,12,111,14],[112,4,120,6],[116,7,117,9],[116,10,117,11],[112,7,113,9],[112,10,113,11],[112,12,113,14],[112,15,113,16],[116,12,117,14],[118,17,118,21],[118,7,120,9],[118,10,120,11],[118,12,120,14],[118,15,120,16],[73,24,73,25],[74,24,74,25],[74,22,74,23],[106,17,106,27],[107,17,107,21],[120,26,120,27],[120,22,120,23],[119,17,119,21],[119,22,119,23],[119,24,119,25],[119,26,119,27],[113,26,113,27],[115,26,115,27],[116,26,116,27],[106,15,107,16],[106,7,107,9],[104,0,104,12],[104,13,104,14],[106,0,107,3],[118,24,118,25],[114,26,114,27],[118,26,118,27],[106,28,107,30],[112,28,120,30],[118,22,118,23],[117,22,117,23],[116,24,116,25],[120,24,120,25],[113,24,113,25],[112,26,112,27],[117,26,117,27],[112,22,112,23],[108,28,111,30],[108,26,111,27],[108,24,111,25],[115,22,115,23],[114,22,114,23],[108,22,111,23],[117,24,117,25],[114,24,114,25],[115,24,115,25],[113,22,113,23],[112,24,112,25],[115,17,115,21],[116,17,116,21],[117,17,117,21],[116,22,116,23],[113,17,113,21],[114,17,114,21],[83,24,83,25],[86,24,86,25],[85,24,85,25],[96,22,96,23],[95,22,95,23],[95,17,95,21],[89,22,89,23],[90,22,90,23],[91,22,91,23],[97,22,97,23],[88,22,88,23],[92,22,92,23],[93,26,93,27],[98,22,98,23],[99,22,99,23],[100,17,100,21],[101,17,101,21],[100,22,100,23],[112,17,112,21],[107,26,107,27],[94,26,94,27],[101,22,101,23],[99,17,99,21],[100,26,100,27],[101,26,101,27],[98,17,98,21],[96,26,96,27],[97,26,97,27],[99,26,99,27],[96,17,96,21],[97,17,97,21],[98,26,98,27],[107,22,107,23],[107,24,107,25],[93,24,101,25],[108,17,111,21],[41,10,42,11],[43,7,44,9],[70,4,71,6],[70,7,71,9],[70,10,71,11],[68,0,68,12],[70,12,71,14],[72,4,101,6],[82,10,83,11],[84,10,85,11],[86,10,87,11],[88,10,89,11],[45,7,46,9],[43,10,44,11],[45,10,46,11],[47,7,53,9],[47,10,53,11],[72,7,73,9],[74,10,75,11],[84,7,85,9],[72,0,101,0],[80,7,81,9],[80,10,81,11],[82,7,83,9],[77,17,77,21],[80,15,81,16],[78,10,79,11],[84,12,85,14],[90,7,101,9],[88,7,89,9],[83,17,83,21],[90,10,101,11],[94,17,94,21],[88,17,88,21],[89,17,89,21],[90,17,90,21],[86,15,87,16],[92,17,92,21],[88,12,89,14],[90,12,101,14],[91,17,91,21],[18,11,19,13],[18,17,19,19],[39,12,40,14],[39,15,40,16],[41,12,42,14],[41,15,42,16],[37,17,37,21],[43,15,53,16],[68,13,68,14],[43,12,53,14],[54,0,65,30],[30,5,30,7],[29,19,29,21],[20,6,21,8],[22,6,23,8],[26,3,27,5],[26,6,27,8],[26,11,27,13],[26,14,27,16],[26,17,27,19],[24,6,25,8],[39,1,53,3],[39,7,40,9],[41,7,42,9],[39,10,40,11],[78,24,78,25],[79,24,79,25],[72,10,73,11],[42,26,42,27],[39,24,53,25],[43,26,43,27],[44,26,44,27],[45,26,45,27],[78,26,78,27],[47,26,47,27],[52,26,52,27],[53,26,53,27],[50,26,50,27],[51,26,51,27],[76,24,76,25],[77,24,77,25],[76,26,76,27],[77,26,77,27],[72,26,72,27],[73,26,73,27],[74,26,74,27],[75,24,75,25],[75,26,75,27],[74,12,75,14],[70,15,71,16],[72,15,73,16],[86,22,86,23],[87,22,87,23],[77,22,77,23],[78,22,78,23],[74,15,75,16],[86,12,87,14],[75,17,75,21],[76,22,76,23],[78,17,78,21],[79,17,79,21],[80,17,80,21],[81,17,81,21],[75,22,75,23],[78,12,79,14],[78,15,79,16],[80,12,81,14],[80,22,80,23],[81,22,81,23],[79,22,79,23],[82,12,83,14],[76,17,76,21],[95,26,95,27],[82,15,83,16],[82,22,82,23],[83,22,83,23],[84,22,84,23],[85,22,85,23],[86,17,86,21],[87,17,87,21],[85,17,85,21],[84,17,84,21],[91,24,91,25],[88,15,89,16],[90,15,101,16],[84,15,85,16],[82,17,82,21],[91,26,91,27],[92,24,92,25],[92,26,92,27],[88,24,88,25],[89,24,89,25],[89,26,89,27],[85,26,85,27],[86,26,86,27],[87,24,87,25],[121,7,123,9],[121,10,123,11],[121,12,123,14],[121,15,123,16],[121,0,123,0],[121,1,123,3],[121,4,123,6],[47,17,47,21],[73,17,73,21],[74,17,74,21],[108,10,109,11],[108,12,109,14],[108,15,109,16],[110,15,111,16],[72,1,101,3],[70,0,71,3],[86,7,87,9],[74,7,75,9],[72,12,73,14],[76,7,77,9],[76,10,77,11],[78,7,79,9],[76,12,77,14],[76,15,77,16],[80,26,80,27],[81,26,81,27],[82,26,82,27],[83,26,83,27],[84,26,84,27],[81,24,81,25],[82,24,82,25],[90,24,90,25],[90,26,90,27],[87,26,87,27],[88,26,88,27],[80,24,80,25],[84,24,84,25],[121,17,121,21],[121,22,121,23],[121,24,121,25],[122,17,122,21],[122,22,122,23],[122,24,122,25],[123,17,123,21],[121,28,123,30],[121,26,121,27],[122,26,122,27],[123,22,123,23],[123,24,123,25],[123,26,123,27]]}
["申請者カード（建設関連業務用）",null,null,null,null,null,null,null,null,null,null,null,null,"1/4枚目",null,null,null,null,null,null,null,null,"受付番号"]
[]
["申請者（本店等）",null,null,null,null,null,null,null,null,null,null,null,null,null,null,null,null,"代理人（受任者）"]
["フリガナ",null,null,{"$f":"入力シート１!E8","v":0},null,null,null,null,null,null,null,null,null,null,null,null,null,"フリガナ",null,null,{"$f":"入力シート１!E29","v":0}]
["商号又は名称",null,null,{"$f":"入力シート１!E7","v":0},null,null,null,null,null,null,null,null,null,null,null,null,null,"商号又は名称",null,null,{"$f":"入力シート１!E28","v":0}]
["代表者",null,null,"役職名",null,{"$f":"入力シート１!E9","v":0},null,null,"フリガナ",null,{"$f":"入力シート１!E11","v":0},null,null,null,null,null,null,"代表者",null,null,"役職名",null,{"$f":"入力シート１!E30","v":0},null,null,"フリガナ",null,{"$f":"入力シート１!E32","v":0}]
[null,null,null,null,null,null,null,null,"氏名",null,{"$f":"入力シート１!E10","v":0},null,null,null,null,null,null,null,null,null,null,null,null,null,null,"氏名",null,{"$f":"入力シート１!E31","v":0}]
["所在地",null,null,"〒",{"$f":"入力シート１!E12","v":0},null,null,null,null,null,null,null,null,null,null,null,null,"所在地",null,null,"〒",{"$f":"入力シート１!E33","v":0}]
[null,null,null,{"$f":"CONCATENATE(入力シート１!E13,入力シート１!E15,入力シート１!E17)","v":""},null,null,null,null,null,null,null,null,null,null,null,null,null,null,null,null,{"$f":"CONCATENATE(入力シート１!E34,入力シート１!E35,入力シート１!E36)","v":""}]
["電話番号",null,null,{"$f":"入力シート１!E24","v":0},null,null,null,null,null,null,null,null,null,null,null,null,null,"電話番号",null,null,{"$f":"入力シート１!E39","v":0}]
["FAX番号",null,null,{"$f":"入力シート１!E25","v":0},null,null,null,null,null,null,null,null,null,null,null,null,null,"FAX番号",null,null,{"$f":"入力シート１!E40","v":0}]
["Eメール",null,null,{"$f":"入力シート１!E26","v":0},null,null,null,null,null,null,null,null,null,null,null,null,null,"Eメール",null,null,{"$f":"入力シート１!E41","v":0}]
[]
["営業年数",null,null,null,{"$f":"入力シート１!E19","v":0},null,null,null,"年"]
[]
["職員数",null,null,null,{"$f":"入力シート１!E23","v":0},null,null,null,"名",null,null,null,null,null,null,null,null,"うち受任先職員数",null,null,null,{"$f":"入力シート１!E37","v":0},null,null,null,"名"]
["技術者数",null,null,null,{"$f":"入力シート１!E20","v":0},null,null,null,"名",null,null,null,null,null,null,null,null,"うち受任先技術者数",null,null,null,{"$f":"入力シート１!E38","v":0},null,null,null,"名"]
[]
["登録業務名　",null,null,"登録番号",null,null,"登録年月日　",null,null,null,null,"登録業務名　",null,null,"登録番号",null,null,"登録年月日　",null,null,null,null,"登録業務名　",null,null,"登録番号",null,null,"登録年月日　"]
[]
["測量",null,null,{"$f":"CONCATENATE(\"第\",IF(入力シート１!E71=\"\",\" 　　\",入力シート１!E71),\"号\")","v":"第 　　号"},null,null,{"$f":"入力シート１!E72","v":"00:00:00"},null,null,null,null,"建築士事務所",null,null,{"$f":"CONCATENATE(\"第\",IF(入力シート１!E77=\"\",\" 　　\",入力シート１!E77),\"号\")","v":"第 　　号"},null,null,{"$f":"入力シート１!E78","v":"00:00:00"},null,null,null,null,"建設ｺﾝｻﾙﾀﾝﾄ",null,null,{"$f":"CONCATENATE(\"第\",IF(入力シート１!E83=\"\",\" 　　\",入力シート１!E83),\"号\")","v":"第 　　号"},null,null,{"$f":"入力シート１!E84","v":"00:00:00"}]
[]
["地質調査",null,null,{"$f":"CONCATENATE(\"第\",IF(入力シート１!E73=\"\",\" 　　\",入力シート１!E73),\"号\")","v":"第 　　号"},null,null,{"$f":"入力シート１!E74","v":"00:00:00"},null,null,null,null,"補償ｺﾝｻﾙﾀﾝﾄ",null,null,{"$f":"CONCATENATE(\"第\",IF(入力シート１!E79=\"\",\" 　　\",入力シート１!E79),\"号\")","v":"第 　　号"},null,null,{"$f":"入力シート１!E80","v":"00:00:00"},null,null,null,null,"不動産鑑定業者",null,null,{"$f":"CONCATENATE(\"第\",IF(入力シート１!E85=\"\",\" 　　\",入力シート１!E85),\"号\")","v":"第 　　号"},null,null,{"$f":"入力シート１!E86","v":"00:00:00"}]
[]
["土地家屋調査士",null,null,{"$f":"CONCATENATE(\"第\",IF(入力シート１!E75=\"\",\" 　　\",入力シート１!E75),\"号\")","v":"第 　　号"},null,null,{"$f":"入力シート１!E76","v":"00:00:00"},null,null,null,null,"司法書士",null,null,{"$f":"CONCATENATE(\"第\",IF(入力シート１!E81=\"\",\" 　　\",入力シート１!E81),\"号\")","v":"第 　　号"},null,null,{"$f":"入力シート１!E82","v":"00:00:00"},null,null,null,null,"計量証明事業者",null,null,{"$f":"CONCATENATE(\"第\",IF(入力シート１!E87=\"\",\" 　　\",入力シート１!E87),\"号\")","v":"第 　　号"},null,null,{"$f":"入力シート１!E88","v":"00:00:00"}]
[]
[{"$f":"入力シート１!C90","v":0},null,null,{"$f":"CONCATENATE(\"第\",IF(入力シート１!E89=\"\",\" 　　\",入力シート１!E89),\"号\")","v":"第 　　号"},null,null,{"$f":"入力シート１!E90","v":"00:00:00"},null,null,null,null,{"$f":"入力シート１!C92","v":0},null,null,{"$f":"CONCATENATE(\"第\",IF(入力シート１!E91=\"\",\" 　　\",入力シート１!E91),\"号\")","v":"第 　　号"},null,null,{"$f":"入力シート１!E92","v":"00:00:00"},null,null,null,null,{"$f":"入力シート１!C94","v":0},null,null,{"$f":"CONCATENATE(\"第\",IF(入力シート１!E93=\"\",\" 　　\",入力シート１!E93),\"号\")","v":"第 　　号"},null,null,{"$f":"入力シート１!E94","v":"00:00:00"}]
[]
[]
["競争入札参加資格\n申請に関する連絡先",null,null,null,null,"部署名",null,null,{"$f":"入力シート１!E102","v":0},null,null,null,"担当者氏名",null,null,{"$f":"入力シート１!E103","v":0},null,null,null,"電話番号",null,null,{"$f":"入力シート１!E105","v":0},null,null,"FAX番号",null,null,{"$f":"入力シート１!E107","v":0}]
[null,null,null,null,null,"Eメール",null,null,{"$f":"入力シート１!E108","v":0}]
[]
["申請者カード（建設関連業務用）",null,null,null,null,null,null,null,null,null,null,null,null,"2/4枚目"]
[]
["区分",null,null,null,"直前２年\n平均実績\n（千円）",null,null,null,null,null,"人数",null,null,null,null,"人数",null,"コンサルタント登録部門",null,null,null,null,null,null,null,null,null,null,"備考"]
[null,null,null,null,null,null,null,null,null,null,null,null,null,null,null,null,null,"区分",null,null,null,null,"整理番号",null,"登録業種",null,"希望業種"]
["①","測量",null,null,{"$f":"'入力・印刷シート2(経営規模総括表)'!DV8","v":0},null,null,"測量士",null,null,{"$f":"'入力・印刷シート2(経営規模総括表)'!DD19","v":0},null,"測量士補",null,null,{"$f":"'入力・印刷シート2(経営規模総括表)'!DP19","v":0},null,"測量一般",null,null,null,null,2101,null,null,null,{"$f":"IF(入力シート２!N7=1,\"○\",\"\")","v":""},null,{"$f":"入力シート２!R7","v":0}]
[null,null,null,null,null,null,null,null,null,null,null,null,null,null,null,null,null,"地図の調整",null,null,null,null,2102,null,null,null,{"$f":"IF(入力シート２!N8=1,\"○\",\"\")","v":""}]
[null,null,null,null,null,null,null,null,null,null,null,null,null,null,null,null,null,"航空測量",null,null,null,null,2103,null,null,null,{"$f":"IF(入力シート２!N9=1,\"○\",\"\")","v":""}]
["②","建築関係建設\nコンサルタント\n業務",null,null,{"$f":"'入力・印刷シート2(経営規模総括表)'!DV9","v":0},null,null,"１級建築士",null,null,{"$f":"'入力・印刷シート2(経営規模総括表)'!AJ19","v":0},null,"建築設備士",null,null,{"$f":"'入力・印刷シート2(経営規模総括表)'!BH19","v":0},null,"建築一般",null,null,null,null,2201,null,null,null,{"$f":"IF(入力シート２!N10=1,\"○\",\"\")","v":""},null,{"$f":"入力シート２!R10","v":0}]
[null,null,null,null,null,null,null,null,null,null,null,null,null,null,null,null,null,"意匠",null,null,null,null,2202,null,null,null,{"$f":"IF(入力シート２!N11=1,\"○\",\"\")","v":""}]
[null,null,null,null,null,null,null,"２級建築士",null,null,{"$f":"'入力・印刷シート2(経営規模総括表)'!AV19","v":0},null,"建築積算士",null,null,{"$f":"'入力・印刷シート2(経営規模総括表)'!BT19","v":0},null,"構造",null,null,null,null,2203,null,null,null,{"$f":"IF(入力シート２!N12=1,\"○\",\"\")","v":""}]
[null,null,null,null,null,null,null,null,null,null,null,null,null,null,null,null,null,"暖冷房",null,null,null,null,2204,null,null,null,{"$f":"IF(入力シート２!N13=1,\"○\",\"\")","v":""}]
[null,null,null,null,null,null,null,"構造設計\n１級建築士",null,null,{"$f":"'入力・印刷シート2(経営規模総括表)'!L19","v":0},null,null,null,null,null,null,"衛生",null,null,null,null,2205,null,null,null,{"$f":"IF(入力シート２!N14=1,\"○\",\"\")","v":""}]
[null,null,null,null,null,null,null,null,null,null,null,null,null,null,null,null,null,"電気",null,null,null,null,2206,null,null,null,{"$f":"IF(入力シート２!N15=1,\"○\",\"\")","v":""}]
[null,null,null,null,null,null,null,"設備設計\n１級建築士",null,null,{"$f":"'入力・印刷シート2(経営規模総括表)'!X19","v":0},null,null,null,null,null,null,"建築積算",null,null,null,null,2207,null,null,null,{"$f":"IF(入力シート２!N16=1,\"○\",\"\")","v":""}]
[null,null,null,null,null,null,null,null,null,null,null,null,null,null,null,null,null,"機械積算",null,null,null,null,2208,null,null,null,{"$f":"IF(入力シート２!N17=1,\"○\",\"\")","v":""}]
[null,null,null,null,null,null,null,null,null,null,null,null,null,null,null,null,null,"電気積算",null,null,null,null,2209,null,null,null,{"$f":"IF(入力シート２!N18=1,\"○\",\"\")","v":""}]
[null,null,null,null,null,null,null,null,null,null,null,null,null,null,null,null,null,"工事監理（建築）",null,null,null,null,2210,null,null,null,{"$f":"IF(入力シート２!N19=1,\"○\",\"\")","v":""}]
[null,null,null,null,null,null,null,null,null,null,null,null,null,null,null,null,null,"工事監理(電気）",null,null,null,null,2211,null,null,null,{"$f":"IF(入力シート２!N20=1,\"○\",\"\")","v":""}]
[null,null,null,null,null,null,null,null,null,null,null,null,null,null,null,null,null,"工事監理（機械）",null,null,null,null,2212,null,null,null,{"$f":"IF(入力シート２!N21=1,\"○\",\"\")","v":""}]
[null,null,null,null,null,null,null,null,null,null,null,null,null,null,null,null,null,"調査",null,null,null,null,2213,null,null,null,{"$f":"IF(入力シート２!N22=1,\"○\",\"\")","v":""}]
[null,null,null,null,null,null,null,null,null,null,null,null,null,null,null,null,null,"耐震診断",null,null,null,null,2214,null,null,null,{"$f":"IF(入力シート２!N23=1,\"○\",\"\")","v":""}]
[null,null,null,null,null,null,null,null,null,null,null,null,null,null,null,null,null,"地区計画及び地域計画",null,null,null,null,2215,null,null,null,{"$f":"IF(入力シート２!N24=1,\"○\",\"\")","v":""}]
[]
[]
[]
[]
[]
[]
[]
[]
[]
[]
[]
[]
[]
[]
["申請者カード（建設関連業務用）",null,null,null,null,null,null,null,null,null,null,null,null,"3/4枚目"]
[]
["区分",null,null,null,"直前２年\n平均実績\n（千円）",null,null,null,null,null,"人数",null,null,null,null,"人数",null,"コンサルタント登録部門",null,null,null,null,null,null,null,null,null,null,"備考"]
[null,null,null,null,null,null,null,null,null,null,null,null,null,null,null,null,null,"区分",null,null,null,null,"整理番号",null,"登録業種",null,"希望業種"]
["②","土木関係建設\nコンサルタント\n業務",null,null,{"$f":"'入力・印刷シート2(経営規模総括表)'!DV10","v":0},null,null,"１級土木施工\n管理技士",null,null,{"$f":"'入力・印刷シート2(経営規模総括表)'!CF19","v":0},null,"環境計量士",null,null,{"$f":"'入力・印刷シート2(経営規模総括表)'!EB19","v":0},null,"河川・砂防及び海岸・海洋",null,null,null,null,2301,null,{"$f":"IF(入力シート２!L25=1,\"○\",\"\")","v":""},null,{"$f":"IF(入力シート２!N25=1,\"○\",\"\")","v":""},null,{"$f":"入力シート２!R25","v":0}]
[null,null,null,null,null,null,null,null,null,null,null,null,null,null,null,null,null,"港湾及び空港",null,null,null,null,2302,null,{"$f":"IF(入力シート２!L26=1,\"○\",\"\")","v":""},null,{"$f":"IF(入力シート２!N26=1,\"○\",\"\")","v":""}]
[null,null,null,null,null,null,null,"２級土木施工\n管理技士",null,null,{"$f":"'入力・印刷シート2(経営規模総括表)'!CR19","v":0},null,"総合技術管理部門\n(地質を除く対象科目)",null,null,{"$f":"'入力・印刷シート2(経営規模総括表)'!L23","v":0},null,"電力土木",null,null,null,null,2303,null,{"$f":"IF(入力シート２!L27=1,\"○\",\"\")","v":""},null,{"$f":"IF(入力シート２!N27=1,\"○\",\"\")","v":""}]
[null,null,null,null,null,null,null,null,null,null,null,null,null,null,null,null,null,"道路",null,null,null,null,2304,null,{"$f":"IF(入力シート２!L28=1,\"○\",\"\")","v":""},null,{"$f":"IF(入力シート２!N28=1,\"○\",\"\")","v":""}]
[null,null,null,null,null,null,null,"建設部門",null,null,{"$f":"'入力・印刷シート2(経営規模総括表)'!X23","v":0},null,"農業部門",null,null,{"$f":"'入力・印刷シート2(経営規模総括表)'!AJ23","v":0},null,"鉄道",null,null,null,null,2305,null,{"$f":"IF(入力シート２!L29=1,\"○\",\"\")","v":""},null,{"$f":"IF(入力シート２!N29=1,\"○\",\"\")","v":""}]
[null,null,null,null,null,null,null,null,null,null,null,null,null,null,null,null,null,"上水道及び工業用水道",null,null,null,null,2306,null,{"$f":"IF(入力シート２!L30=1,\"○\",\"\")","v":""},null,{"$f":"IF(入力シート２!N30=1,\"○\",\"\")","v":""}]
[null,null,null,null,null,null,null,"森林部門",null,null,{"$f":"'入力・印刷シート2(経営規模総括表)'!AV23","v":0},null,"水産部門",null,null,{"$f":"'入力・印刷シート2(経営規模総括表)'!BH23","v":0},null,"下水道",null,null,null,null,2307,null,{"$f":"IF(入力シート２!L31=1,\"○\",\"\")","v":""},null,{"$f":"IF(入力シート２!N31=1,\"○\",\"\")","v":""}]
[null,null,null,null,null,null,null,null,null,null,null,null,null,null,null,null,null,"農業土木",null,null,null,null,2308,null,{"$f":"IF(入力シート２!L32=1,\"○\",\"\")","v":""},null,{"$f":"IF(入力シート２!N32=1,\"○\",\"\")","v":""}]
[null,null,null,null,null,null,null,"上下水道部門",null,null,{"$f":"'入力・印刷シート2(経営規模総括表)'!BT23","v":0},null,"衛生工学部門",null,null,{"$f":"'入力・印刷シート2(経営規模総括表)'!CF23","v":0},null,"森林土木",null,null,null,null,2309,null,{"$f":"IF(入力シート２!L33=1,\"○\",\"\")","v":""},null,{"$f":"IF(入力シート２!N33=1,\"○\",\"\")","v":""}]
[null,null,null,null,null,null,null,null,null,null,null,null,null,null,null,null,null,"水産土木",null,null,null,null,2310,null,{"$f":"IF(入力シート２!L34=1,\"○\",\"\")","v":""},null,{"$f":"IF(入力シート２!N34=1,\"○\",\"\")","v":""}]
[null,null,null,null,null,null,null,"電気電子部門",null,null,{"$f":"'入力・印刷シート2(経営規模総括表)'!CR23","v":0},null,"機械部門",null,null,{"$f":"'入力・印刷シート2(経営規模総括表)'!DD23","v":0},null,"廃棄物",null,null,null,null,2311,null,{"$f":"IF(入力シート２!L35=1,\"○\",\"\")","v":""},null,{"$f":"IF(入力シート２!N35=1,\"○\",\"\")","v":""}]
[null,null,null,null,null,null,null,null,null,null,null,null,null,null,null,null,null,"造園",null,null,null,null,2312,null,{"$f":"IF(入力シート２!L36=1,\"○\",\"\")","v":""},null,{"$f":"IF(入力シート２!N36=1,\"○\",\"\")","v":""}]
[null,null,null,null,null,null,null,"情報工学部門",null,null,{"$f":"'入力・印刷シート2(経営規模総括表)'!DP23","v":0},null,"第１種電気\n主任技術者",null,null,{"$f":"'入力・印刷シート2(経営規模総括表)'!L26","v":0},null,"都市計画及び地方計画",null,null,null,null,2313,null,{"$f":"IF(入力シート２!L37=1,\"○\",\"\")","v":""},null,{"$f":"IF(入力シート２!N37=1,\"○\",\"\")","v":""}]
[null,null,null,null,null,null,null,null,null,null,null,null,null,null,null,null,null,"地質",null,null,null,null,2314,null,{"$f":"IF(入力シート２!L38=1,\"○\",\"\")","v":""},null,{"$f":"IF(入力シート２!N38=1,\"○\",\"\")","v":""}]
[null,null,null,null,null,null,null,"伝　　　　送\n主任技術者",null,null,{"$f":"'入力・印刷シート2(経営規模総括表)'!X26","v":0},null,"線　　　　路\n主任技術者",null,null,{"$f":"'入力・印刷シート2(経営規模総括表)'!AJ26","v":0},null,"土質及び基礎",null,null,null,null,2315,null,{"$f":"IF(入力シート２!L39=1,\"○\",\"\")","v":""},null,{"$f":"IF(入力シート２!N39=1,\"○\",\"\")","v":""}]
[null,null,null,null,null,null,null,null,null,null,null,null,null,null,null,null,null,"鋼構造及びコンクリート",null,null,null,null,2316,null,{"$f":"IF(入力シート２!L40=1,\"○\",\"\")","v":""},null,{"$f":"IF(入力シート２!N40=1,\"○\",\"\")","v":""}]
[null,null,null,null,null,null,null,"A　P　E　C\nエンジニア",null,null,{"$f":"'入力・印刷シート2(経営規模総括表)'!AV26","v":0},null,"ＲＣＣＭ",null,null,{"$f":"'入力・印刷シート2(経営規模総括表)'!BH26","v":0},null,"トンネル",null,null,null,null,2317,null,{"$f":"IF(入力シート２!L41=1,\"○\",\"\")","v":""},null,{"$f":"IF(入力シート２!N41=1,\"○\",\"\")","v":""}]
[null,null,null,null,null,null,null,null,null,null,null,null,null,null,null,null,null,"施工計画・施工設備及び積算",null,null,null,null,2318,null,{"$f":"IF(入力シート２!L42=1,\"○\",\"\")","v":""},null,{"$f":"IF(入力シート２!N42=1,\"○\",\"\")","v":""}]
[null,null,null,null,null,null,null,null,null,null,null,null,null,null,null,null,null,"建設環境",null,null,null,null,2319,null,{"$f":"IF(入力シート２!L43=1,\"○\",\"\")","v":""},null,{"$f":"IF(入力シート２!N43=1,\"○\",\"\")","v":""}]
[null,null,null,null,null,null,null,null,null,null,null,null,null,null,null,null,null,"機械",null,null,null,null,2320,null,{"$f":"IF(入力シート２!L44=1,\"○\",\"\")","v":""},null,{"$f":"IF(入力シート２!N44=1,\"○\",\"\")","v":""}]
[null,null,null,null,null,null,null,null,null,null,null,null,null,null,null,null,null,"電気電子",null,null,null,null,2321,null,{"$f":"IF(入力シート２!L45=1,\"○\",\"\")","v":""},null,{"$f":"IF(入力シート２!N45=1,\"○\",\"\")","v":""}]
[null,null,null,null,null,null,null,null,null,null,null,null,null,null,null,null,null,"交通量調査",null,null,null,null,2322,null,null,null,{"$f":"IF(入力シート２!N46=1,\"○\",\"\")","v":""}]
[null,null,null,null,null,null,null,null,null,null,null,null,null,null,null,null,null,"環境調査",null,null,null,null,2323,null,null,null,{"$f":"IF(入力シート２!N47=1,\"○\",\"\")","v":""}]
[null,null,null,null,null,null,null,null,null,null,null,null,null,null,null,null,null,"経済調査",null,null,null,null,2324,null,null,null,{"$f":"IF(入力シート２!N48=1,\"○\",\"\")","v":""}]
[null,null,null,null,null,null,null,null,null,null,null,null,null,null,null,null,null,"分析・解析",null,null,null,null,2325,null,null,null,{"$f":"IF(入力シート２!N49=1,\"○\",\"\")","v":""}]
[null,null,null,null,null,null,null,null,null,null,null,null,null,null,null,null,null,"宅地造成",null,null,null,null,2326,null,null,null,{"$f":"IF(入力シート２!N50=1,\"○\",\"\")","v":""}]
[null,null,null,null,null,null,null,null,null,null,null,null,null,null,null,null,null,"電算関係",null,null,null,null,2327,null,null,null,{"$f":"IF(入力シート２!N51=1,\"○\",\"\")","v":""}]
[null,null,null,null,null,null,null,null,null,null,null,null,null,null,null,null,null,"計算業務",null,null,null,null,2328,null,null,null,{"$f":"IF(入力シート２!N52=1,\"○\",\"\")","v":""}]
[null,null,null,null,null,null,null,null,null,null,null,null,null,null,null,null,null,"資料等整理",null,null,null,null,2329,null,null,null,{"$f":"IF(入力シート２!N53=1,\"○\",\"\")","v":""}]
[null,null,null,null,null,null,null,null,null,null,null,null,null,null,null,null,null,"施工監理",null,null,null,null,2330,null,null,null,{"$f":"IF(入力シート２!N54=1,\"○\",\"\")","v":""}]
[]
[]
["申請者カード（建設関連業務用）",null,null,null,null,null,null,null,null,null,null,null,null,"4/4枚目"]
[]
["区分",null,null,null,"直前２年\n平均実績\n（千円）",null,null,null,null,null,"人数",null,null,null,null,"人数",null,"コンサルタント登録部門",null,null,null,null,null,null,null,null,null,null,"備考"]
[null,null,null,null,null,null,null,null,null,null,null,null,null,null,null,null,null,"区分",null,null,null,null,"整理番号",null,"登録業種",null,"希望業種"]
["③","地質調査業務",null,null,{"$f":"'入力・印刷シート2(経営規模総括表)'!DV11","v":0},null,null,"地質調査",null,null,{"$f":"'入力・印刷シート2(経営規模総括表)'!EN23","v":0},null,"総合技術管理部門\n(地　質　調　査)",null,null,{"$f":"'入力・印刷シート2(経営規模総括表)'!EB23","v":0},null,null,null,null,null,null,2401,null,null,null,{"$f":"IF(入力シート２!N55,\"○\",\"\")","v":""},null,{"$f":"入力シート２!R55","v":0}]
[]
[null,null,null,null,null,null,null,"地質調査\n（技　士）",null,null,{"$f":"'入力・印刷シート2(経営規模総括表)'!BT26","v":0}]
[]
["④","補償関係\nコンサルタント\n業務",null,null,{"$f":"'入力・印刷シート2(経営規模総括表)'!DV12","v":0},null,null,"不動産鑑定士",null,null,{"$f":"'入力・印刷シート2(経営規模総括表)'!EN19","v":0},null,"不動産鑑定補",null,null,{"$f":"'入力・印刷シート2(経営規模総括表)'!EZ19","v":0},null,"土地調査",null,null,null,null,2501,null,{"$f":"IF(入力シート２!L56=1,\"○\",\"\")","v":""},null,{"$f":"IF(入力シート２!N56=1,\"○\",\"\")","v":""},null,{"$f":"入力シート２!R56","v":0}]
[null,null,null,null,null,null,null,null,null,null,null,null,null,null,null,null,null,"土地評価",null,null,null,null,2502,null,{"$f":"IF(入力シート２!L57=1,\"○\",\"\")","v":""},null,{"$f":"IF(入力シート２!N57=1,\"○\",\"\")","v":""}]
[null,null,null,null,null,null,null,"司法書士",null,null,{"$f":"'入力・印刷シート2(経営規模総括表)'!DP26","v":0},null,"補償業務管理士",null,null,{"$f":"'入力・印刷シート2(経営規模総括表)'!CF26","v":0},null,"物件",null,null,null,null,2503,null,{"$f":"IF(入力シート２!L58=1,\"○\",\"\")","v":""},null,{"$f":"IF(入力シート２!N58=1,\"○\",\"\")","v":""}]
[null,null,null,null,null,null,null,null,null,null,null,null,null,null,null,null,null,"機械工作物",null,null,null,null,2504,null,{"$f":"IF(入力シート２!L59=1,\"○\",\"\")","v":""},null,{"$f":"IF(入力シート２!N59=1,\"○\",\"\")","v":""}]
[null,null,null,null,null,null,null,"土地家屋調査士",null,null,{"$f":"'入力・印刷シート2(経営規模総括表)'!DD26","v":0},null,"公共用地経験者",null,null,{"$f":"'入力・印刷シート2(経営規模総括表)'!CR26","v":0},null,"営業補償・特殊補償",null,null,null,null,2505,null,{"$f":"IF(入力シート２!L60=1,\"○\",\"\")","v":""},null,{"$f":"IF(入力シート２!N60=1,\"○\",\"\")","v":""}]
[null,null,null,null,null,null,null,null,null,null,null,null,null,null,null,null,null,"事業損失",null,null,null,null,2506,null,{"$f":"IF(入力シート２!L61=1,\"○\",\"\")","v":""},null,{"$f":"IF(入力シート２!N61=1,\"○\",\"\")","v":""}]
[null,null,null,null,null,null,null,null,null,null,null,null,null,null,null,null,null,"補償関連",null,null,null,null,2507,null,{"$f":"IF(入力シート２!L62=1,\"○\",\"\")","v":""},null,{"$f":"IF(入力シート２!N62=1,\"○\",\"\")","v":""}]
[null,null,null,null,null,null,null,null,null,null,null,null,null,null,null,null,null,"総合補償",null,null,null,null,2508,null,{"$f":"IF(入力シート２!L63=1,\"○\",\"\")","v":""},null,{"$f":"IF(入力シート２!N63=1,\"○\",\"\")","v":""}]
[null,null,null,null,null,null,null,null,null,null,null,null,null,null,null,null,null,"不動産鑑定",null,null,null,null,2509,null,null,null,{"$f":"IF(入力シート２!N64=1,\"○\",\"\")","v":""}]
["⑤","その他",null,null,{"$f":"'入力・印刷シート2(経営規模総括表)'!DV13","v":0},null,null,null,null,null,null,null,null,null,null,null,null,{"$f":"入力シート２!E65","v":0},null,null,null,null,null,null,{"$f":"IF(入力シート２!L65=1,\"○\",\"\")","v":""},null,{"$f":"IF(入力シート２!N65=1,\"○\",\"\")","v":""},null,{"$f":"入力シート２!R65","v":0}]
[null,null,null,null,null,null,null,null,null,null,null,null,null,null,null,null,null,{"$f":"入力シート２!E66","v":0},null,null,null,null,null,null,{"$f":"IF(入力シート２!L66=1,\"○\",\"\")","v":""},null,{"$f":"IF(入力シート２!N66=1,\"○\",\"\")","v":""}]
[null,null,null,null,null,null,null,null,null,null,null,null,null,null,null,null,null,{"$f":"入力シート２!E67","v":0},null,null,null,null,null,null,{"$f":"IF(入力シート２!L67=1,\"○\",\"\")","v":""},null,{"$f":"IF(入力シート２!N67=1,\"○\",\"\")","v":""}]

{"sheet":"入力・印刷シート1(承認申請書)","index":3,"n_rows":58,"n_cols":22,"rows_kept":58,"cut":false,"hidden":false,"merged":[[57,0,58,22],[31,1,31,5],[29,1,29,5],[28,0,28,5],[51,6,51,11],[54,6,54,11],[37,6,37,11],[30,6,30,11],[32,6,32,11],[53,1,53,5],[53,6,53,11],[52,6,52,11],[51,1,51,5],[28,12,28,22],[29,6,29,11],[38,6,38,11],[2,0,2,22],[4,0,6,22],[8,17,8,22],[10,0,10,22],[15,9,15,12],[14,9,14,12],[13,9,13,12],[12,9,12,12],[12,13,12,19],[14,13,14,22],[13,13,13,22],[15,13,15,15],[15,16,15,19],[12,6,12,8],[16,9,16,12],[17,9,17,12],[19,9,19,12],[20,9,20,12],[24,13,24,19],[19,13,19,19],[23,13,23,19],[16,13,16,19],[17,13,17,19],[21,9,21,12],[22,9,22,12],[23,9,23,12],[24,9,24,12],[21,13,21,22],[22,13,22,15],[22,16,22,19],[37,1,37,5],[38,1,38,5],[19,6,19,8],[30,12,30,22],[20,13,20,22],[26,0,26,22],[32,1,32,5],[28,6,28,11],[31,6,31,11]]}
["様式第１号（第３条関係）"]
[]
["建設関連業務入札参加資格承認申請書"]
[]
["　令和５・６年度において、貴組合で行われる建設関連業務に係る指名競争入札に参加したいので、その参加資格の審査を申請します。\n　なお、この申請書及びその添付書類については、事実と相違ないことを誓約します。"]
[]
[]
[]
[null,null,null,null,null,null,null,null,null,null,null,null,null,null,null,null,null,"令和　　年　　月　　日"]
[]
["仙南地域広域行政事務組合理事長　殿"]
[]
[null,null,null,null,null,null,"本　　店",null,null,"郵便番号",null,null,null,{"$f":"入力シート１!E12","v":0}]
[null,null,null,null,null,null,null,null,null,"住所又は所在地",null,null,null,{"$f":"CONCATENATE(入力シート１!E13,入力シート１!E15,入力シート１!E17)","v":""}]
[null,null,null,null,null,null,null,null,null,"商号又は名称",null,null,null,{"$f":"入力シート１!E7","v":0}]
[null,null,null,null,null,null,null,null,null,"代表者職氏名",null,null,null,{"$f":"入力シート１!E9","v":0},null,null,{"$f":"入力シート１!E10","v":0},null,null,null,null,"印"]
[null,null,null,null,null,null,null,null,null,"電話番号",null,null,null,{"$f":"入力シート１!E24","v":0}]
[null,null,null,null,null,null,null,null,null,"ﾌｧｸｼﾐﾘ番号",null,null,null,{"$f":"入力シート１!E25","v":0}]
[]
[null,null,null,null,null,null,"受任機関",null,null,"郵便番号",null,null,null,{"$f":"入力シート１!E33","v":0}]
[null,null,null,null,null,null,null,null,null,"住所又は所在地",null,null,null,{"$f":"CONCATENATE(入力シート１!E34,入力シート１!E35,入力シート１!E36)","v":""}]
[null,null,null,null,null,null,null,null,null,"商号又は名称",null,null,null,{"$f":"入力シート１!E28","v":0}]
[null,null,null,null,null,null,null,null,null,"代表者職氏名",null,null,null,{"$f":"入力シート１!E30","v":0},null,null,{"$f":"入力シート１!E31","v":0},null,null,null,null,"印"]
[null,null,null,null,null,null,null,null,null,"電話番号",null,null,null,{"$f":"入力シート１!E39","v":0}]
[null,null,null,null,null,null,null,null,null,"ﾌｧｸｼﾐﾘ番号",null,null,null,{"$f":"入力シート１!E40","v":0}]
[]
["記"]
["１　希望する業種及び部門"]
["業　種",null,null,null,null,null,"登録番号・登録年月日",null,null,null,null,null,"部　門"]
[1,"測量",null,null,null,null,"第　　　　　号",null,null,null,null,null,{"$f":"IF(入力シート２!N7=1,\"■\",\"□\")","v":"□"},"測量一般",null,{"$f":"IF(入力シート２!N8=1,\"■\",\"□\")","v":"□"},"地図の調整",null,null,{"$f":"IF(入力シート２!N9=1,\"■\",\"□\")","v":"□"},"航空測量"]
[null,"（","□","本","□","受）","　　　　年　　月　　日"]
[2,"建築関係",null,null,null,null,"第　　　　　号",null,null,null,null,null,{"$f":"IF(入力シート２!N10=1,\"■\",\"□\")","v":"□"},"建築一般",null,{"$f":"IF(入力シート２!N11=1,\"■\",\"□\")","v":"□"},"意匠",{"$f":"IF(入力シート２!N12=1,\"■\",\"□\")","v":"□"},"構造"]
[null,"建設コンサルタント",null,null,null,null,"　　　　年　　月　　日",null,null,null,null,null,{"$f":"IF(入力シート２!N13=1,\"■\",\"□\")","v":"□"},"冷暖房",null,{"$f":"IF(入力シート２!N14=1,\"■\",\"□\")","v":"□"},"衛生",{"$f":"IF(入力シート２!N15=1,\"■\",\"□\")","v":"□"},"電気"]
[null,"（","□","本","□","受）",null,null,null,null,null,null,{"$f":"IF(入力シート２!N16=1,\"■\",\"□\")","v":"□"},"建築積算",null,{"$f":"IF(入力シート２!N17=1,\"■\",\"□\")","v":"□"},"機械積算",null,{"$f":"IF(入力シート２!N18=1,\"■\",\"□\")","v":"□"},"電気積算"]
[null,null,null,null,null,null,null,null,null,null,null,null,{"$f":"IF(入力シート２!N19=1,\"■\",\"□\")","v":"□"},"工事監理(建築)",null,null,null,{"$f":"IF(入力シート２!N20=1,\"■\",\"□\")","v":"□"},"工事監理(電気)"]
[null,null,null,null,null,null,null,null,null,null,null,null,{"$f":"IF(入力シート２!N21=1,\"■\",\"□\")","v":"□"},"工事監理(機械)",null,null,null,{"$f":"IF(入力シート２!N22=1,\"■\",\"□\")","v":"□"},"調査"]
[null,null,null,null,null,null,null,null,null,null,null,null,{"$f":"IF(入力シート２!N23=1,\"■\",\"□\")","v":"□"},"耐震診断",null,{"$f":"IF(入力シート２!N24=1,\"■\",\"□\")","v":"□"},"地区計画及び地域計画"]
[3,"土木関係",null,null,null,null,"第　　　　　号",null,null,null,null,null,{"$f":"IF(入力シート２!N25=1,\"■\",\"□\")","v":"□"},"河川、砂防及び海岸・海洋"]
[null,"建設コンサルタント",null,null,null,null,"　　　　年　　月　　日",null,null,null,null,null,{"$f":"IF(入力シート２!N26=1,\"■\",\"□\")","v":"□"},"湾岸及び空港",null,null,{"$f":"IF(入力シート２!N27=1,\"■\",\"□\")","v":"□"},"電力土木",null,{"$f":"IF(入力シート２!N28=1,\"■\",\"□\")","v":"□"},"道路"]
[null,"（","□","本","□","受）",null,null,null,null,null,null,{"$f":"IF(入力シート２!N29=1,\"■\",\"□\")","v":"□"},"鉄道",{"$f":"IF(入力シート２!N30=1,\"■\",\"□\")","v":"□"},"上下水道及び工業用水"]
[null,null,null,null,null,null,null,null,null,null,null,null,{"$f":"IF(入力シート２!N31=1,\"■\",\"□\")","v":"□"},"下水道",null,{"$f":"IF(入力シート２!N32=1,\"■\",\"□\")","v":"□"},"農業土木",null,{"$f":"IF(入力シート２!N33=1,\"■\",\"□\")","v":"□"},"森林土木"]
[null,null,null,null,null,null,null,null,null,null,null,null,{"$f":"IF(入力シート２!N34=1,\"■\",\"□\")","v":"□"},"水産土木",null,{"$f":"IF(入力シート２!N35=1,\"■\",\"□\")","v":"□"},"廃棄物",null,{"$f":"IF(入力シート２!N36=1,\"■\",\"□\")","v":"□"},"造園"]
[null,null,null,null,null,null,null,null,null,null,null,null,{"$f":"IF(入力シート２!N37=1,\"■\",\"□\")","v":"□"},"都市計画及び地方計画"]
[null,null,null,null,null,null,null,null,null,null,null,null,{"$f":"IF(入力シート２!N38=1,\"■\",\"□\")","v":"□"},"地質",{"$f":"IF(入力シート２!N39=1,\"■\",\"□\")","v":"□"},"土質及び基礎"]
[null,null,null,null,null,null,null,null,null,null,null,null,{"$f":"IF(入力シート２!N40=1,\"■\",\"□\")","v":"□"},"鋼構造及びコンクリート",null,null,null,null,null,{"$f":"IF(入力シート２!N41=1,\"■\",\"□\")","v":"□"},"トンネル"]
[null,null,null,null,null,null,null,null,null,null,null,null,{"$f":"IF(入力シート２!N42=1,\"■\",\"□\")","v":"□"},"施工計画・施工設備及び積算"]
[null,null,null,null,null,null,null,null,null,null,null,null,{"$f":"IF(入力シート２!N43=1,\"■\",\"□\")","v":"□"},"建設環境",null,{"$f":"IF(入力シート２!N44=1,\"■\",\"□\")","v":"□"},"機械",{"$f":"IF(入力シート２!N45=1,\"■\",\"□\")","v":"□"},"電気電子"]
[null,null,null,null,null,null,null,null,null,null,null,null,{"$f":"IF(入力シート２!N46=1,\"■\",\"□\")","v":"□"},"交通量調査",null,null,{"$f":"IF(入力シート２!N47=1,\"■\",\"□\")","v":"□"},"環境調査",null,{"$f":"IF(入力シート２!N48=1,\"■\",\"□\")","v":"□"},"経済調査"]
[null,null,null,null,null,null,null,null,null,null,null,null,{"$f":"IF(入力シート２!N49=1,\"■\",\"□\")","v":"□"},"分析・解析",null,null,{"$f":"IF(入力シート２!N50=1,\"■\",\"□\")","v":"□"},"宅地造成",null,{"$f":"IF(入力シート２!N51=1,\"■\",\"□\")","v":"□"},"電算関係"]
[null,null,null,null,null,null,null,null,null,null,null,null,{"$f":"IF(入力シート２!N52=1,\"■\",\"□\")","v":"□"},"計算業務",null,{"$f":"IF(入力シート２!N53=1,\"■\",\"□\")","v":"□"},"資材等整理",null,null,{"$f":"IF(入力シート２!N54=1,\"■\",\"□\")","v":"□"},"施工監理"]
[]
[4,"地質調査",null,null,null,null,{"$f":"IF(入力シート２!P55<>\"\",入力シート１!E73,\"第　　　　　号\")","v":"第　　　　　号"}]
[null,"（",{"$f":"IF(入力シート２!P55=\"本\",\"■\",\"□\")","v":"□"},"本",{"$f":"IF(入力シート２!P55=\"受\",\"■\",\"□\")","v":"□"},"受）",{"$f":"IF(入力シート２!P55<>\"\",TEXT(入力シート１!E74,\"ggge年m月d日\"),\"　　　　年　　月　　日\")","v":"　　　　年　　月　　日"}]
[5,"補償コンサルタント",null,null,null,null,"第　　　　　号",null,null,null,null,null,{"$f":"IF(入力シート２!N56=1,\"■\",\"□\")","v":"□"},"土地調査",null,{"$f":"IF(入力シート２!N57=1,\"■\",\"□\")","v":"□"},"土地評価",null,{"$f":"IF(入力シート２!N58=1,\"■\",\"□\")","v":"□"},"物件"]
[null,"（","□","本","□","受）","　　　　年　　月　　日",null,null,null,null,null,{"$f":"IF(入力シート２!N59=1,\"■\",\"□\")","v":"□"},"機械工作物",null,null,{"$f":"IF(入力シート２!N60=1,\"■\",\"□\")","v":"□"},"営業補償・特殊補償"]
[null,null,null,null,null,null,null,null,null,null,null,null,{"$f":"IF(入力シート２!N61=1,\"■\",\"□\")","v":"□"},"事業損失",null,{"$f":"IF(入力シート２!N62=1,\"■\",\"□\")","v":"□"},"補償関連",null,{"$f":"IF(入力シート２!N63=1,\"■\",\"□\")","v":"□"},"総合保障"]
[null,null,null,null,null,null,null,null,null,null,null,null,{"$f":"IF(入力シート２!N64=1,\"■\",\"□\")","v":"□"},"不動産鑑定"]
["(注)　業種の(本・受)及び部門欄については、該当する業種のうち、今回申請する箇所の□にレ点\n　　を付すか、墨塗りすること。 "]

{"sheet":"入力・印刷シート2(経営規模総括表)","index":4,"n_rows":57,"n_cols":159,"rows_kept":57,"cut":false,"hidden":false,"merged":[[31,15,31,19],[31,10,31,14],[31,5,31,9],[31,0,31,4],[21,35,21,46],[21,47,21,58],[21,59,21,70],[31,35,31,39],[31,30,31,34],[28,5,28,65],[22,11,22,22],[26,13,26,15],[26,16,26,18],[26,19,26,21],[26,22,26,24],[26,25,26,27],[24,11,24,22],[24,23,24,34],[24,35,24,46],[24,47,24,58],[24,59,24,70],[31,130,31,134],[31,135,31,139],[31,140,31,144],[31,85,31,89],[31,80,31,84],[31,75,31,79],[31,90,31,94],[30,105,30,144],[30,0,30,104],[31,70,31,74],[31,65,31,69],[31,60,31,64],[31,55,31,59],[31,50,31,54],[31,45,31,49],[31,40,31,44],[31,25,31,29],[31,20,31,24],[31,125,31,129],[31,120,31,124],[31,115,31,119],[31,110,31,114],[31,105,31,109],[31,100,31,104],[11,125,11,166],[9,0,9,28],[15,5,15,20],[22,47,22,58],[22,59,22,70],[17,11,17,22],[17,23,17,34],[17,35,17,46],[17,47,17,58],[18,11,18,22],[18,23,18,34],[17,131,17,142],[17,143,17,154],[18,119,18,130],[18,107,18,118],[17,59,17,70],[17,95,17,106],[17,107,17,118],[21,143,21,154],[21,71,21,82],[21,83,21,94],[21,95,21,106],[21,107,21,118],[21,119,21,130],[4,126,4,129],[4,130,4,133],[7,0,7,28],[8,0,8,28],[10,0,10,28],[7,125,7,166],[8,125,8,166],[9,125,9,166],[10,125,10,166],[10,29,10,52],[10,53,10,76],[5,5,5,24],[5,58,5,61],[4,65,4,68],[4,69,4,71],[4,72,4,76],[4,41,4,44],[5,82,5,85],[5,86,5,88],[5,89,5,92],[5,93,5,95],[8,77,8,100],[8,101,8,124],[5,53,5,57],[11,0,11,28],[11,77,11,100],[11,101,11,124],[10,77,10,100],[10,101,10,124],[4,1,4,4],[5,113,5,116],[5,117,5,119],[5,120,5,124],[4,45,4,47],[4,5,4,24],[11,29,11,52],[11,53,11,76],[5,29,5,33],[5,34,5,37],[5,38,5,40],[5,41,5,44],[5,45,5,47],[5,48,5,52],[4,117,4,119],[4,120,4,124],[5,101,5,105],[5,106,5,109],[5,110,5,112],[18,35,18,46],[18,47,18,58],[18,59,18,70],[18,71,18,82],[22,35,22,46],[24,119,24,130],[12,77,12,100],[12,101,12,124],[13,77,13,100],[13,101,13,124],[12,29,12,52],[12,53,12,76],[13,29,13,52],[22,71,22,82],[22,83,22,94],[24,83,24,94],[22,23,22,34],[18,83,18,94],[17,71,17,82],[17,83,17,94],[12,0,12,28],[20,11,20,154],[21,11,21,22],[21,23,21,34],[18,95,18,106],[18,131,18,142],[17,155,17,166],[17,119,17,130],[22,143,22,154],[25,107,25,118],[25,119,25,130],[25,83,25,94],[25,95,25,106],[22,95,22,106],[22,107,22,118],[22,119,22,130],[21,131,21,142],[18,143,18,154],[18,155,18,166],[24,95,24,106],[24,107,24,118],[22,131,22,142],[24,71,24,82],[25,11,25,22],[25,23,25,34],[25,35,25,46],[25,47,25,58],[25,59,25,70],[25,71,25,82],[26,87,26,89],[26,63,26,65],[26,66,26,68],[26,69,26,71],[26,72,26,74],[26,75,26,77],[26,78,26,80],[26,28,26,30],[26,31,26,33],[26,34,26,36],[26,37,26,39],[26,40,26,42],[26,60,26,62],[31,95,31,99],[26,81,26,83],[26,84,26,86],[26,90,26,92],[32,135,32,139],[32,140,32,144],[34,1,35,3],[36,1,40,3],[36,7,37,9],[36,44,36,46],[36,47,36,73],[36,74,36,76],[32,90,32,94],[32,95,32,99],[32,100,32,104],[32,105,32,109],[32,110,32,114],[32,115,32,119],[32,30,32,34],[32,35,32,39],[32,40,32,44],[32,80,32,84],[32,85,32,89],[32,0,32,4],[32,5,32,9],[32,10,32,14],[32,15,32,19],[32,20,32,24],[40,11,40,41],[40,44,40,76],[32,130,32,134],[32,45,32,49],[32,50,32,54],[32,55,32,59],[32,60,32,64],[32,65,32,69],[32,70,32,74],[32,75,32,79],[37,11,37,41],[37,44,37,76],[38,11,38,41],[38,44,38,76],[39,11,39,41],[39,44,39,76],[32,120,32,124],[32,125,32,129],[32,25,32,29],[45,44,45,76],[45,93,45,118],[45,132,45,154],[46,44,46,76],[46,89,46,121],[46,124,46,156],[43,4,43,15],[43,44,43,76],[43,84,43,86],[43,93,43,118],[43,128,43,153],[44,44,44,76],[44,84,47,86],[44,89,44,121],[44,124,44,156],[45,4,45,15],[47,44,47,76],[47,97,47,119],[47,132,47,154],[56,23,56,46],[56,47,56,70],[56,71,56,94],[56,95,56,122],[56,123,56,134],[51,93,51,119],[51,22,51,40],[51,56,51,70],[50,22,50,40],[50,56,50,70],[50,84,53,86],[51,123,51,150],[52,123,52,150],[53,149,53,157],[55,4,55,20],[52,93,52,119],[53,93,53,119],[53,123,53,148],[50,93,50,119],[49,4,49,15],[49,22,49,40],[49,56,49,70],[49,84,49,86],[49,93,49,119],[49,123,49,150],[50,123,50,150],[3,29,3,76],[3,77,3,124],[13,125,13,166],[4,77,4,81],[4,82,4,85],[4,86,4,88],[4,89,4,92],[4,93,4,95],[4,106,4,109],[4,110,4,112],[4,96,4,100],[5,77,5,81],[5,96,5,100],[4,101,4,105],[4,113,4,116],[13,53,13,76],[12,125,12,166],[4,48,4,52],[4,53,4,57],[4,58,4,61],[4,62,4,64],[4,29,4,33],[4,34,4,37],[4,38,4,40],[5,62,5,64],[5,65,5,68],[5,69,5,71],[5,72,5,76],[7,77,7,100],[9,77,9,100],[9,101,9,124],[7,29,7,52],[7,53,7,76],[8,29,8,52],[8,53,8,76],[9,29,9,52],[9,53,9,76],[7,101,7,124]]}
[]
["２",null,null,null,null,"測量等実績高"]
[]
[null,null,null,null,null,null,null,null,null,null,null,null,null,null,null,null,null,null,null,null,null,null,null,null,null,null,null,null,null,"②  直 前 ２ 年 度 分 決 算",null,null,null,null,null,null,null,null,null,null,null,null,null,null,null,null,null,null,null,null,null,null,null,null,null,null,null,null,null,null,null,null,null,null,null,null,null,null,null,null,null,null,null,null,null,null,null,"③  直 前 １ 年 度 分 決 算"]
[null,"①",null,null,null,"競争参加資格",null,null,null,null,null,null,null,null,null,null,null,null,null,null,null,null,null,null,null,null,null,null,null,"平成",null,null,null,null,null,null,null,null,"年",null,null,null,null,null,null,"月",null,null,"から",null,null,null,null,"平成",null,null,null,null,null,null,null,null,"年",null,null,null,null,null,null,"月",null,null,"から",null,null,null,null,"平成",null,null,null,null,null,null,null,null,"年",null,null,null,null,null,null,"月",null,null,"から",null,null,null,null,"平成",null,null,null,null,null,null,null,null,"年",null,null,null,null,null,null,"月",null,null,"から",null,null,null,null,null,null,null,null,null,"④",null,null,null,null,"直  前  ２   ヶ   年  間  の"]
[null,null,null,null,null,"希望業種区分",null,null,null,null,null,null,null,null,null,null,null,null,null,null,null,null,null,null,null,null,null,null,null,"平成",null,null,null,null,null,null,null,null,"年",null,null,null,null,null,null,"月",null,null,"まで",null,null,null,null,"平成",null,null,null,null,null,null,null,null,"年",null,null,null,null,null,null,"月",null,null,"まで",null,null,null,null,"平成",null,null,null,null,null,null,null,null,"年",null,null,null,null,null,null,"月",null,null,"まで",null,null,null,null,"平成",null,null,null,null,null,null,null,null,"年",null,null,null,null,null,null,"月",null,null,"まで",null,null,null,null,null,null,null,null,null,null,null,null,null,null,"年  間  平  均  実  績  高"]
[null,null,null,null,null,null,null,null,null,null,null,null,null,null,null,null,null,null,null,null,null,null,null,null,null,null,null,null,null,null,null,null,null,null,null,null,null,null,null,null,null,null,null,null,null,null,null,null,null,null,null,"（千円）",null,null,null,null,null,null,null,null,null,null,null,null,null,null,null,null,null,null,null,null,null,null,null,"（千円）",null,null,null,null,null,null,null,null,null,null,null,null,null,null,null,null,null,null,null,null,null,null,null,"（千円）",null,null,null,null,null,null,null,null,null,null,null,null,null,null,null,null,null,null,null,null,null,null,null,"（千円）",null,null,null,null,null,null,null,null,null,null,null,null,null,null,null,null,null,null,null,null,null,null,null,null,null,null,null,null,null,null,null,null,null,null,"（千円）"]
["測    量"]
["建築関係建設コンサルタント業務"]
["土木関係建設コンサルタント業務"]
["地質調査業務"]
["補償関係コンサルタント業務"]
["その他"]
[null,null,null,"合                 計",null,null,null,null,null,null,null,null,null,null,null,null,null,null,null,null,null,null,null,null,null,null,null,null,null,{"$f":"SUM(AD8:BA13)","v":0},null,null,null,null,null,null,null,null,null,null,null,null,null,null,null,null,null,null,null,null,null,null,null,{"$f":"SUM(BB8:BY13)","v":0},null,null,null,null,null,null,null,null,null,null,null,null,null,null,null,null,null,null,null,null,null,null,null,{"$f":"SUM(BZ8:CW13)","v":0},null,null,null,null,null,null,null,null,null,null,null,null,null,null,null,null,null,null,null,null,null,null,null,{"$f":"SUM(CX8:DU13)","v":0},null,null,null,null,null,null,null,null,null,null,null,null,null,null,null,null,null,null,null,null,null,null,null,{"$f":"SUM(DV8:FK13)","v":0}]
[]
["３",null,null,null,null,"有資格者数（人）"]
[]
[null,null,null,null,null,null,null,null,null,null,null,"構造設計\n一級建築士",null,null,null,null,null,null,null,null,null,null,null,"設備設計\n一級建築士",null,null,null,null,null,null,null,null,null,null,null,"一級建築士",null,null,null,null,null,null,null,null,null,null,null,"二級建築士",null,null,null,null,null,null,null,null,null,null,null,"建築設備士",null,null,null,null,null,null,null,null,null,null,null,"建築積算士\n（建築積算資格者）",null,null,null,null,null,null,null,null,null,null,null,"一級土木                   施工管理技士",null,null,null,null,null,null,null,null,null,null,null,"二級土木                     施工管理技士",null,null,null,null,null,null,null,null,null,null,null,"測量士",null,null,null,null,null,null,null,null,null,null,null,"測量士補",null,null,null,null,null,null,null,null,null,null,null,"環境計量士",null,null,null,null,null,null,null,null,null,null,null,"不動産鑑定士",null,null,null,null,null,null,null,null,null,null,null,"不動産鑑定士補"]
[]
[]
[null,null,null,null,null,null,null,null,null,null,null,"技術士"]
[null,null,null,null,null,null,null,null,null,null,null,"総合技術監理部門\n（地質を除く対象科目）",null,null,null,null,null,null,null,null,null,null,null,"建設部門",null,null,null,null,null,null,null,null,null,null,null,"農業部門",null,null,null,null,null,null,null,null,null,null,null,"森林部門",null,null,null,null,null,null,null,null,null,null,null,"水産部門",null,null,null,null,null,null,null,null,null,null,null,"上下水道部門",null,null,null,null,null,null,null,null,null,null,null,"衛生工学部門",null,null,null,null,null,null,null,null,null,null,null,"電気電子部門",null,null,null,null,null,null,null,null,null,null,null,"機械部門",null,null,null,null,null,null,null,null,null,null,null,"情報工学部門",null,null,null,null,null,null,null,null,null,null,null,"総合技術監理部門\n（地質調査）",null,null,null,null,null,null,null,null,null,null,null,"地質調査"]
[]
[]
[null,null,null,null,null,null,null,null,null,null,null,"第一種電気\n主任技術者",null,null,null,null,null,null,null,null,null,null,null,"伝送交換\n主任技術者",null,null,null,null,null,null,null,null,null,null,null,"線路\n主任技術者",null,null,null,null,null,null,null,null,null,null,null,"A　P　E　C\nエンジニア",null,null,null,null,null,null,null,null,null,null,null,"ＲＣＣＭ",null,null,null,null,null,null,null,null,null,null,null,"地質調査技士",null,null,null,null,null,null,null,null,null,null,null,"補償業務管理士",null,null,null,null,null,null,null,null,null,null,null,"公共用地経験者",null,null,null,null,null,null,null,null,null,null,null,"土地家屋調査士",null,null,null,null,null,null,null,null,null,null,null,"司法書士"]
[]
[]
[]
["４",null,null,null,null,"建設コンサルタント及び補償コンサルタント登録業者の登録部門"]
[]
["建     設     コ     ン     サ     ル     タ     ン     ト     業     務",null,null,null,null,null,null,null,null,null,null,null,null,null,null,null,null,null,null,null,null,null,null,null,null,null,null,null,null,null,null,null,null,null,null,null,null,null,null,null,null,null,null,null,null,null,null,null,null,null,null,null,null,null,null,null,null,null,null,null,null,null,null,null,null,null,null,null,null,null,null,null,null,null,null,null,null,null,null,null,null,null,null,null,null,null,null,null,null,null,null,null,null,null,null,null,null,null,null,null,null,null,null,null,null,"補 償 コ ン サ ル タ ン ト 業 務"]
["１",null,null,null,null,"２",null,null,null,null,"３",null,null,null,null,"４",null,null,null,null,"５",null,null,null,null,"６",null,null,null,null,"７",null,null,null,null,"８",null,null,null,null,"９",null,null,null,null,"１０",null,null,null,null,"１１",null,null,null,null,"１２",null,null,null,null,"１３",null,null,null,null,"１４",null,null,null,null,"１５",null,null,null,null,"１６",null,null,null,null,"１７",null,null,null,null,"１８",null,null,null,null,"１９",null,null,null,null,"２０",null,null,null,null,"２１",null,null,null,null,"２２",null,null,null,null,"２３",null,null,null,null,"２４",null,null,null,null,"２５",null,null,null,null,"２６",null,null,null,null,"２７",null,null,null,null,"２８",null,null,null,null,"２９"]
["河川、砂防及び海岸・海洋",null,null,null,null,"港湾及び  空港",null,null,null,null,"電力土木",null,null,null,null,"道路",null,null,null,null,"鉄道",null,null,null,null,"上水道及び 工業用水道",null,null,null,null,"下水道",null,null,null,null,"農業土木",null,null,null,null,"森林土木",null,null,null,null,"水産土木",null,null,null,null,"廃棄物",null,null,null,null,"造園",null,null,null,null,"都市計画及び地方計画",null,null,null,null,"地質",null,null,null,null,"土質及び 基礎",null,null,null,null,"鋼構造及び　 ｺﾝｸﾘｰﾄ",null,null,null,null,"トンネル",null,null,null,null,"施工計画、施工 設備及び積算",null,null,null,null,"建設環境",null,null,null,null,"機械",null,null,null,null,"電気電子",null,null,null,null,"土地調査",null,null,null,null,"土地評価",null,null,null,null,"物件",null,null,null,null,"機械工作物",null,null,null,null,"営業補償・特殊補償",null,null,null,null,"事業損失",null,null,null,null,"補償関連",null,null,null,null,"総合補償"]
[]
[null,"５",null,null,null,null,null,null,"区                            分",null,null,null,null,null,null,null,null,null,null,null,null,null,null,null,null,null,null,null,null,null,null,null,null,null,null,null,null,null,null,null,null,null,null,null,null,null,null,"直     前     決     算     時"]
[null,null,null,null,null,null,null,null,null,null,null,null,null,null,null,null,null,null,null,null,null,null,null,null,null,null,null,null,null,null,null,null,null,null,null,null,null,null,null,null,null,null,null,null,null,null,null,null,null,null,null,null,null,null,null,null,null,null,null,null,null,null,null,null,null,null,null,null,null,null,null,null,null,null,null,"（千円）"]
[null,"自己資本額",null,null,null,null,null,"①",null,null,null,null,null,"（  う  ち  外  国  資  本  ）",null,null,null,null,null,null,null,null,null,null,null,null,null,null,null,null,null,null,null,null,null,null,null,null,null,null,null,null,null,null,"(",null,null,{"$f":"入力シート１!$E$51","v":0},null,null,null,null,null,null,null,null,null,null,null,null,null,null,null,null,null,null,null,null,null,null,null,null,null,null,")"]
[null,null,null,null,null,null,null,null,null,null,null,"株主資本",null,null,null,null,null,null,null,null,null,null,null,null,null,null,null,null,null,null,null,null,null,null,null,null,null,null,null,null,null,null,null,null,{"$f":"入力シート１!$E$50","v":0}]
[null,null,null,null,null,null,null,"②",null,null,null,"評価・換算差額等",null,null,null,null,null,null,null,null,null,null,null,null,null,null,null,null,null,null,null,null,null,null,null,null,null,null,null,null,null,null,null,null,{"$f":"入力シート１!$E$52","v":0}]
[null,null,null,null,null,null,null,"③",null,null,null,"新株予約権",null,null,null,null,null,null,null,null,null,null,null,null,null,null,null,null,null,null,null,null,null,null,null,null,null,null,null,null,null,null,null,null,{"$f":"入力シート１!$E$53","v":0}]
[null,null,null,null,null,null,null,"④",null,null,null,"計　（P）",null,null,null,null,null,null,null,null,null,null,null,null,null,null,null,null,null,null,null,null,null,null,null,null,null,null,null,null,null,null,null,null,{"$f":"SUM($AS$38:$BY$40)","v":0}]
[]
[]
["６",null,null,null,"損益計算書",null,null,null,null,null,null,null,null,null,null,null,null,null,"税引前当期利益（千円）",null,null,null,null,null,null,null,null,null,null,null,null,null,null,null,null,null,null,null,null,null,null,null,"（S）",null,null,null,null,null,null,null,null,null,null,null,null,null,null,null,null,null,null,null,null,null,null,null,null,null,null,null,null,null,null,null,null,null,null,null,null,null,null,null,null,null,"９",null,null,null,null,"１",null,null,null,"外国籍会社",null,null,null,null,null,null,null,null,null,null,null,null,null,null,null,null,null,null,null,null,null,null,null,null,null,null,null,null,null,null,"３",null,null,null,"日本国籍会社"]
[null,null,null,null,null,null,null,null,null,null,null,null,null,null,null,null,null,null,"①",null,null,null,"流 動 資 産（千円）",null,null,null,null,null,null,null,null,null,null,null,null,null,null,null,null,null,null,null,"（m）",null,null,null,null,null,null,null,null,null,null,null,null,null,null,null,null,null,null,null,null,null,null,null,null,null,null,null,null,null,null,null,null,null,null,null,null,null,null,null,null,null,"外資状況",null,null,null,null,"［ 国名 ：                                      ］",null,null,null,null,null,null,null,null,null,null,null,null,null,null,null,null,null,null,null,null,null,null,null,null,null,null,null,null,null,null,null,null,null,null,"［ 国名 ：                                      ］"]
["７",null,null,null,"貸借対照表",null,null,null,null,null,null,null,null,null,null,null,null,null,"②",null,null,null,"流 動 負 債（千円）",null,null,null,null,null,null,null,null,null,null,null,null,null,null,null,null,null,null,null,"（ｎ）",null,null,null,null,null,null,null,null,null,null,null,null,null,null,null,null,null,null,null,null,null,null,null,null,null,null,null,null,null,null,null,null,null,null,null,null,null,null,null,null,null,null,null,null,null,null,"２",null,null,null,"日本国籍会社",null,null,null,null,null,null,null,null,null,null,null,null,null,null,null,null,null,null,null,null,null,null,null,null,null,null,null,null,null,null,null,null,null,null,null,null,null,null,"（ 外資比率 ：          ％   ）"]
[null,null,null,null,null,null,null,null,null,null,null,null,null,null,null,null,null,null,"③",null,null,null,"固 定 資 産（千円）",null,null,null,null,null,null,null,null,null,null,null,null,null,null,null,null,null,null,null,"（Q）",null,null,null,null,null,null,null,null,null,null,null,null,null,null,null,null,null,null,null,null,null,null,null,null,null,null,null,null,null,null,null,null,null,null,null,null,null,null,null,null,null,null,null,null,null,null,"［ 国名 ：                                      ］",null,null,null,null,null,null,null,null,null,null,null,null,null,null,null,null,null,null,null,null,null,null,null,null,null,null,null,null,null,null,null,null,null,null,"［ 国名 ：                                      ］"]
[null,null,null,null,null,null,null,null,null,null,null,null,null,null,null,null,null,null,"④",null,null,null,"総 資 本 額（千円）",null,null,null,null,null,null,null,null,null,null,null,null,null,null,null,null,null,null,null,"（R）",null,null,null,null,null,null,null,null,null,null,null,null,null,null,null,null,null,null,null,null,null,null,null,null,null,null,null,null,null,null,null,null,null,null,null,null,null,null,null,null,null,null,null,null,null,null,null,null,null,null,null,null,null,null,"（ 外資比率 ：   １００％   ）",null,null,null,null,null,null,null,null,null,null,null,null,null,null,null,null,null,null,null,null,null,null,null,null,null,null,null,null,null,null,null,null,null,null,"（ 外資比率 ：          ％   ）"]
[]
["８",null,null,null,"経 営 比 率",null,null,null,null,null,null,null,null,null,null,null,null,null,"①",null,null,null,"総資本純利益率",null,null,null,null,null,null,null,null,null,null,null,null,null,null,null,null,null,null,null,null,null,null,null,null,null,null,null,null,null,null,"（S/R×100）",null,null,null,null,null,null,null,null,null,null,null,null,null,null,null,null,null,null,null,null,null,"（％）",null,null,null,null,null,null,null,null,"10",null,null,null,null,"①",null,null," ","創                             業"]
[null,null,null,null,null,null,null,null,null,null,null,null,null,null,null,null,null,null,"②",null,null,null,"流動比率",null,null,null,null,null,null,null,null,null,null,null,null,null,null,null,null,null,null,null,null,null,null,null,null,null,null,null,null,null,null,"（m/ｎ×100）",null,null,null,null,null,null,null,null,null,null,null,null,null,null,null,null,null,null,null,null,null,"（％）",null,null,null,null,null,null,null,null,"営業年数等",null,null,null,null,"②",null,null,null,"休   業   期   間   又   は",null,null,null,null,null,null,null,null,null,null,null,null,null,null,null,null,null,null,null,null,null,null,null,null,null,null,null,null,null,null,null,null,null,null,null,null,null,null,null,null,null,null,null,null,null,null,null,null,null,null,null,null,null,null,null,null,null,"から"]
[null,null,null,null,null,null,null,null,null,null,null,null,null,null,null,null,null,null,"③",null,null,null,"自己資本固定比率",null,null,null,null,null,null,null,null,null,null,null,null,null,null,null,null,null,null,null,null,null,null,null,null,null,null,null,null,null,null,"（P/Q×100）",null,null,null,null,null,null,null,null,null,null,null,null,null,null,null,null,null,null,null,null,null,"（％）",null,null,null,null,null,null,null,null,null,null,null,null,null,null,null,null,null,"転  （  廃  ）  業  の  期  間",null,null,null,null,null,null,null,null,null,null,null,null,null,null,null,null,null,null,null,null,null,null,null,null,null,null,null,null,null,null,null,null,null,null,null,null,null,null,null,null,null,null,null,null,null,null,null,null,null,null,null,null,null,null,null,null,null,"まで"]
[null,null,null,null,null,null,null,null,null,null,null,null,null,null,null,null,null,null,null,null,null,null,null,null,null,null,null,null,null,null,null,null,null,null,null,null,null,null,null,null,null,null,null,null,null,null,null,null,null,null,null,null,null,null,null,null,null,null,null,null,null,null,null,null,null,null,null,null,null,null,null,null,null,null,null,null,null,null,null,null,null,null,null,null,null,null,null,null,null,"③",null,null,null,"現  組  織  へ  の  変  更"]
[null,null,null,null,null,null,null,null,null,null,null,null,null,null,null,null,null,null,null,null,null,null,null,null,null,null,null,null,null,null,null,null,null,null,null,null,null,null,null,null,null,null,null,null,null,null,null,null,null,null,null,null,null,null,null,null,null,null,null,null,null,null,null,null,null,null,null,null,null,null,null,null,null,null,null,null,null,null,null,null,null,null,null,null,null,null,null,null,null,"④",null,null,null,"営       業       年       数",null,null,null,null,null,null,null,null,null,null,null,null,null,null,null,null,null,null,null,null,null,null,null,null,null,null,null,null,null,{"$f":"入力シート１!E19","v":0},null,null,null,null,null,null,null,null,null,null,null,null,null,null,null,null,null,null,null,null,null,null,null,null,null,"年"]
[]
["11",null,null,null,"常勤職員 の数",null,null,null,null,null,null,null,null,null,null,null,null,null,null,null,null,null,null,null,null,"①",null,null,null,"技    術    職    員",null,null,null,null,null,null,null,null,null,null,null,null,null,null,null,null,null,null,null,"②",null,null,null,"事    務    職    員",null,null,null,null,null,null,null,null,null,null,null,null,null,null,null,null,null,null,null,"③",null,null,null,"そ の 他 の 職 員",null,null,null,null,null,null,null,null,null,null,null,null,null,null,null,null,null,null,null,null,null,null,null,"④",null,null,null,null,null,null,"計",null,null,null,null,null,null,null,null,null,null,null,null,null,null,"⑤ 役職員等"]
[null,null,null,null,null,null,null,null,null,null,null,null,null,null,null,null,null,null,null,null,"（ 人 ）",null,null,{"$f":"入力シート１!E20","v":0},null,null,null,null,null,null,null,null,null,null,null,null,null,null,null,null,null,null,null,null,null,null,null,{"$f":"入力シート１!E21","v":0},null,null,null,null,null,null,null,null,null,null,null,null,null,null,null,null,null,null,null,null,null,null,null,{"$f":"入力シート１!E22","v":0},null,null,null,null,null,null,null,null,null,null,null,null,null,null,null,null,null,null,null,null,null,null,null,{"$f":"入力シート１!E23","v":0},null,null,null,null,null,null,null,null,null,null,null,null,null,null,null,null,null,null,null,null,null,null,null,null,null,null,null,null,null,null,null,null,null,null,null,null,null,null,null,null,null,"※  ⑤は④の内数"]

{"sheet":"入力・印刷シート3(業態調書)","index":5,"n_rows":22,"n_cols":175,"rows_kept":22,"cut":false,"hidden":false,"merged":[[16,0,16,2],[16,3,16,5],[16,135,16,137],[16,138,16,140],[18,0,18,2],[19,0,19,2],[20,0,20,2],[21,0,21,2],[16,159,16,161],[16,87,16,89],[16,90,16,92],[16,93,16,95],[16,96,16,98],[16,99,16,101],[16,102,16,104],[16,33,16,35],[16,36,16,38],[16,39,16,41],[16,57,16,59],[16,60,16,62],[16,63,16,65],[16,66,16,68],[16,69,16,71],[16,72,16,74],[16,75,16,77],[16,84,16,86],[16,51,16,53],[16,54,16,56],[16,141,16,143],[16,144,16,146],[16,147,16,149],[16,150,16,152],[16,165,16,167],[16,168,16,170],[16,171,16,173],[16,105,16,107],[16,108,16,110],[16,111,16,113],[16,114,16,116],[16,117,16,119],[16,120,16,122],[16,153,16,155],[16,156,16,158],[16,123,16,125],[16,126,16,128],[16,129,16,131],[16,132,16,134],[16,162,16,164],[15,171,15,173],[15,174,15,176],[16,6,16,8],[16,9,16,11],[16,12,16,14],[15,120,15,146],[15,147,15,149],[15,150,15,152],[16,42,16,44],[16,45,16,47],[16,48,16,50],[16,15,16,17],[16,18,16,20],[16,21,16,23],[16,24,16,26],[16,27,16,29],[16,30,16,32],[16,78,16,80],[16,81,16,83],[15,162,15,164],[15,165,15,167],[15,168,15,170],[15,90,15,92],[16,174,16,176],[15,66,15,68],[15,69,15,71],[15,72,15,74],[15,75,15,77],[15,78,15,80],[15,81,15,83],[15,153,15,155],[15,102,15,104],[15,0,15,2],[15,3,15,11],[15,12,15,56],[15,57,15,59],[15,60,15,62],[15,63,15,65],[15,84,15,86],[15,87,15,89],[15,114,15,116],[15,117,15,119],[15,105,15,107],[15,108,15,110],[15,111,15,113],[15,159,15,161],[15,93,15,95],[15,96,15,98],[15,99,15,101],[15,156,15,158],[13,87,13,89],[13,90,13,92],[13,93,13,95],[14,96,14,98],[14,99,14,101],[14,102,14,104],[14,105,14,107],[14,108,14,110],[14,111,14,113],[14,156,14,158],[13,108,13,110],[13,111,13,113],[13,114,13,116],[11,0,13,2],[11,5,11,9],[11,12,11,56],[11,57,11,146],[11,151,11,176],[12,3,13,5],[12,6,13,8],[12,9,13,11],[12,12,13,14],[12,15,13,17],[13,162,13,164],[13,102,13,104],[13,105,13,107],[13,81,13,83],[13,84,13,86],[12,144,13,146],[0,78,0,80],[7,80,7,111],[12,174,13,176],[13,57,13,59],[13,60,13,62],[13,63,13,65],[13,66,13,68],[13,69,13,71],[13,72,13,74],[13,75,13,77],[12,123,13,125],[12,126,13,128],[12,138,13,140],[13,165,13,167],[13,168,13,170],[13,171,13,173],[13,117,13,119],[13,150,13,152],[13,153,13,155],[12,141,13,143],[13,156,13,158],[13,159,13,161],[14,42,14,44],[14,45,14,47],[0,22,0,24],[0,25,0,27],[0,28,0,30],[12,120,13,122],[13,78,13,80],[0,37,0,39],[0,40,0,42],[0,60,0,62],[0,63,0,65],[0,84,0,86],[0,87,0,89],[0,90,0,92],[3,0,3,158],[11,147,13,149],[12,30,13,32],[12,129,13,131],[12,132,13,134],[12,135,13,137],[12,33,13,35],[12,36,13,38],[13,96,13,98],[13,99,13,101],[14,75,14,77],[0,19,0,21],[0,81,0,83],[0,66,0,68],[0,69,0,71],[14,0,14,2],[14,3,14,5],[14,6,14,8],[14,9,14,11],[14,12,14,14],[14,15,14,17],[0,13,0,15],[0,16,0,18],[12,18,13,20],[12,21,13,23],[12,24,13,26],[12,27,13,29],[12,42,13,44],[12,45,13,47],[12,48,13,50],[12,51,13,53],[12,54,13,56],[14,36,14,38],[14,39,14,41],[14,162,14,164],[14,165,14,167],[14,48,14,50],[14,51,14,53],[0,72,0,74],[0,75,0,77],[0,31,0,33],[0,34,0,36],[12,39,13,41],[14,54,14,56],[14,57,14,59],[14,60,14,62],[14,63,14,65],[7,3,7,42],[14,18,14,20],[14,21,14,23],[14,24,14,26],[14,27,14,29],[14,30,14,32],[14,33,14,35],[5,0,5,56],[14,66,14,68],[14,69,14,71],[14,72,14,74],[14,78,14,80],[14,81,14,83],[14,84,14,86],[14,87,14,89],[14,90,14,92],[14,93,14,95],[14,168,14,170],[14,171,14,173],[14,174,14,176],[14,114,14,116],[14,117,14,119],[14,120,14,122],[14,123,14,125],[14,153,14,155],[14,126,14,128],[14,129,14,131],[14,132,14,134],[14,135,14,137],[14,138,14,140],[14,141,14,143],[14,144,14,146],[14,147,14,149],[14,150,14,152],[14,159,14,161]]}
[]
[]
[]
["業            態            調            書  （測量・建設コンサルタント等）"]
[]
["測量調査設計業務実績情報システム（テクリス）における企業ＩＤ",null,null,null,null,null,null,null,null,null,null,null,null,null,null,null,null,null,null,null,null,null,null,null,null,null,null,null,null,null,null,null,null,null,null,null,null,null,null,null,null,null,null,null,null,null,null,null,null,null,null,null,null,null,null,null,null,null,null,null,null,null,null,null,null,null,null,null,null,null,null,null,null,null,null,null,null,"公共建築設計者情報システム（PUBDIS）における会社コ－ド"]
[]
[null,null,null,null,null,null,null,null,null,null,null,null,null,null,null,null,null,null,null,null,null,null,null,null,null,null,null,null,null,null,null,null,null,null,null,null,null,null,null,null,null,null,null,"（８桁又は１０桁）",null,null,null,null,null,null,null,null,null,null,null,null,null,null,null,null,null,null,null,null,null,null,null,null,null,null,null,null,null,null,null,null,null,null,null,null,null,null,null,null,null,null,null,null,null,null,null,null,null,null,null,null,null,null,null,null,null,null,null,null,null,null,null,null,null,null,null,null,"（８桁）"]
[]
[]
["登録部門及び希望業務の確認"]
["登録部門及び希望業務",null,null,null,null,"測量",null,null,null,null,null,null,"建築関係建設コンサルタント業務",null,null,null,null,null,null,null,null,null,null,null,null,null,null,null,null,null,null,null,null,null,null,null,null,null,null,null,null,null,null,null,null,null,null,null,null,null,null,null,null,null,null,null,null,"土木関係建設コンサルタント業務",null,null,null,null,null,null,null,null,null,null,null,null,null,null,null,null,null,null,null,null,null,null,null,null,null,null,null,null,null,null,null,null,null,null,null,null,null,null,null,null,null,null,null,null,null,null,null,null,null,null,null,null,null,null,null,null,null,null,null,null,null,null,null,null,null,null,null,null,null,null,null,null,null,null,null,null,null,null,null,null,null,null,null,null,null,null,null,null,null," 地　　質　　調　　査",null,null,null,"補償関係コンサルタント業務"]
[null,null,null," 測量一般",null,null," 地図の調整",null,null," 航空測量",null,null," 建築一般",null,null," 意匠",null,null," 構造",null,null," 暖冷房",null,null," 衛生",null,null," 電気",null,null," 建築積算",null,null," 機械積算",null,null," 電気積算",null,null,"　工事監理（建築）",null,null,"　工事監理（電気）",null,null,"　工事監理（機械）",null,null,"　調査",null,null,"　耐震診断",null,null,"　地区計画及び地域計画",null,null,"建         設         コ        ン         サ         ル         タ         ン         ト",null,null,null,null,null,null,null,null,null,null,null,null,null,null,null,null,null,null,null,null,null,null,null,null,null,null,null,null,null,null,null,null,null,null,null,null,null,null,null,null,null,null,null,null,null,null,null,null,null,null,null,null,null,null,null,null,null,null,null,null,null,null," 交通量調査",null,null," 環境調査",null,null," 経済調査",null,null," 分析・解析",null,null," 宅地造成",null,null," 電算関係",null,null," 計算業務",null,null," 資料等整理",null,null," 施工管理",null,null,null,null,null,"補 償 コ ン サ ル タ  ン ト",null,null,null,null,null,null,null,null,null,null,null,null,null,null,null,null,null,null,null,null,null,null,null," 不動産鑑定"]
[null,null,null,null,null,null,null,null,null,null,null,null,null,null,null,null,null,null,null,null,null,null,null,null,null,null,null,null,null,null,null,null,null,null,null,null,null,null,null,null,null,null,null,null,null,null,null,null,null,null,null,null,null,null,null,null,null,"　河川、砂防及び海岸・海洋",null,null,"　港湾及び空港",null,null,"　電力土木",null,null,"　道路",null,null,"　鉄道",null,null,"　上水道及び工業用水",null,null,"　下水道",null,null,"　農業土木",null,null,"　森林土木",null,null,"　水産土木",null,null,"　廃棄物",null,null,"　造園",null,null,"　都市計画及び地方計画",null,null,"　地質",null,null,"　土質及び基礎",null,null,"　鋼構造及びｺﾝｸﾘーﾄ",null,null,"　トンネル",null,null,"　施工計画・施工設備及び積算",null,null,"　建設環境",null,null,"　機械",null,null,"　電気電子",null,null,null,null,null,null,null,null,null,null,null,null,null,null,null,null,null,null,null,null,null,null,null,null,null,null,null,null,null,null,null,null,"　土地調査",null,null,"　土地評価",null,null,"　物件",null,null,"　機械工作物",null,null,"　営業補償・特殊補償",null,null,"　事業損失",null,null,"　補償関連",null,null,"　総合補償"]
["番号",null,null,"01",null,null,"02",null,null,"03",null,null,"01",null,null,"02",null,null,"03",null,null,"04",null,null,"05",null,null,"06",null,null,"07",null,null,"08",null,null,"09",null,null,"10",null,null,"11",null,null,"12",null,null,"13",null,null,"14",null,null,"15",null,null,"01",null,null,"02",null,null,"03",null,null,"04",null,null,"05",null,null,"06",null,null,"07",null,null,"08",null,null,"09",null,null,"10",null,null,"11",null,null,"12",null,null,"13",null,null,"14",null,null,"15",null,null,"16",null,null,"17",null,null,"18",null,null,"19",null,null,"20",null,null,"21",null,null,"22",null,null,"23",null,null,"24",null,null,"25",null,null,"26",null,null,"27",null,null,"28",null,null,"29",null,null,"30",null,null,"01",null,null,"01",null,null,"02",null,null,"03",null,null,"04",null,null,"05",null,null,"06",null,null,"07",null,null,"08",null,null,"09"]
["登録",null,null,null,null,null,null,null,null,null,null,null,null,null,null,null,null,null,null,null,null,null,null,null,null,null,null,null,null,null,null,null,null,null,null,null,null,null,null,null,null,null,null,null,null,null,null,null,null,null,null,null,null,null,null,null,null,{"$f":"IF(入力シート２!L25=1,\"○\",\"\")","v":""},null,null,{"$f":"IF(入力シート２!L26=1,\"○\",\"\")","v":""},null,null,{"$f":"IF(入力シート２!L27=1,\"○\",\"\")","v":""},null,null,{"$f":"IF(入力シート２!L28=1,\"○\",\"\")","v":""},null,null,{"$f":"IF(入力シート２!L29=1,\"○\",\"\")","v":""},null,null,{"$f":"IF(入力シート２!L30=1,\"○\",\"\")","v":""},null,null,{"$f":"IF(入力シート２!L31=1,\"○\",\"\")","v":""},null,null,{"$f":"IF(入力シート２!L32=1,\"○\",\"\")","v":""},null,null,{"$f":"IF(入力シート２!L33=1,\"○\",\"\")","v":""},null,null,{"$f":"IF(入力シート２!L34=1,\"○\",\"\")","v":""},null,null,{"$f":"IF(入力シート２!L35=1,\"○\",\"\")","v":""},null,null,{"$f":"IF(入力シート２!L36=1,\"○\",\"\")","v":""},null,null,{"$f":"IF(入力シート２!L37=1,\"○\",\"\")","v":""},null,null,{"$f":"IF(入力シート２!L38=1,\"○\",\"\")","v":""},null,null,{"$f":"IF(入力シート２!L39=1,\"○\",\"\")","v":""},null,null,{"$f":"IF(入力シート２!L40=1,\"○\",\"\")","v":""},null,null,{"$f":"IF(入力シート２!L41=1,\"○\",\"\")","v":""},null,null,{"$f":"IF(入力シート２!L42=1,\"○\",\"\")","v":""},null,null,{"$f":"IF(入力シート２!L43=1,\"○\",\"\")","v":""},null,null,{"$f":"IF(入力シート２!L44=1,\"○\",\"\")","v":""},null,null,{"$f":"IF(入力シート２!L45=1,\"○\",\"\")","v":""},null,null,null,null,null,null,null,null,null,null,null,null,null,null,null,null,null,null,null,null,null,null,null,null,null,null,null,null,null,null,null,null,{"$f":"IF(入力シート２!L56=1,\"○\",\"\")","v":""},null,null,{"$f":"IF(入力シート２!L57=1,\"○\",\"\")","v":""},null,null,{"$f":"IF(入力シート２!L58=1,\"○\",\"\")","v":""},null,null,{"$f":"IF(入力シート２!L59=1,\"○\",\"\")","v":""},null,null,{"$f":"IF(入力シート２!L60=1,\"○\",\"\")","v":""},null,null,{"$f":"IF(入力シート２!L61=1,\"○\",\"\")","v":""},null,null,{"$f":"IF(入力シート２!L62=1,\"○\",\"\")","v":""},null,null,{"$f":"IF(入力シート２!L63=1,\"○\",\"\")","v":""}]
["希望",null,null,{"$f":"IF(入力シート２!N7=1,\"○\",\"\")","v":""},null,null,{"$f":"IF(入力シート２!N8=1,\"○\",\"\")","v":""},null,null,{"$f":"IF(入力シート２!N9=1,\"○\",\"\")","v":""},null,null,{"$f":"IF(入力シート２!N10=1,\"○\",\"\")","v":""},null,null,{"$f":"IF(入力シート２!N11=1,\"○\",\"\")","v":""},null,null,{"$f":"IF(入力シート２!N12=1,\"○\",\"\")","v":""},null,null,{"$f":"IF(入力シート２!N13=1,\"○\",\"\")","v":""},null,null,{"$f":"IF(入力シート２!N14=1,\"○\",\"\")","v":""},null,null,{"$f":"IF(入力シート２!N15=1,\"○\",\"\")","v":""},null,null,{"$f":"IF(入力シート２!N16=1,\"○\",\"\")","v":""},null,null,{"$f":"IF(入力シート２!N17=1,\"○\",\"\")","v":""},null,null,{"$f":"IF(入力シート２!N18=1,\"○\",\"\")","v":""},null,null,{"$f":"IF(入力シート２!N19=1,\"○\",\"\")","v":""},null,null,{"$f":"IF(入力シート２!N20=1,\"○\",\"\")","v":""},null,null,{"$f":"IF(入力シート２!N21=1,\"○\",\"\")","v":""},null,null,{"$f":"IF(入力シート２!N22=1,\"○\",\"\")","v":""},null,null,{"$f":"IF(入力シート２!N23=1,\"○\",\"\")","v":""},null,null,{"$f":"IF(入力シート２!N24=1,\"○\",\"\")","v":""},null,null,{"$f":"IF(入力シート２!N25=1,\"○\",\"\")","v":""},null,null,{"$f":"IF(入力シート２!N26=1,\"○\",\"\")","v":""},null,null,{"$f":"IF(入力シート２!N27=1,\"○\",\"\")","v":""},null,null,{"$f":"IF(入力シート２!N28=1,\"○\",\"\")","v":""},null,null,{"$f":"IF(入力シート２!N29=1,\"○\",\"\")","v":""},null,null,{"$f":"IF(入力シート２!N30=1,\"○\",\"\")","v":""},null,null,{"$f":"IF(入力シート２!N31=1,\"○\",\"\")","v":""},null,null,{"$f":"IF(入力シート２!N32=1,\"○\",\"\")","v":""},null,null,{"$f":"IF(入力シート２!N33=1,\"○\",\"\")","v":""},null,null,{"$f":"IF(入力シート２!N34=1,\"○\",\"\")","v":""},null,null,{"$f":"IF(入力シート２!N35=1,\"○\",\"\")","v":""},null,null,{"$f":"IF(入力シート２!N36=1,\"○\",\"\")","v":""},null,null,{"$f":"IF(入力シート２!N37=1,\"○\",\"\")","v":""},null,null,{"$f":"IF(入力シート２!N38=1,\"○\",\"\")","v":""},null,null,{"$f":"IF(入力シート２!N39=1,\"○\",\"\")","v":""},null,null,{"$f":"IF(入力シート２!N40=1,\"○\",\"\")","v":""},null,null,{"$f":"IF(入力シート２!N41=1,\"○\",\"\")","v":""},null,null,{"$f":"IF(入力シート２!N42=1,\"○\",\"\")","v":""},null,null,{"$f":"IF(入力シート２!N43=1,\"○\",\"\")","v":""},null,null,{"$f":"IF(入力シート２!N44=1,\"○\",\"\")","v":""},null,null,{"$f":"IF(入力シート２!N45=1,\"○\",\"\")","v":""},null,null,{"$f":"IF(入力シート２!N46=1,\"○\",\"\")","v":""},null,null,{"$f":"IF(入力シート２!N47=1,\"○\",\"\")","v":""},null,null,{"$f":"IF(入力シート２!N48=1,\"○\",\"\")","v":""},null,null,{"$f":"IF(入力シート２!N49=1,\"○\",\"\")","v":""},null,null,{"$f":"IF(入力シート２!N50=1,\"○\",\"\")","v":""},null,null,{"$f":"IF(入力シート２!N51=1,\"○\",\"\")","v":""},null,null,{"$f":"IF(入力シート２!N52=1,\"○\",\"\")","v":""},null,null,{"$f":"IF(入力シート２!N53=1,\"○\",\"\")","v":""},null,null,{"$f":"IF(入力シート２!N54=1,\"○\",\"\")","v":""},null,null,{"$f":"IF(入力シート２!N55=1,\"○\",\"\")","v":""},null,null,{"$f":"IF(入力シート２!N56=1,\"○\",\"\")","v":""},null,null,{"$f":"IF(入力シート２!N57=1,\"○\",\"\")","v":""},null,null,{"$f":"IF(入力シート２!N58=1,\"○\",\"\")","v":""},null,null,{"$f":"IF(入力シート２!N59=1,\"○\",\"\")","v":""},null,null,{"$f":"IF(入力シート２!N60=1,\"○\",\"\")","v":""},null,null,{"$f":"IF(入力シート２!N61=1,\"○\",\"\")","v":""},null,null,{"$f":"IF(入力シート２!N62=1,\"○\",\"\")","v":""},null,null,{"$f":"IF(入力シート２!N63=1,\"○\",\"\")","v":""},null,null,{"$f":"IF(入力シート２!N64=1,\"○\",\"\")","v":""}]
["記載要領"]
["１",null,null,null,"   「測量業務」における「測量一般」、「地図の調整」及び「航空測量」を希望する方は、測量法第55条の登録がなければ希望することはできません。"]
["２",null,null,null,"   「建築関係建設コンサルタント業務」における「建築一般」を希望する方は、建築士法第23条の登録がなければ希望することはできません。"]
["３",null,null,null,"   「補償関係コンサルタント業務」における「不動産鑑定」を希望する方は、不動産の鑑定評価に関する法律第22条による登録がなければ希望することはできません。"]
["４",null,null,null,"　工事監理（建築）、工事監理（電気）及び工事監理（機械）については、自社の設計した事案以外の工事監理業務についても希望する場合、記載してください｡"]

{"sheet":"入力・印刷シート4(営業所一覧・技術者経歴書)","index":6,"n_rows":68,"n_cols":137,"rows_kept":68,"cut":false,"hidden":false,"merged":[[59,36,60,43],[59,98,59,121],[60,98,60,121],[61,36,62,43],[61,98,61,121],[62,98,62,121],[45,36,46,43],[45,98,45,121],[46,98,46,121],[47,36,48,43],[47,98,47,121],[48,98,48,121],[49,98,49,121],[50,98,50,121],[51,36,52,43],[51,98,51,121],[52,98,52,121],[59,44,60,97],[57,44,58,97],[55,44,56,97],[61,44,62,97],[39,36,40,43],[39,98,39,121],[40,98,40,121],[41,36,42,43],[41,98,41,121],[42,98,42,121],[43,36,44,43],[43,98,43,121],[44,98,44,121],[39,44,40,97],[41,44,42,97],[62,152,62,154],[61,161,61,163],[61,164,61,166],[61,143,61,145],[61,146,61,148],[61,149,61,151],[62,131,62,133],[62,158,62,160],[62,161,62,163],[62,164,62,166],[62,134,62,136],[62,137,62,139],[62,140,62,142],[62,143,62,145],[62,146,62,148],[61,0,62,2],[61,3,62,35],[60,152,60,154],[60,155,60,157],[60,158,60,160],[60,161,60,163],[61,122,61,124],[60,122,60,124],[62,122,62,124],[62,125,62,127],[59,0,60,2],[59,3,60,35],[62,128,62,130],[61,152,61,154],[61,155,61,157],[61,158,61,160],[61,125,61,127],[61,128,61,130],[61,131,61,133],[61,134,61,136],[61,137,61,139],[61,140,61,142],[62,155,62,157],[62,149,62,151],[59,164,59,166],[59,140,59,142],[59,143,59,145],[59,146,59,148],[60,125,60,127],[60,128,60,130],[60,164,60,166],[60,131,60,133],[60,134,60,136],[60,137,60,139],[60,140,60,142],[60,143,60,145],[60,146,60,148],[60,149,60,151],[59,155,59,157],[57,158,57,160],[57,125,57,127],[57,128,57,130],[57,131,57,133],[58,140,58,142],[58,143,58,145],[58,146,58,148],[58,149,58,151],[59,158,59,160],[59,149,59,151],[59,152,59,154],[58,122,58,124],[58,125,58,127],[58,128,58,130],[58,131,58,133],[58,161,58,163],[58,152,58,154],[58,158,58,160],[59,122,59,124],[59,125,59,127],[59,128,59,130],[59,131,59,133],[59,134,59,136],[59,137,59,139],[59,161,59,163],[57,0,58,2],[57,3,58,35],[56,149,56,151],[57,134,57,136],[57,137,57,139],[57,140,57,142],[57,122,57,124],[57,143,57,145],[58,155,58,157],[56,122,56,124],[56,125,56,127],[56,128,56,130],[58,134,58,136],[58,137,58,139],[55,36,56,43],[55,98,55,121],[56,98,56,121],[57,36,58,43],[57,98,57,121],[58,98,58,121],[55,122,55,124],[55,131,55,133],[55,134,55,136],[55,137,55,139],[57,164,57,166],[57,146,57,148],[57,149,57,151],[57,152,57,154],[57,155,57,157],[58,164,58,166],[55,161,55,163],[55,164,55,166],[55,140,55,142],[55,143,55,145],[55,146,55,148],[55,158,55,160],[55,149,55,151],[55,152,55,154],[55,155,55,157],[56,161,56,163],[56,164,56,166],[56,140,56,142],[56,143,56,145],[56,146,56,148],[56,152,56,154],[56,155,56,157],[56,158,56,160],[57,161,57,163],[55,0,56,2],[55,3,56,35],[54,134,54,136],[55,125,55,127],[55,128,55,130],[53,0,54,2],[53,3,54,35],[53,44,54,97],[56,131,56,133],[56,134,56,136],[56,137,56,139],[53,36,54,43],[53,98,53,121],[54,98,54,121],[54,158,54,160],[54,161,54,163],[54,164,54,166],[54,137,54,139],[54,140,54,142],[54,143,54,145],[54,146,54,148],[54,152,54,154],[53,122,53,124],[53,155,53,157],[54,149,54,151],[53,158,53,160],[53,125,53,127],[53,128,53,130],[52,158,52,160],[52,161,52,163],[52,164,52,166],[53,161,53,163],[53,164,53,166],[53,143,53,145],[53,146,53,148],[53,149,53,151],[53,152,53,154],[51,122,51,124],[51,125,51,127],[54,155,54,157],[52,125,52,127],[52,128,52,130],[52,131,52,133],[52,134,52,136],[52,137,52,139],[52,140,52,142],[52,143,52,145],[52,146,52,148],[52,149,52,151],[53,131,53,133],[53,134,53,136],[53,137,53,139],[53,140,53,142],[52,152,52,154],[52,155,52,157],[54,122,54,124],[54,125,54,127],[54,128,54,130],[54,131,54,133],[51,161,51,163],[51,164,51,166],[51,140,51,142],[51,143,51,145],[51,146,51,148],[51,149,51,151],[51,158,51,160],[51,152,51,154],[51,155,51,157],[51,0,52,2],[51,3,52,35],[50,134,50,136],[51,128,51,130],[51,131,51,133],[51,134,51,136],[51,44,52,97],[50,155,50,157],[50,158,50,160],[49,44,50,97],[50,125,50,127],[50,128,50,130],[50,131,50,133],[49,125,49,127],[49,128,49,130],[49,131,49,133],[49,134,49,136],[49,36,50,43],[49,0,50,2],[49,3,50,35],[49,122,49,124],[50,122,50,124],[52,122,52,124],[51,137,51,139],[50,161,50,163],[50,164,50,166],[50,152,50,154],[50,137,50,139],[50,140,50,142],[50,143,50,145],[50,146,50,148],[50,149,50,151],[49,143,49,145],[49,146,49,148],[49,137,49,139],[49,140,49,142],[49,152,49,154],[49,155,49,157],[49,158,49,160],[49,149,49,151],[49,161,49,163],[49,164,49,166],[48,134,48,136],[48,137,48,139],[48,140,48,142],[48,143,48,145],[47,140,47,142],[47,161,47,163],[47,164,47,166],[47,146,47,148],[47,149,47,151],[47,152,47,154],[47,155,47,157],[48,164,48,166],[48,146,48,148],[48,152,48,154],[48,155,48,157],[48,158,48,160],[48,161,48,163],[48,149,48,151],[47,0,48,2],[47,3,48,35],[45,161,45,163],[45,125,45,127],[45,128,45,130],[45,131,45,133],[45,134,45,136],[47,134,47,136],[46,122,46,124],[46,125,46,127],[46,128,46,130],[46,131,46,133],[46,161,46,163],[46,137,46,139],[46,140,46,142],[46,143,46,145],[45,122,45,124],[47,143,47,145],[47,122,47,124],[47,125,47,127],[47,128,47,130],[47,131,47,133],[47,158,47,160],[47,44,48,97],[45,164,45,166],[45,143,45,145],[45,146,45,148],[45,149,45,151],[45,152,45,154],[45,158,45,160],[46,164,46,166],[46,146,46,148],[46,155,46,157],[46,152,46,154],[46,158,46,160],[44,164,44,166],[45,0,46,2],[45,3,46,35],[45,44,46,97],[45,155,45,157],[46,149,46,151],[45,137,45,139],[45,140,45,142],[44,137,44,139],[44,140,44,142],[44,143,44,145],[44,146,44,148],[44,149,44,151],[44,152,44,154],[44,155,44,157],[44,158,44,160],[44,161,44,163],[43,44,44,97],[43,137,43,139],[43,122,43,124],[43,125,43,127],[44,122,44,124],[44,125,44,127],[44,128,44,130],[43,161,43,163],[43,164,43,166],[43,140,43,142],[43,143,43,145],[43,146,43,148],[43,149,43,151],[43,158,43,160],[43,152,43,154],[43,155,43,157],[41,0,42,2],[41,3,42,35],[41,122,41,124],[42,122,42,124],[44,131,44,133],[44,134,44,136],[41,164,41,166],[42,149,42,151],[43,0,44,2],[43,3,44,35],[42,134,42,136],[43,128,43,130],[43,131,43,133],[43,134,43,136],[42,155,42,157],[42,158,42,160],[42,161,42,163],[42,164,42,166],[42,152,42,154],[42,137,42,139],[42,140,42,142],[42,143,42,145],[42,146,42,148],[41,143,41,145],[41,161,41,163],[39,161,39,163],[39,122,39,124],[39,125,39,127],[39,128,39,130],[42,131,42,133],[41,125,41,127],[41,128,41,130],[41,131,41,133],[41,134,41,136],[41,137,41,139],[41,140,41,142],[41,146,41,148],[42,125,42,127],[42,128,42,130],[40,122,40,124],[41,155,41,157],[41,158,41,160],[40,128,40,130],[40,125,40,127],[41,149,41,151],[40,164,40,166],[40,131,40,133],[40,134,40,136],[40,137,40,139],[40,140,40,142],[40,143,40,145],[40,146,40,148],[40,152,40,154],[40,155,40,157],[40,158,40,160],[40,161,40,163],[40,149,40,151],[39,164,39,166],[39,146,39,148],[39,149,39,151],[39,152,39,154],[39,155,39,157],[39,134,39,136],[39,140,39,142],[39,143,39,145],[39,131,39,133],[39,137,39,139],[39,158,39,160],[39,0,40,2],[39,3,40,35],[37,164,37,166],[37,143,37,145],[38,164,38,166],[38,152,38,154],[38,122,38,124],[38,125,38,127],[38,128,38,130],[38,131,38,133],[38,146,38,148],[38,149,38,151],[38,134,38,136],[38,137,38,139],[38,140,38,142],[38,143,38,145],[38,155,38,157],[38,158,38,160],[38,161,38,163],[37,161,37,163],[37,122,37,124],[37,155,37,157],[37,146,37,148],[37,149,37,151],[46,134,46,136],[48,122,48,124],[48,128,48,130],[48,125,48,127],[47,137,47,139],[48,131,48,133],[31,0,31,166],[33,100,34,119],[34,0,34,2],[34,4,35,34],[34,45,35,96],[34,128,35,160],[35,100,36,119],[37,98,37,121],[38,98,38,121],[37,152,37,154],[37,158,37,160],[37,125,37,127],[37,128,37,130],[37,131,37,133],[37,134,37,136],[37,137,37,139],[37,140,37,142],[41,152,41,154],[29,66,29,68],[37,0,38,2],[37,44,38,97],[29,25,29,27],[29,28,29,30],[29,13,29,15],[29,16,29,18],[29,19,29,21],[29,22,29,24],[29,90,29,92],[37,36,38,43],[0,37,0,39],[0,40,0,42],[29,87,29,89],[37,3,38,35],[29,84,29,86],[29,69,29,71],[29,72,29,74],[29,75,29,77],[29,78,29,80],[0,78,0,80],[0,81,0,83],[0,84,0,86],[0,87,0,89],[0,13,0,15],[0,16,0,18],[0,19,0,21],[0,22,0,24],[29,81,29,83],[29,31,29,33],[29,34,29,36],[29,37,29,39],[29,40,29,42],[29,60,29,62],[29,63,29,65],[0,90,0,92],[2,0,2,166],[0,60,0,62],[0,63,0,65],[0,31,0,33],[0,34,0,36],[7,0,7,25],[7,26,7,46],[7,47,7,67],[7,68,7,118],[7,119,7,126],[7,130,7,135],[3,8,3,42],[5,1,6,24],[5,29,5,64],[5,72,6,114],[5,121,6,136],[6,29,6,43],[0,66,0,68],[0,69,0,71],[0,72,0,74],[0,75,0,77],[0,25,0,27],[0,28,0,30],[9,0,9,25],[9,26,9,46],[9,47,9,67],[9,68,9,118],[9,119,9,126],[9,130,9,135],[8,0,8,25],[8,26,8,46],[8,47,8,67],[8,68,8,118],[8,119,8,126],[8,130,8,135],[11,0,11,25],[11,26,11,46],[11,47,11,67],[11,68,11,118],[11,119,11,126],[11,130,11,135],[10,0,10,25],[10,26,10,46],[10,47,10,67],[10,68,10,118],[10,119,10,126],[10,130,10,135],[13,0,13,25],[13,26,13,46],[13,47,13,67],[13,68,13,118],[13,119,13,126],[13,130,13,135],[12,0,12,25],[12,26,12,46],[12,47,12,67],[12,68,12,118],[12,119,12,126],[12,130,12,135],[15,0,15,25],[15,26,15,46],[15,47,15,67],[15,68,15,118],[15,119,15,126],[15,130,15,135],[14,0,14,25],[14,26,14,46],[14,47,14,67],[14,68,14,118],[14,119,14,126],[14,130,14,135],[17,0,17,25],[17,26,17,46],[17,47,17,67],[17,68,17,118],[17,119,17,126],[17,130,17,135],[16,0,16,25],[16,26,16,46],[16,47,16,67],[16,68,16,118],[16,119,16,126],[16,130,16,135],[19,0,19,25],[19,26,19,46],[19,47,19,67],[19,68,19,118],[19,119,19,126],[19,130,19,135],[18,0,18,25],[18,26,18,46],[18,47,18,67],[18,68,18,118],[18,119,18,126],[18,130,18,135],[21,0,21,25],[21,26,21,46],[21,47,21,67],[21,68,21,118],[21,119,21,126],[21,130,21,135],[20,0,20,25],[20,26,20,46],[20,47,20,67],[20,68,20,118],[20,119,20,126],[20,130,20,135]]}
[]
[]
["技        術        者        経        歴        書　　　　"]
["（種類）"]
[]
[null,"氏　　　　　　　　名",null,null,null,null,null,null,null,null,null,null,null,null,null,null,null,null,null,null,null,null,null,null,null,null,null,null,null,"法   令   に   よ   る   免   許   等",null,null,null,null,null,null,null,null,null,null,null,null,null,null,null,null,null,null,null,null,null,null,null,null,null,null,null,null,null,null,null,null,null,null,null,null,null,null,null,null,null,null,"実              務             経             歴 ",null,null,null,null,null,null,null,null,null,null,null,null,null,null,null,null,null,null,null,null,null,null,null,null,null,null,null,null,null,null,null,null,null,null,null,null,null,null,null,null,null,null,null,null,null,null,null,null,"実務経験年月数"]
[null,null,null,null,null,null,null,null,null,null,null,null,null,null,null,null,null,null,null,null,null,null,null,null,null,null,null,null,null,"名          称",null,null,null,null,null,null,null,null,null,null,null,null,null,null,null,null,null,null,null,null,"取  得  年  月  日"]
[null,null,null,null,null,null,null,null,null,null,null,null,null,null,null,null,null,null,null,null,null,null,null,null,null,null,null,null,null,null,null,null,null,null,null,null,null,null,null,null,null,null,null,null,null,null,null,null,null,null,null,null,null,null,null,null,null,null,null,null,null,null,null,null,null,null,null,null,null,null,null,null,null,null,null,null,null,null,null,null,null,null,null,null,null,null,null,null,null,null,null,null,null,null,null,null,null,null,null,null,null,null,null,null,null,null,null,null,null,null,null,null,null,null,null,null,null,null,null,null,null,null,null,null,null,null,null,"年",null,null,null,null,null,null,null,null,"月"]
[null,null,null,null,null,null,null,null,null,null,null,null,null,null,null,null,null,null,null,null,null,null,null,null,null,null,null,null,null,null,null,null,null,null,null,null,null,null,null,null,null,null,null,null,null,null,null,null,null,null,null,null,null,null,null,null,null,null,null,null,null,null,null,null,null,null,null,null,null,null,null,null,null,null,null,null,null,null,null,null,null,null,null,null,null,null,null,null,null,null,null,null,null,null,null,null,null,null,null,null,null,null,null,null,null,null,null,null,null,null,null,null,null,null,null,null,null,null,null,null,null,null,null,null,null,null,null,"年",null,null,null,null,null,null,null,null,"月"]
[null,null,null,null,null,null,null,null,null,null,null,null,null,null,null,null,null,null,null,null,null,null,null,null,null,null,null,null,null,null,null,null,null,null,null,null,null,null,null,null,null,null,null,null,null,null,null,null,null,null,null,null,null,null,null,null,null,null,null,null,null,null,null,null,null,null,null,null,null,null,null,null,null,null,null,null,null,null,null,null,null,null,null,null,null,null,null,null,null,null,null,null,null,null,null,null,null,null,null,null,null,null,null,null,null,null,null,null,null,null,null,null,null,null,null,null,null,null,null,null,null,null,null,null,null,null,null,"年",null,null,null,null,null,null,null,null,"月"]
[null,null,null,null,null,null,null,null,null,null,null,null,null,null,null,null,null,null,null,null,null,null,null,null,null,null,null,null,null,null,null,null,null,null,null,null,null,null,null,null,null,null,null,null,null,null,null,null,null,null,null,null,null,null,null,null,null,null,null,null,null,null,null,null,null,null,null,null,null,null,null,null,null,null,null,null,null,null,null,null,null,null,null,null,null,null,null,null,null,null,null,null,null,null,null,null,null,null,null,null,null,null,null,null,null,null,null,null,null,null,null,null,null,null,null,null,null,null,null,null,null,null,null,null,null,null,null,"年",null,null,null,null,null,null,null,null,"月"]
[null,null,null,null,null,null,null,null,null,null,null,null,null,null,null,null,null,null,null,null,null,null,null,null,null,null,null,null,null,null,null,null,null,null,null,null,null,null,null,null,null,null,null,null,null,null,null,null,null,null,null,null,null,null,null,null,null,null,null,null,null,null,null,null,null,null,null,null,null,null,null,null,null,null,null,null,null,null,null,null,null,null,null,null,null,null,null,null,null,null,null,null,null,null,null,null,null,null,null,null,null,null,null,null,null,null,null,null,null,null,null,null,null,null,null,null,null,null,null,null,null,null,null,null,null,null,null,"年",null,null,null,null,null,null,null,null,"月"]
[null,null,null,null,null,null,null,null,null,null,null,null,null,null,null,null,null,null,null,null,null,null,null,null,null,null,null,null,null,null,null,null,null,null,null,null,null,null,null,null,null,null,null,null,null,null,null,null,null,null,null,null,null,null,null,null,null,null,null,null,null,null,null,null,null,null,null,null,null,null,null,null,null,null,null,null,null,null,null,null,null,null,null,null,null,null,null,null,null,null,null,null,null,null,null,null,null,null,null,null,null,null,null,null,null,null,null,null,null,null,null,null,null,null,null,null,null,null,null,null,null,null,null,null,null,null,null,"年",null,null,null,null,null,null,null,null,"月"]
[null,null,null,null,null,null,null,null,null,null,null,null,null,null,null,null,null,null,null,null,null,null,null,null,null,null,null,null,null,null,null,null,null,null,null,null,null,null,null,null,null,null,null,null,null,null,null,null,null,null,null,null,null,null,null,null,null,null,null,null,null,null,null,null,null,null,null,null,null,null,null,null,null,null,null,null,null,null,null,null,null,null,null,null,null,null,null,null,null,null,null,null,null,null,null,null,null,null,null,null,null,null,null,null,null,null,null,null,null,null,null,null,null,null,null,null,null,null,null,null,null,null,null,null,null,null,null,"年",null,null,null,null,null,null,null,null,"月"]
[null,null,null,null,null,null,null,null,null,null,null,null,null,null,null,null,null,null,null,null,null,null,null,null,null,null,null,null,null,null,null,null,null,null,null,null,null,null,null,null,null,null,null,null,null,null,null,null,null,null,null,null,null,null,null,null,null,null,null,null,null,null,null,null,null,null,null,null,null,null,null,null,null,null,null,null,null,null,null,null,null,null,null,null,null,null,null,null,null,null,null,null,null,null,null,null,null,null,null,null,null,null,null,null,null,null,null,null,null,null,null,null,null,null,null,null,null,null,null,null,null,null,null,null,null,null,null,"年",null,null,null,null,null,null,null,null,"月"]
[null,null,null,null,null,null,null,null,null,null,null,null,null,null,null,null,null,null,null,null,null,null,null,null,null,null,null,null,null,null,null,null,null,null,null,null,null,null,null,null,null,null,null,null,null,null,null,null,null,null,null,null,null,null,null,null,null,null,null,null,null,null,null,null,null,null,null,null,null,null,null,null,null,null,null,null,null,null,null,null,null,null,null,null,null,null,null,null,null,null,null,null,null,null,null,null,null,null,null,null,null,null,null,null,null,null,null,null,null,null,null,null,null,null,null,null,null,null,null,null,null,null,null,null,null,null,null,"年",null,null,null,null,null,null,null,null,"月"]
[null,null,null,null,null,null,null,null,null,null,null,null,null,null,null,null,null,null,null,null,null,null,null,null,null,null,null,null,null,null,null,null,null,null,null,null,null,null,null,null,null,null,null,null,null,null,null,null,null,null,null,null,null,null,null,null,null,null,null,null,null,null,null,null,null,null,null,null,null,null,null,null,null,null,null,null,null,null,null,null,null,null,null,null,null,null,null,null,null,null,null,null,null,null,null,null,null,null,null,null,null,null,null,null,null,null,null,null,null,null,null,null,null,null,null,null,null,null,null,null,null,null,null,null,null,null,null,"年",null,null,null,null,null,null,null,null,"月"]
[null,null,null,null,null,null,null,null,null,null,null,null,null,null,null,null,null,null,null,null,null,null,null,null,null,null,null,null,null,null,null,null,null,null,null,null,null,null,null,null,null,null,null,null,null,null,null,null,null,null,null,null,null,null,null,null,null,null,null,null,null,null,null,null,null,null,null,null,null,null,null,null,null,null,null,null,null,null,null,null,null,null,null,null,null,null,null,null,null,null,null,null,null,null,null,null,null,null,null,null,null,null,null,null,null,null,null,null,null,null,null,null,null,null,null,null,null,null,null,null,null,null,null,null,null,null,null,"年",null,null,null,null,null,null,null,null,"月"]
[null,null,null,null,null,null,null,null,null,null,null,null,null,null,null,null,null,null,null,null,null,null,null,null,null,null,null,null,null,null,null,null,null,null,null,null,null,null,null,null,null,null,null,null,null,null,null,null,null,null,null,null,null,null,null,null,null,null,null,null,null,null,null,null,null,null,null,null,null,null,null,null,null,null,null,null,null,null,null,null,null,null,null,null,null,null,null,null,null,null,null,null,null,null,null,null,null,null,null,null,null,null,null,null,null,null,null,null,null,null,null,null,null,null,null,null,null,null,null,null,null,null,null,null,null,null,null,"年",null,null,null,null,null,null,null,null,"月"]
[null,null,null,null,null,null,null,null,null,null,null,null,null,null,null,null,null,null,null,null,null,null,null,null,null,null,null,null,null,null,null,null,null,null,null,null,null,null,null,null,null,null,null,null,null,null,null,null,null,null,null,null,null,null,null,null,null,null,null,null,null,null,null,null,null,null,null,null,null,null,null,null,null,null,null,null,null,null,null,null,null,null,null,null,null,null,null,null,null,null,null,null,null,null,null,null,null,null,null,null,null,null,null,null,null,null,null,null,null,null,null,null,null,null,null,null,null,null,null,null,null,null,null,null,null,null,null,"年",null,null,null,null,null,null,null,null,"月"]
[null,null,null,null,null,null,null,null,null,null,null,null,null,null,null,null,null,null,null,null,null,null,null,null,null,null,null,null,null,null,null,null,null,null,null,null,null,null,null,null,null,null,null,null,null,null,null,null,null,null,null,null,null,null,null,null,null,null,null,null,null,null,null,null,null,null,null,null,null,null,null,null,null,null,null,null,null,null,null,null,null,null,null,null,null,null,null,null,null,null,null,null,null,null,null,null,null,null,null,null,null,null,null,null,null,null,null,null,null,null,null,null,null,null,null,null,null,null,null,null,null,null,null,null,null,null,null,"年",null,null,null,null,null,null,null,null,"月"]
[null,null,null,null,null,null,null,null,null,null,null,null,null,null,null,null,null,null,null,null,null,null,null,null,null,null,null,null,null,null,null,null,null,null,null,null,null,null,null,null,null,null,null,null,null,null,null,null,null,null,null,null,null,null,null,null,null,null,null,null,null,null,null,null,null,null,null,null,null,null,null,null,null,null,null,null,null,null,null,null,null,null,null,null,null,null,null,null,null,null,null,null,null,null,null,null,null,null,null,null,null,null,null,null,null,null,null,null,null,null,null,null,null,null,null,null,null,null,null,null,null,null,null,null,null,null,null,"年",null,null,null,null,null,null,null,null,"月"]
["記載要領"]
[null,"１",null,null,"本表は、業種区分（「測量」、「建築関係建設コンサルタント」、「土木関係建設コンサルタント」、「地質調査」、「補償関係コンサルタント業務」）ごとに作成し、種類欄に記載する。\n"]
[null,null,null,null,"なお、技術士【上下水道部門】、【衛生工学部門】、二級土木施工管理技士、不動産鑑定士補、公共用地経験者は業種区分「その他」として記載すること。"]
[null,null,null,null,"また、「氏名」の記載は、営業所（本店又は支店若しくは常時契約する事務所）ごとにまとめて行い、その直前に、（   ）書きで当該営業所名を記載すること。"]
[null,"２",null,null,"「法令による免許等」の欄には、業務に関し法律又は命令による免許又は技術若しくは技能の認定を受けたものを記載すること。"]
[null,null,null,null,"（例 ： ○○建築士、○○土木施工管理技士）"]
[null,"３",null,null,"「実務経歴」の欄には、最近のものから記載し、純粋に測量、建設コンサルタント等業務に従事した職種及び地位を記載すること。"]
[]
[]
["営          業          所          一          覧          表"]
[]
[null,null,null,null,null,null,null,null,null,null,null,null,null,null,null,null,null,null,null,null,null,null,null,null,null,null,null,null,null,null,null,null,null,null,null,null,null,null,null,null,null,null,null,null,null,null,null,null,null,null,null,null,null,null,null,null,null,null,null,null,null,null,null,null,null,null,null,null,null,null,null,null,null,null,null,null,null,null,null,null,null,null,null,null,null,null,null,null,null,null,null,null,null,null,null,null,null,null,null,null,"電 話 番 号  （上段）"]
["番",null,null,null,"営    業    所    名    称",null,null,null,null,null,null,null,null,null,null,null,null,null,null,null,null,null,null,null,null,null,null,null,null,null,null,null,null,null,null,null,null,"郵  便",null,null,null,null,null,null,null,"所            在            地",null,null,null,null,null,null,null,null,null,null,null,null,null,null,null,null,null,null,null,null,null,null,null,null,null,null,null,null,null,null,null,null,null,null,null,null,null,null,null,null,null,null,null,null,null,null,null,null,null,null,null,null,null,null,null,null,null,null,null,null,null,null,null,null,null,null,null,null,null,null,null,null,null,null,null,null,null,null,null,null,null,null,"営             業             区             域"]
["号",null,null,null,null,null,null,null,null,null,null,null,null,null,null,null,null,null,null,null,null,null,null,null,null,null,null,null,null,null,null,null,null,null,null,null,null,"番  号",null,null,null,null,null,null,null,null,null,null,null,null,null,null,null,null,null,null,null,null,null,null,null,null,null,null,null,null,null,null,null,null,null,null,null,null,null,null,null,null,null,null,null,null,null,null,null,null,null,null,null,null,null,null,null,null,null,null,null,null,null,null,"F A X 番 号  （下段）"]
[]
[]
[]
[]
[]
[]
[]
[]
[]
[]
[]
[]
[]
[]
[]
[]
[]
[]
[]
[]
[]
[]
[]
[]
[]
[]
[]
["記載要領"]
[null,"１",null,null,"本表は、申請日現在で作成すること。"]
[null,"２",null,null,"「営業所名称」欄には、常時契約を締結する本店又は支店等営業所の名称を記載すること。"]
[null,"３",null,null,"「所在地」欄には、営業所の所在地を記載すること。"]
[null,"４",null,null,"「電話番号・ＦＡＸ番号」欄には、上段に電話番号を、下段にＦＡＸ番号を記載することとし、市外局番、市内局番及び番号は、「－（ハイフン）」で区切ること。"]

{"sheet":"印刷シート２","index":7,"n_rows":50,"n_cols":30,"rows_kept":50,"cut":false,"hidden":false,"merged":[[46,2,46,5],[46,7,46,22],[41,1,41,2],[43,2,44,5],[43,8,43,11],[44,7,44,28],[45,2,45,5],[45,7,45,28],[19,5,19,8],[19,10,19,24],[21,2,21,16],[22,0,22,29],[24,2,36,3],[24,4,36,11],[24,18,36,19],[24,20,36,27],[14,2,18,4],[14,5,15,8],[14,10,14,13],[15,10,15,28],[16,5,16,8],[16,10,16,28],[17,5,17,8],[17,10,17,24],[17,26,17,27],[18,5,18,8],[18,10,18,24],[0,0,0,29],[2,22,2,23],[3,0,3,8],[4,0,4,8],[6,2,10,4],[6,5,7,8],[6,10,6,13],[7,10,7,28],[8,5,8,8],[8,10,8,28],[9,5,9,8],[9,10,9,24],[9,26,9,27],[10,5,10,8],[10,10,10,24]]}
["委　　　　　任　　　　　状"]
[]
[null,null,null,null,null,null,null,null,null,null,null,null,null,null,null,null,null,null,null,null,null,null,"令和",null,null,"年",null,"月",null,"日"]
["　　　仙南地域広域行政事務組合"]
["　　　　理 事 長　 滝　口　　茂　　殿"]
[]
[null,null,"委任者",null,null,"住所",null,null,null,"〒",{"$f":"入力シート１!E12","v":0}]
[null,null,null,null,null,null,null,null,null,null,{"$f":"CONCATENATE(入力シート１!E13,入力シート１!E15,入力シート１!E17)","v":""}]
[null,null,null,null,null,"商号又は名称",null,null,null,null,{"$f":"入力シート１!E7","v":0}]
[null,null,null,null,null,"代表者氏名",null,null,null,null,{"$f":"CONCATENATE(入力シート１!E9,\" \",入力シート１!E10)","v":" "},null,null,null,null,null,null,null,null,null,null,null,null,null,null,null,"代表者印"]
[null,null,null,null,null,"電話番号",null,null,null,null,{"$f":"入力シート１!E24","v":0}]
[]
[null,null,"私は、次のものを代理人と定め、下記の権限を委任します。"]
[]
[null,null,"代理人",null,null,"住所",null,null,null,"〒",{"$f":"入力シート１!E33","v":0}]
[null,null,null,null,null,null,null,null,null,null,{"$f":"CONCATENATE(入力シート１!E34,入力シート１!E35,入力シート１!E36)","v":""}]
[null,null,null,null,null,"商号又は名称",null,null,null,null,{"$f":"入力シート１!E28","v":0}]
[null,null,null,null,null,"代表者氏名",null,null,null,null,{"$f":"CONCATENATE(入力シート１!E30,\" \",入力シート１!E31)","v":" "},null,null,null,null,null,null,null,null,null,null,null,null,null,null,null,"使用印"]
[null,null,null,null,null,"電話番号",null,null,null,null,{"$f":"入力シート１!E39","v":0}]
[null,null,null,null,null,"受任期間",null,null,null,null,"令和５年４月１日から令和７年３月31日まで"]
[]
[null,null,"1.入札及び見積りに関すること\n2.契約締結に関すること\n3.契約履行に関すること\n4.契約代金の請求及び受領に関すること\n5.上記の各号に関し、復代理人を選任及び解任すること"]
["使　用　印　鑑　届"]
[]
[null,null,"使用印",null,null,null,null,null,null,null,null,null,null,null,null,null,null,null,"実印"]
[]
[]
[]
[]
[]
[]
[]
[]
[]
[]
[]
[]
[]
[]
[null,"上記の印鑑は、入札見積に参加し、契約の締結並びに代金の請求受領のため使用したいからお届けします。"]
[]
[null,"令和",null,null,"年",null,"月",null,"日"]
[]
[null,null,"住所",null,null,null,null,"〒",{"$f":"入力シート１!E12","v":0}]
[null,null,null,null,null,null,null,{"$f":"CONCATENATE(入力シート１!E13,入力シート１!E15,入力シート１!E17)","v":""}]
[null,null,"商号又は名称",null,null,null,null,{"$f":"入力シート１!E7","v":0}]
[null,null,"代表者名",null,null,null,null,{"$f":"CONCATENATE(入力シート１!E9,\"　\",入力シート１!E10)","v":"　"},null,null,null,null,null,null,null,null,null,null,null,null,null,null,null,"印"]
[]
[null,"※受任者がいる場合は、実印は代表者印、使用印は受任者（支店長など）の印鑑になります。"]
[null,"※受任者がいない場合は、実印・使用印とも代表者の印鑑になります。"]

{"sheet":"誓約書","index":8,"n_rows":15,"n_cols":5,"rows_kept":15,"cut":false,"hidden":false,"merged":[[2,0,2,4],[4,0,4,4],[6,0,6,2],[11,1,12,1],[11,2,12,2]]}
["様式第１号の２（第３条関係）"]
[]
["誓　約　書"]
[]
["　私（当社）は、「暴力団員による不当な行為の防止等に関する法律（平成３年法律第77号）第32条第１項各号に掲げる者」のいずれにも該当しません。また、将来においても該当することのないことを誓約します。"]
[]
["令和　　年　　月　　日　　"]
[]
["　仙南地域広域行政事務組合　"]
["　　理事長　滝　口　　茂　　殿"]
[]
[null,"申請者","住所又は所在地",{"$f":"入力シート１!E12","v":0}]
[null,null,null,{"$f":"CONCATENATE(入力シート１!E13,入力シート１!E15,入力シート１!E17)","v":""}]
[null,null,"商号又は名称",{"$f":"入力シート１!E7","v":0}]
[null,null,"代表者職氏名",{"$f":"入力シート１!E9&\"　\"&入力シート１!E10","v":"　"},"印"]

{"sheet":"受理票","index":9,"n_rows":25,"n_cols":21,"rows_kept":25,"cut":false,"hidden":true,"merged":[[0,0,0,29],[24,8,25,15],[4,5,4,18],[4,0,4,3],[4,20,4,21],[2,20,2,29],[6,0,6,29],[8,8,9,21],[24,16,25,21],[2,0,2,3],[2,4,2,10]]}
["令和５・６年度　仙南地域広域行政事務組合入札参加資格申請受理票"]
[]
["申請業種",null,null,null,"建設関連業務",null,null,null,null,null,null,null,null,null,null,null,null,null,null,null,"仙南地域広域行政事務組合"]
[]
["申請者",null,null,null,null,{"$f":"入力シート１!E7","v":0},null,null,null,null,null,null,null,null,null,null,null,null,null,null,"様"]
[]
["　令和５・６年度に係る入札参加資格申請書を受理いたしました。\n　（審査の結果、不承認となった場合は別途御案内いたします。）\n\n※　承認後において、申請内容に変更が生じた場合は、変更届様式により速やかに提出願います。"]
[]
[null,null,null,null,null,null,null,null,"受　　領　　印"]
[]
[]
[]
[]
[]
[]
[]
[]
[]
[]
[]
[]
[]
[]
[]
[null,null,null,null,null,null,null,null,"受付番号",null,null,null,null,null,null,null,{"$f":"DBCS(【組合使用】!A5)","v":""}]

{"sheet":"承認書","index":10,"n_rows":31,"n_cols":8,"rows_kept":31,"cut":false,"hidden":true,"merged":[[26,1,26,5],[25,1,25,5],[2,0,2,6],[21,1,21,5],[22,1,22,5],[23,1,23,5],[24,1,24,5],[6,1,6,6],[7,1,7,6],[8,1,8,6],[9,1,9,6]]}
["様式第２号（第６条関係）"]
[]
["建設関連業務入札参加資格承認通知書"]
[]
[{"$f":"\"承認番号　第\"&DBCS(【組合使用】!A5)&\"号\"","v":"承認番号　第号"}]
[]
["郵便番号",{"$f":"入力シート１!E12","v":0}]
["住所又は所在地",{"$f":"入力シート１!E13&入力シート１!E15&入力シート１!E17","v":""}]
["商号又は名称",{"$f":"入力シート１!E7","v":0}]
["代表者名",{"$f":"入力シート１!E9&\"　\"&入力シート１!E10&\"　様\"","v":"　　様"}]
[]
["令和５・６年度における仙南地域広域行政事務組合が発注する建設関連業務に係る下"]
["記の業種について、指名競争入札に参加する資格を承認します。"]
[]
["令和"]
[]
[null,null,null,"仙南地域広域行政事務組合"]
[null,null,null,null,"理事長　滝　 口 　　茂","印"]
[]
[null,null,null,"記"]
["１　業種及び部門"]
["業種","部門",null,null,null,null,"本・受"]
[{"$f":"IF(SUM(入力シート２!N7:N9)=0,\"\",\"測量\")","v":""},{"$f":"IF(H23=\"\",\"\",LEFT(H23,LEN(H23)-1))","v":""},null,null,null,null,{"$f":"IF('入力・印刷シート1(承認申請書)'!E31=\"■\",\"受\",IF('入力・印刷シート1(承認申請書)'!C31=\"■\",\"本\",\"\"))","v":""},{"$f":"IF(入力シート２!N7=1,\"測量一般、\",\"\")&IF(入力シート２!N8=1,\"地図の調整、\",\"\")&IF(入力シート２!N9=1,\"航空測量、\",\"\")","v":""}]
[{"$f":"IF(SUM(入力シート２!N10:N24)=0,\"\",CONCATENATE(\"建築関係\",CHAR(10),\"建設コンサルタント\"))","v":""},{"$f":"IF(H24=\"\",\"\",LEFT(H24,LEN(H24)-1))","v":""},null,null,null,null,{"$f":"IF('入力・印刷シート1(承認申請書)'!E34=\"■\",\"受\",IF('入力・印刷シート1(承認申請書)'!C34=\"■\",\"本\",\"\"))","v":""},{"$f":"IF(入力シート２!N10=1,\"建築一般、\",\"\")&IF(入力シート２!N11=1,\"意匠、\",\"\")&IF(入力シート２!N12=1,\"構造、\",\"\")&IF(入力シート２!N13=1,\"冷暖房、\",\"\")&IF(入力シート２!N14=1,\"衛生、\",\"\")&IF(入力シート２!N15=1,\"電気、\",\"\")&IF(入力シート２!N16=1,\"建築積算、\",\"\")&IF(入力シート２!N17=1,\"機械積算、\",\"\")&IF(入力シート２!N18=1,\"電気積算、\",\"\")&IF(入力シート２!N19=1,\"工事監理(建築)、\",\"\")&IF(入力シート２!N20=1,\"工事監理(電気)、\",\"\")&IF(入力シート２!N21=1,\"工事監理(機械)、\",\"\")&IF(入力シート２!N22=1,\"調査、\",\"\")&IF(入力シート２!N23=1,\"耐震診断、\",\"\")&IF(入力シート２!N24=1,\"地区計画及び地域計画\",\"\")","v":""}]
[{"$f":"IF(SUM(入力シート２!N25:N54)=0,\"\",CONCATENATE(\"土木関係\",CHAR(10),\"建設コンサルタント\"))","v":""},{"$f":"IF(H25=\"\",\"\",LEFT(H25,LEN(H25)-1))","v":""},null,null,null,null,{"$f":"IF('入力・印刷シート1(承認申請書)'!E40=\"■\",\"受\",IF('入力・印刷シート1(承認申請書)'!C40=\"■\",\"本\",\"\"))","v":""},{"$f":"IF(入力シート２!N25=1,\"河川，砂防及び海岸・海洋、\",\"\")&IF(入力シート２!N26=1,\"湾岸及び空港、\",\"\")&IF(入力シート２!N27=1,\"電力土木、\",\"\")&IF(入力シート２!N28=1,\"道路、\",\"\")&IF(入力シート２!N29=1,\"鉄道、\",\"\")&IF(入力シート２!N30=1,\"上下水道及び工業用水、\",\"\")&IF(入力シート２!N31=1,\"下水道、\",\"\")&IF(入力シート２!N32=1,\"農業土木、\",\"\")&IF(入力シート２!N33=1,\"森林土木、\",\"\")&IF(入力シート２!N34=1,\"水産土木、\",\"\")&IF(入力シート２!N35=1,\"廃棄物、\",\"\")&IF(入力シート２!N36=1,\"造園、\",\"\")&IF(入力シート２!N37=1,\"都市計画及び地方計画、\",\"\")&IF(入力シート２!N38=1,\"地質、\",\"\")&IF(入力シート２!N39=1,\"土質及び基礎、\",\"\")&IF(入力シート２!N40=1,\"鋼構造及びコンクリート、\",\"\")&IF(入力シート２!N41=1,\"トンネル、\",\"\")&IF(入力シート２!N42=1,\"施工計画・施工設備及び積算、\",\"\")&IF(入力シート２!N43=1,\"建設環境、\",\"\")&IF(入力シート２!N44=1,\"機械、\",\"\")&IF(入力シート２!N45=1,\"電気電子、\",\"\")&IF(入力シート２!N46=1,\"交通量調査、\",\"\")&IF(入力シート２!N47=1,\"環境調査、\",\"\")&IF(入力シート２!N48=1,\"経済調査、\",\"\")&IF(入力シート２!N49=1,\"分析・解析、\",\"\")&IF(入力シート２!N50=1,\"宅地造成、\",\"\")&IF(入力シート２!N51=1,\"電算関係、\",\"\")&IF(入力シート２!N52=1,\"計算業務、\",\"\")&IF(入力シート２!N53=1,\"資材等整理、\",\"\")&IF(入力シート２!N54=1,\"施工監理、\",\"\")","v":""}]
[{"$f":"IF(入力シート２!N55=0,\"\",\"地質調査\")","v":""},{"$f":"IF(入力シート２!N55=1,\"－\",\"\")","v":""},null,null,null,null,{"$f":"IF('入力・印刷シート1(承認申請書)'!E53=\"■\",\"受\",IF('入力・印刷シート1(承認申請書)'!C53=\"■\",\"本\",\"\"))","v":""}]
[{"$f":"IF(SUM(入力シート２!N56:N64)=0,\"\",\"補償コンサルタント\")","v":""},{"$f":"IF(H27=\"\",\"\",LEFT(H27,LEN(H27)-1))","v":""},null,null,null,null,{"$f":"IF('入力・印刷シート1(承認申請書)'!E55=\"■\",\"受\",IF('入力・印刷シート1(承認申請書)'!C55=\"■\",\"本\",\"\"))","v":""},{"$f":"IF(入力シート２!N56=1,\"土地調査、\",\"\")&IF(入力シート２!N57=1,\"土地評価、\",\"\")&IF(入力シート２!N58=1,\"物件、\",\"\")&IF(入力シート２!N59=1,\"機械工作物、\",\"\")&IF(入力シート２!N60=1,\"営業補償・特殊補償、\",\"\")&IF(入力シート２!N61=1,\"事業損失、\",\"\")&IF(入力シート２!N62=1,\"補償関連、\",\"\")&IF(入力シート２!N63=1,\"総合保障、\",\"\")&IF(入力シート２!N64=1,\"不動産鑑定、\",\"\")","v":""}]
["※　本・受　本店または受任機関の別"]
[]
["２　参加資格の有効期間"]
["自　令和５年４月１日　　至　令和７年３月31日"]

{"sheet":"【組合使用】","index":11,"n_rows":5,"n_cols":210,"rows_kept":5,"cut":false,"hidden":true,"merged":[[1,1,1,2],[1,3,1,5],[1,6,1,10],[1,11,3,11],[1,12,3,12],[1,13,3,13],[1,14,3,14],[0,68,1,82],[0,83,0,112],[1,83,1,102],[1,103,1,112],[0,1,0,16],[0,17,0,30],[0,31,2,32],[0,33,0,59],[0,60,2,64],[0,65,1,67],[1,15,3,15],[1,16,3,16],[1,17,1,18],[1,19,1,21],[1,22,1,25],[1,26,3,26],[1,27,3,27],[1,28,3,28],[1,29,3,29],[1,30,3,30],[0,165,1,169],[0,170,1,171],[0,172,0,209],[0,113,3,113],[0,114,0,122],[0,123,0,134],[0,135,0,164],[1,114,1,121],[1,122,3,122],[1,47,2,48],[1,49,2,50],[1,51,2,53],[1,54,2,56],[1,57,2,59],[1,33,2,34],[1,35,2,36],[1,37,2,38],[1,39,2,40],[1,41,2,42],[1,43,2,44],[1,208,3,208],[1,209,3,209],[2,7,2,9],[2,65,3,65],[2,66,3,66],[2,67,3,67],[2,68,3,68],[1,150,2,154],[1,155,2,159],[1,160,2,164],[1,172,2,173],[1,174,2,179],[1,180,2,197],[2,167,3,167],[2,168,3,168],[2,169,3,169],[2,170,3,170],[1,123,1,126],[1,127,1,130],[1,131,1,134],[1,135,2,139],[1,140,2,144],[1,145,2,149],[1,45,2,46],[2,69,3,69],[2,70,3,70],[2,71,3,71],[2,72,3,72],[2,73,3,73],[2,74,3,74],[1,198,2,200],[1,201,2,206],[1,207,3,207],[2,81,3,81],[2,82,3,82],[2,83,3,83],[2,84,3,84],[2,85,3,85],[2,86,3,86],[2,75,3,75],[2,76,3,76],[2,77,3,77],[2,78,3,78],[2,79,3,79],[2,80,3,80],[2,93,3,93],[2,94,3,94],[2,95,3,95],[2,96,3,96],[2,97,3,97],[2,98,3,98],[2,87,3,87],[2,88,3,88],[2,89,3,89],[2,90,3,90],[2,91,3,91],[2,92,3,92],[2,105,3,105],[2,106,3,106],[2,107,3,107],[2,108,3,108],[2,109,3,109],[2,110,3,110],[2,99,3,99],[2,100,3,100],[2,101,3,101],[2,102,3,102],[2,103,3,103],[2,104,3,104],[2,171,3,171],[2,118,3,118],[2,119,3,119],[2,120,3,120],[2,121,3,121],[2,165,3,165],[2,166,3,166],[2,111,3,111],[2,112,3,112],[2,114,3,114],[2,115,3,115],[2,116,3,116],[2,117,3,117]]}
[null,"本店情報",null,null,null,null,null,null,null,null,null,null,null,null,null,null,null,"受任者情報",null,null,null,null,null,null,null,null,null,null,null,null,null,"本・支店\n営業所",null,"業者登録状況",null,null,null,null,null,null,null,null,null,null,null,null,null,null,null,null,null,null,null,null,null,null,null,null,null,null,"担当者",null,null,null,null,"測量",null,null,"建築関係建設コンサルタント",null,null,null,null,null,null,null,null,null,null,null,null,null,null,"土木関係建設コンサルタント業務",null,null,null,null,null,null,null,null,null,null,null,null,null,null,null,null,null,null,null,null,null,null,null,null,null,null,null,null,null,"地質調査","補償関係コンサルタント業務",null,null,null,null,null,null,null,null,"その他",null,null,null,null,null,null,null,null,null,null,null,"実績高",null,null,null,null,null,null,null,null,null,null,null,null,null,null,null,null,null,null,null,null,null,null,null,null,null,null,null,null,null,"計量証明",null,null,null,null,"環境\n調査",null,"職員数"]
[null,"商号",null,"代表者",null,null,"所在地",null,null,null,null,"営業年数","総職員数","技術者数","電話番号","FAX番号","Eメール\nアドレス","商号",null,"受任者",null,null,"所在地",null,null,null,"うち受任先職員数","うち受任先技術者数","電話番号","FAX番号","Eメール\nアドレス",null,null,"測量業者",null,"地質調査業者",null,"土地家屋調査士",null,"建築士事務所",null,"補償コンサルタント",null,"司法書士",null,"建設コンサルタント",null,"不動産鑑定業者",null,"計量証明業者",null,"その他①",null,null,"その他②",null,null,"その他③",null,null,null,null,null,null,null,null,null,null,null,null,null,null,null,null,null,null,null,null,null,null,null,null,null,"建設コンサルタント",null,null,null,null,null,null,null,null,null,null,null,null,null,null,null,null,null,null,null,null,null,null,null,null,null,null,null,null,null,null,"補償コンサルタント業務",null,null,null,null,null,null,null,"不動産鑑定","その他①",null,null,null,"その他②",null,null,null,"その他③",null,null,null,"測量",null,null,null,null,"建築関係建設コンサルタント",null,null,null,null,"土木関係建設コンサルタント",null,null,null,null,"地質調査",null,null,null,null,"補償関係コンサルタント",null,null,null,null,"その他",null,null,null,null,null,null,null,null,null,null,null,"測　　　　　　　　　量　",null,"建築関係建設コンサルタント",null,null,null,null,null,"土木関係建設コンサルタント",null,null,null,null,null,null,null,null,null,null,null,null,null,null,null,null,null,"地質調査",null,null,"補償関係コンサルタント",null,null,null,null,null,"事務職員","その他職員","合計"]
[null,null,null,null,null,null,null,null,null,null,null,null,null,null,null,null,null,null,null,null,null,null,null,null,null,null,null,null,null,null,null,null,null,null,null,null,null,null,null,null,null,null,null,null,null,null,null,null,null,null,null,null,null,null,null,null,null,null,null,null,null,null,null,null,null,"測量一般","地図の調整","航空測量","建築一般","意匠","構造","暖冷房","衛生","電気","建築積算","機械積算","電気積算","工事監理（建築）","工事監理（電気）","工事監理（機械）","調査","耐震診断","地区計画及び地域計画","河川、砂防及び海岸・海洋","港湾及び空港","電力土木","道路","鉄道","上水道及び工業用水","下水道","農業土木","森林土木","水産土木","廃棄物","造園","都市計画及び地方計画","地質","土質及び基礎","鋼構造及びコンクリート","トンネル","施工計画・施工設備及び積算","建設環境","機械","電気電子","交通量調査","環境調査","経済調査","分析・解析","宅地造成","電算関係","計算業務","資料等整理","施工監理",null,"土地調査","土地評価","物件","機械工作物","営業補償・特殊補償","事業損失","補償関連","総合補償",null,null,null,null,null,null,null,null,null,null,null,null,null,null,null,null,null,null,null,null,null,null,null,null,null,null,null,null,null,null,null,null,null,null,null,null,null,null,null,null,null,null,null,"振動","音圧","濃度","特定濃度","ＭＬＡＰ","作業環境測定","土壌汚染状況調査"]
[null,"名称","フリガナ","役職名","氏名","フリガナ","郵便番号","所在地","市区・郡\n町村名",null,"所在地\nフリガナ",null,null,null,null,null,null,"名称","フリガナ","役職名","氏名","フリガナ","郵便番号","所在地","市区・郡\n町村名",null,null,null,null,null,null,"　県内","　仙南地区","登録番号","登録年月日","登録番号","登録年月日","登録番号","登録年月日","登録番号","登録年月日","登録番号","登録年月日","登録番号","登録年月日","登録番号","登録年月日","登録番号","登録年月日","登録番号","登録年月日","業種\n名称","登録番号","登録年月日","業種\n名称","登録番号","登録年月日","業種\n名称","登録番号","登録年月日","部署名","氏名","電話番号","FAX番号","Eメールアドレス",null,null,null,null,null,null,null,null,"希望\n業種","希望\n業種","希望\n業種","希望\n業種","希望\n業種","希望\n業種","希望\n業種","希望\n業種","希望\n業種","希望\n業種",null,"希望\n業種","希望\n業種","希望\n業種","希望\n業種","希望\n業種","希望\n業種","希望\n業種","希望\n業種","希望\n業種","希望\n業種","希望\n業種","希望\n業種","希望\n業種","希望\n業種","希望\n業種","希望\n業種","希望\n業種","希望\n業種","希望\n業種","希望\n業種","希望\n業種","希望\n業種","希望\n業種","希望\n業種","希望\n業種","希望\n業種","希望\n業種","希望\n業種","希望\n業種",null,"希望\n業種","希望\n業種","希望\n業種","希望\n業種","希望\n業種","希望\n業種","希望\n業種","希望\n業種",null,"業種\n名称","登録\n業種","希望\n業種","本・受","業種\n名称","登録\n業種","希望\n業種","本・受","業種\n名称","登録\n業種","希望\n業種","本・受","直前２年度分決算　①","直前２年度分決算　②","直前１年度分決算　①","直前１年度分決算　②","２年間\n平均実績高","直前２年度分決算　①","直前２年度分決算　②","直前１年度分決算　①","直前１年度分決算　②","２年間\n平均実績高","直前２年度分決算　①","直前２年度分決算　②","直前１年度分決算　①","直前１年度分決算　②","２年間\n平均実績高","直前２年度分決算　①","直前２年度分決算　②","直前１年度分決算　①","直前１年度分決算　②","２年間\n平均実績高","直前２年度分決算　①","直前２年度分決算　②","直前１年度分決算　①","直前１年度分決算　②","２年間\n平均実績高","直前２年度分決算　①","直前２年度分決算　②","直前１年度分決算　①","直前１年度分決算　②","２年間\n平均実績高",null,null,null,null,null,null,null,"測量士","測量士補","１級建築士","２級建築士","構造設計\n１級建築士","設備設計\n１級建築士","建築設備士","建築積算士","１級土木施工管理技士","２級土木施工管理技士","環境計量士","総合監理\n（地質以外）","建設部門","農業部門","森林部門","水産部門","上下水道部門","衛生工学部門","電気電子部門","機械部門","情報工学部門","第１種電気主任技術者","伝送交換主任技術者","線路主任技術者","ＡＰＥＣエンジニア","ＲＣＣＭ","地質調査","総合監理\n（地質）","地質調査技士","不動産鑑定士","不動産鑑定士補","司法書士","補償業務管理士","土地家屋調査士","公共用地経験者"]
[null,{"$f":"データシート!B5","v":0},{"$f":"データシート!C5","v":0},{"$f":"データシート!D5","v":0},{"$f":"データシート!E5","v":0},{"$f":"データシート!F5","v":0},{"$f":"データシート!G5","v":0},{"$f":"データシート!H5","v":0},{"$f":"データシート!I5","v":0},{"$f":"データシート!J5","v":0},{"$f":"データシート!K5","v":""},{"$f":"データシート!L5","v":0},{"$f":"データシート!M5","v":0},{"$f":"データシート!N5","v":0},{"$f":"データシート!O5","v":0},{"$f":"データシート!P5","v":0},{"$f":"データシート!Q5","v":0},{"$f":"IF(データシート!R5=0,\"\",データシート!R5)","v":""},{"$f":"IF(データシート!S5=0,\"\",データシート!S5)","v":""},{"$f":"IF(データシート!T5=0,\"\",データシート!T5)","v":""},{"$f":"IF(データシート!U5=0,\"\",データシート!U5)","v":""},{"$f":"IF(データシート!V5=0,\"\",データシート!V5)","v":""},{"$f":"IF(データシート!W5=0,\"\",データシート!W5)","v":""},{"$f":"IF(データシート!X5=0,\"\",データシート!X5)","v":""},{"$f":"IF(データシート!Y5=0,\"\",データシート!Y5)","v":""},{"$f":"IF(データシート!Z5=0,\"\",データシート!Z5)","v":""},{"$f":"IF(データシート!AA5=0,\"\",データシート!AA5)","v":""},{"$f":"IF(データシート!AB5=0,\"\",データシート!AB5)","v":""},{"$f":"IF(データシート!AC5=0,\"\",データシート!AC5)","v":""},{"$f":"IF(データシート!AD5=0,\"\",データシート!AD5)","v":""},{"$f":"IF(データシート!AE5=0,\"\",データシート!AE5)","v":""},{"$f":"IF(H5=\"宮城県\",\"○\",IF(X5=\"宮城県\",\"○\",\"\"))","v":""},{"$f":"IF(I5=\"白石市\",\"○\",IF(I5=\"角田市\",\"○\",IF(I5=\"刈田郡蔵王町\",\"○\",IF(I5=\"蔵王町\",\"○\",IF(I5=\"刈田郡七ヶ宿町\",\"○\",IF(I5=\"七ヶ宿町\",\"○\",IF(I5=\"柴田郡大河原町\",\"○\",IF(I5=\"大河原町\",\"○\",IF(I5=\"柴田郡村田町\",\"○\",IF(I5=\"村田町\",\"○\",IF(I5=\"柴田郡柴田町\",\"○\",IF(I5=\"柴田町\",\"○\",IF(I5=\"柴田郡川崎町\",\"○\",IF(I5=\"川崎町\",\"○\",IF(I5=\"伊具郡丸森町\",\"○\",IF(I5=\"丸森町\",\"○\",IF(I5=\"白石市\",\"○\",IF(Y5=\"角田市\",\"○\",IF(Y5=\"刈田郡蔵王町\",\"○\",IF(Y5=\"蔵王町\",\"○\",IF(Y5=\"刈田郡七ヶ宿町\",\"○\",IF(Y5=\"七ヶ宿町\",\"○\",IF(Y5=\"柴田郡大河原町\",\"○\",IF(Y5=\"大河原町\",\"○\",IF(Y5=\"柴田郡村田町\",\"○\",IF(Y5=\"村田町\",\"○\",IF(Y5=\"柴田郡柴田町\",\"○\",IF(Y5=\"柴田町\",\"○\",IF(Y5=\"柴田郡川崎町\",\"○\",IF(Y5=\"川崎町\",\"○\",IF(Y5=\"伊具郡丸森町\",\"○\",IF(Y5=\"丸森町\",\"○\",\"\"))))))))))))))))))))))))))))))))","v":""},{"$f":"IF(データシート!AF5=0,\"\",データシート!AF5)","v":""},{"$f":"IF(データシート!AG5=0,\"\",データシート!AG5)","v":""},{"$f":"IF(データシート!AH5=0,\"\",データシート!AH5)","v":""},{"$f":"IF(データシート!AI5=0,\"\",データシート!AI5)","v":""},{"$f":"IF(データシート!AJ5=0,\"\",データシート!AJ5)","v":""},{"$f":"IF(データシート!AK5=0,\"\",データシート!AK5)","v":""},{"$f":"IF(データシート!AL5=0,\"\",データシート!AL5)","v":""},{"$f":"IF(データシート!AM5=0,\"\",データシート!AM5)","v":""},{"$f":"IF(データシート!AN5=0,\"\",データシート!AN5)","v":""},{"$f":"IF(データシート!AO5=0,\"\",データシート!AO5)","v":""},{"$f":"IF(データシート!AP5=0,\"\",データシート!AP5)","v":""},{"$f":"IF(データシート!AQ5=0,\"\",データシート!AQ5)","v":""},{"$f":"IF(データシート!AR5=0,\"\",データシート!AR5)","v":""},{"$f":"IF(データシート!AS5=0,\"\",データシート!AS5)","v":""},{"$f":"IF(データシート!AT5=0,\"\",データシート!AT5)","v":""},{"$f":"IF(データシート!AU5=0,\"\",データシート!AU5)","v":""},{"$f":"IF(データシート!AV5=0,\"\",データシート!AV5)","v":""},{"$f":"IF(データシート!AW5=0,\"\",データシート!AW5)","v":""},{"$f":"IF(データシート!AY5=0,\"\",データシート!AY5)","v":""},{"$f":"IF(データシート!AX5=0,\"\",データシート!AX5)","v":""},{"$f":"IF(データシート!AZ5=0,\"\",データシート!AZ5)","v":""},{"$f":"IF(データシート!BB5=0,\"\",データシート!BB5)","v":""},{"$f":"IF(データシート!BA5=0,\"\",データシート!BA5)","v":""},{"$f":"IF(データシート!BC5=0,\"\",データシート!BC5)","v":""},{"$f":"IF(データシート!BE5=0,\"\",データシート!BE5)","v":""},{"$f":"IF(データシート!BD5=0,\"\",データシート!BD5)","v":""},{"$f":"IF(データシート!BF5=0,\"\",データシート!BF5)","v":""},{"$f":"データシート!BG5","v":0},{"$f":"データシート!BH5","v":0},{"$f":"データシート!BI5","v":0},{"$f":"データシート!BJ5","v":0},{"$f":"データシート!BK5","v":0},{"$f":"IF(データシート!BM5=1,\"○\",IF(データシート!BM5=0,\"\"))","v":""},{"$f":"IF(データシート!BP5=1,\"○\",IF(データシート!BP5=0,\"\"))","v":""},{"$f":"IF(データシート!BS5=1,\"○\",IF(データシート!BS5=0,\"\"))","v":""},{"$f":"IF(データシート!BV5=1,\"○\",IF(データシート!BV5=0,\"\"))","v":""},{"$f":"IF(データシート!BY5=1,\"○\",IF(データシート!BY5=0,\"\"))","v":""},{"$f":"IF(データシート!CB5=1,\"○\",IF(データシート!CB5=0,\"\"))","v":""},{"$f":"IF(データシート!CE5=1,\"○\",IF(データシート!CE5=0,\"\"))","v":""},{"$f":"IF(データシート!CH5=1,\"○\",IF(データシート!CH5=0,\"\"))","v":""},{"$f":"IF(データシート!CK5=1,\"○\",IF(データシート!CK5=0,\"\"))","v":""},{"$f":"IF(データシート!CN5=1,\"○\",IF(データシート!CN5=0,\"\"))","v":""},{"$f":"IF(データシート!CQ5=1,\"○\",IF(データシート!CQ5=0,\"\"))","v":""},{"$f":"IF(データシート!CT5=1,\"○\",IF(データシート!CT5=0,\"\"))","v":""},{"$f":"IF(データシート!CW5=1,\"○\",IF(データシート!CW5=0,\"\"))","v":""},{"$f":"IF(データシート!CZ5=1,\"○\",IF(データシート!CZ5=0,\"\"))","v":""},{"$f":"IF(データシート!DC5=1,\"○\",IF(データシート!DC5=0,\"\"))","v":""},{"$f":"IF(データシート!DF5=1,\"○\",IF(データシート!DF5=0,\"\"))","v":""},{"$f":"IF(データシート!DI5=1,\"○\",IF(データシート!DI5=0,\"\"))","v":""},{"$f":"IF(データシート!DL5=1,\"○\",IF(データシート!DL5=0,\"\"))","v":""},{"$f":"IF(データシート!DO5=1,\"○\",IF(データシート!DO5=0,\"\"))","v":""},{"$f":"IF(データシート!DR5=1,\"○\",IF(データシート!DR5=0,\"\"))","v":""},{"$f":"IF(データシート!DU5=1,\"○\",IF(データシート!DU5=0,\"\"))","v":""},{"$f":"IF(データシート!DX5=1,\"○\",IF(データシート!DX5=0,\"\"))","v":""},{"$f":"IF(データシート!EA5=1,\"○\",IF(データシート!EA5=0,\"\"))","v":""},{"$f":"IF(データシート!ED5=1,\"○\",IF(データシート!ED5=0,\"\"))","v":""},{"$f":"IF(データシート!EG5=1,\"○\",IF(データシート!EG5=0,\"\"))","v":""},{"$f":"IF(データシート!EJ5=1,\"○\",IF(データシート!EJ5=0,\"\"))","v":""},{"$f":"IF(データシート!EM5=1,\"○\",IF(データシート!EM5=0,\"\"))","v":""},{"$f":"IF(データシート!EP5=1,\"○\",IF(データシート!EP5=0,\"\"))","v":""},{"$f":"IF(データシート!ES5=1,\"○\",IF(データシート!ES5=0,\"\"))","v":""},{"$f":"IF(データシート!EV5=1,\"○\",IF(データシート!EV5=0,\"\"))","v":""},{"$f":"IF(データシート!EY5=1,\"○\",IF(データシート!EY5=0,\"\"))","v":""},{"$f":"IF(データシート!FB5=1,\"○\",IF(データシート!FB5=0,\"\"))","v":""},{"$f":"IF(データシート!FE5=1,\"○\",IF(データシート!FE5=0,\"\"))","v":""},{"$f":"IF(データシート!FH5=1,\"○\",IF(データシート!FH5=0,\"\"))","v":""},{"$f":"IF(データシート!FK5=1,\"○\",IF(データシート!FK5=0,\"\"))","v":""},{"$f":"IF(データシート!FN5=1,\"○\",IF(データシート!FN5=0,\"\"))","v":""},{"$f":"IF(データシート!FQ5=1,\"○\",IF(データシート!FQ5=0,\"\"))","v":""},{"$f":"IF(データシート!FT5=1,\"○\",IF(データシート!FT5=0,\"\"))","v":""},{"$f":"IF(データシート!FW5=1,\"○\",IF(データシート!FW5=0,\"\"))","v":""},{"$f":"IF(データシート!FZ5=1,\"○\",IF(データシート!FZ5=0,\"\"))","v":""},{"$f":"IF(データシート!GC5=1,\"○\",IF(データシート!GC5=0,\"\"))","v":""},{"$f":"IF(データシート!GF5=1,\"○\",IF(データシート!GF5=0,\"\"))","v":""},{"$f":"IF(データシート!GI5=1,\"○\",IF(データシート!GI5=0,\"\"))","v":""},{"$f":"IF(データシート!GL5=1,\"○\",IF(データシート!GL5=0,\"\"))","v":""},{"$f":"IF(データシート!GO5=1,\"○\",IF(データシート!GO5=0,\"\"))","v":""},{"$f":"IF(データシート!GR5=1,\"○\",IF(データシート!GR5=0,\"\"))","v":""},{"$f":"IF(データシート!GU5=1,\"○\",IF(データシート!GU5=0,\"\"))","v":""},{"$f":"IF(データシート!GX5=1,\"○\",IF(データシート!GX5=0,\"\"))","v":""},{"$f":"IF(データシート!HA5=1,\"○\",IF(データシート!HA5=0,\"\"))","v":""},{"$f":"IF(データシート!HD5=1,\"○\",IF(データシート!HD5=0,\"\"))","v":""},{"$f":"IF(データシート!HG5=1,\"○\",IF(データシート!HG5=0,\"\"))","v":""},{"$f":"IF(データシート!HJ5=1,\"○\",IF(データシート!HJ5=0,\"\"))","v":""},{"$f":"IF(データシート!HM5=1,\"○\",IF(データシート!HM5=0,\"\"))","v":""},{"$f":"IF(データシート!HP5=1,\"○\",IF(データシート!HP5=0,\"\"))","v":""},{"$f":"IF(データシート!HS5=1,\"○\",IF(データシート!HS5=0,\"\"))","v":""},{"$f":"IF(データシート!HV5=1,\"○\",IF(データシート!HV5=0,\"\"))","v":""},{"$f":"IF(データシート!HY5=1,\"○\",IF(データシート!HY5=0,\"\"))","v":""},{"$f":"IF(データシート!IB5=1,\"○\",IF(データシート!IB5=0,\"\"))","v":""},{"$f":"IF(データシート!ID5=0,\"\",データシート!ID5)","v":""},{"$f":"IF(データシート!IE5=0,\"\",データシート!IE5)","v":""},{"$f":"IF(データシート!IF5=0,\"\",データシート!IF5)","v":""},{"$f":"IF(データシート!IG5=0,\"\",データシート!IG5)","v":""},{"$f":"IF(データシート!IH5=0,\"\",データシート!IH5)","v":""},{"$f":"IF(データシート!II5=0,\"\",データシート!II5)","v":""},{"$f":"IF(データシート!IJ5=0,\"\",データシート!IJ5)","v":""},{"$f":"IF(データシート!IK5=0,\"\",データシート!IK5)","v":""},{"$f":"IF(データシート!IL5=0,\"\",データシート!IL5)","v":""},{"$f":"IF(データシート!IM5=0,\"\",データシート!IM5)","v":""},{"$f":"IF(データシート!IN5=0,\"\",データシート!IN5)","v":""},{"$f":"IF(データシート!IO5=0,\"\",データシート!IO5)","v":""},{"$f":"データシート!IP5","v":0},{"$f":"データシート!IQ5","v":0},{"$f":"データシート!IR5","v":0},{"$f":"データシート!IS5","v":0},{"$f":"データシート!IT5","v":0},{"$f":"データシート!IU5","v":0},{"$f":"データシート!IV5","v":0},{"$f":"データシート!IW5","v":0},{"$f":"データシート!IX5","v":0},{"$f":"データシート!IY5","v":0},{"$f":"データシート!IZ5","v":0},{"$f":"データシート!JA5","v":0},{"$f":"データシート!JB5","v":0},{"$f":"データシート!JC5","v":0},{"$f":"データシート!JD5","v":0},{"$f":"データシート!JE5","v":0},{"$f":"データシート!JF5","v":0},{"$f":"データシート!JG5","v":0},{"$f":"データシート!JH5","v":0},{"$f":"データシート!JI5","v":0},{"$f":"データシート!JJ5","v":0},{"$f":"データシート!JK5","v":0},{"$f":"データシート!JL5","v":0},{"$f":"データシート!JM5","v":0},{"$f":"データシート!JN5","v":0},{"$f":"データシート!JO5","v":0},{"$f":"データシート!JP5","v":0},{"$f":"データシート!JQ5","v":0},{"$f":"データシート!JR5","v":0},{"$f":"データシート!JS5","v":0},{"$f":"IF(データシート!JT5=\"有\",\"○\",\"\")","v":""},{"$f":"IF(データシート!JU5=\"有\",\"○\",\"\")","v":""},{"$f":"IF(データシート!JV5=\"有\",\"○\",\"\")","v":""},{"$f":"IF(データシート!JW5=\"有\",\"○\",\"\")","v":""},{"$f":"IF(データシート!JX5=\"有\",\"○\",\"\")","v":""},{"$f":"IF(データシート!JY5=\"有\",\"○\",\"\")","v":""},{"$f":"IF(データシート!JZ5=\"有\",\"○\",\"\")","v":""},{"$f":"IF(データシート!KA5=0,\"\",データシート!KA5)","v":""},{"$f":"IF(データシート!KB5=0,\"\",データシート!KB5)","v":""},{"$f":"IF(データシート!KC5=0,\"\",データシート!KC5)","v":""},{"$f":"IF(データシート!KD5=0,\"\",データシート!KD5)","v":""},{"$f":"IF(データシート!KE5=0,\"\",データシート!KE5)","v":""},{"$f":"IF(データシート!KF5=0,\"\",データシート!KF5)","v":""},{"$f":"IF(データシート!KG5=0,\"\",データシート!KG5)","v":""},{"$f":"IF(データシート!KH5=0,\"\",データシート!KH5)","v":""},{"$f":"IF(データシート!KI5=0,\"\",データシート!KI5)","v":""},{"$f":"IF(データシート!KJ5=0,\"\",データシート!KJ5)","v":""},{"$f":"IF(データシート!KK5=0,\"\",データシート!KK5)","v":""},{"$f":"IF(データシート!KL5=0,\"\",データシート!KL5)","v":""},{"$f":"IF(データシート!KM5=0,\"\",データシート!KM5)","v":""},{"$f":"IF(データシート!KN5=0,\"\",データシート!KN5)","v":""},{"$f":"IF(データシート!KO5=0,\"\",データシート!KO5)","v":""},{"$f":"IF(データシート!KP5=0,\"\",データシート!KP5)","v":""},{"$f":"IF(データシート!KQ5=0,\"\",データシート!KQ5)","v":""},{"$f":"IF(データシート!KR5=0,\"\",データシート!KR5)","v":""},{"$f":"IF(データシート!KS5=0,\"\",データシート!KS5)","v":""},{"$f":"IF(データシート!KT5=0,\"\",データシート!KT5)","v":""},{"$f":"IF(データシート!KU5=0,\"\",データシート!KU5)","v":""},{"$f":"IF(データシート!KV5=0,\"\",データシート!KV5)","v":""},{"$f":"IF(データシート!KW5=0,\"\",データシート!KW5)","v":""},{"$f":"IF(データシート!KX5=0,\"\",データシート!KX5)","v":""},{"$f":"IF(データシート!KY5=0,\"\",データシート!KY5)","v":""},{"$f":"IF(データシート!KZ5=0,\"\",データシート!KZ5)","v":""},{"$f":"IF(データシート!LA5=0,\"\",データシート!LA5)","v":""},{"$f":"IF(データシート!LB5=0,\"\",データシート!LB5)","v":""},{"$f":"IF(データシート!LC5=0,\"\",データシート!LC5)","v":""},{"$f":"IF(データシート!LD5=0,\"\",データシート!LD5)","v":""},{"$f":"IF(データシート!LE5=0,\"\",データシート!LE5)","v":""},{"$f":"IF(データシート!LF5=0,\"\",データシート!LF5)","v":""},{"$f":"IF(データシート!LG5=0,\"\",データシート!LG5)","v":""},{"$f":"IF(データシート!LH5=0,\"\",データシート!LH5)","v":""},{"$f":"IF(データシート!LI5=0,\"\",データシート!LI5)","v":""},{"$f":"IF(データシート!LJ5=0,\"\",データシート!LJ5)","v":""},{"$f":"IF(データシート!LK5=0,\"\",データシート!LK5)","v":""},{"$f":"IF(データシート!LL5=0,\"\",データシート!LL5)","v":""}]

{"sheet":"データシート","index":12,"n_rows":5,"n_cols":324,"rows_kept":5,"cut":false,"hidden":true,"merged":[[0,286,0,323],[1,286,2,287],[1,288,2,293],[1,294,2,311],[1,312,2,314],[1,315,2,320],[1,321,3,321],[1,322,3,322],[1,323,3,323],[0,279,1,283],[0,284,1,285],[2,279,3,279],[2,280,3,280],[2,281,3,281],[2,282,3,282],[2,283,3,283],[2,284,3,284],[2,285,3,285],[1,49,2,51],[1,52,2,54],[2,114,2,116],[2,183,2,185],[2,75,2,77],[2,78,2,80],[0,117,0,206],[0,58,2,62],[2,162,2,164],[2,189,2,191],[2,195,2,197],[2,198,2,200],[2,186,2,188],[2,171,2,173],[2,156,2,158],[2,165,2,167],[2,174,2,176],[2,84,2,86],[2,87,2,89],[2,105,2,107],[2,120,2,122],[2,123,2,125],[2,153,2,155],[2,96,2,98],[1,117,1,179],[0,1,0,16],[0,17,0,30],[1,1,1,2],[1,3,1,5],[1,6,1,10],[1,55,2,57],[2,159,2,161],[2,135,2,137],[2,138,2,140],[2,141,2,143],[1,33,2,34],[1,43,2,44],[2,129,2,131],[2,132,2,134],[2,147,2,149],[0,31,0,57],[2,63,2,65],[2,66,2,68],[0,63,1,71],[2,69,2,71],[1,31,2,32],[1,35,2,36],[2,7,2,9],[3,7,3,9],[3,23,3,25],[1,30,3,30],[1,45,2,46],[1,47,2,48],[1,39,2,40],[1,41,2,42],[1,29,3,29],[1,12,3,12],[1,13,3,13],[1,14,3,14],[1,15,3,15],[1,16,3,16],[1,11,3,11],[1,19,1,21],[1,22,1,25],[1,26,3,26],[1,27,3,27],[1,28,3,28],[1,37,2,38],[1,17,1,18],[1,180,1,206],[2,81,2,83],[2,213,2,215],[2,216,2,218],[2,180,2,182],[0,207,2,209],[2,201,2,203],[2,90,2,92],[2,150,2,152],[2,168,2,170],[2,144,2,146],[2,99,2,101],[2,102,2,104],[0,72,1,116],[2,210,2,212],[2,126,2,128],[2,93,2,95],[2,117,2,119],[2,108,2,110],[2,111,2,113],[2,72,2,74],[2,204,2,206],[2,177,2,179],[2,192,2,194],[1,259,2,263],[1,264,2,268],[1,269,2,273],[1,274,2,278],[2,222,2,224],[0,249,0,258],[2,225,2,227],[2,228,2,230],[2,231,2,233],[1,234,2,236],[0,210,0,236],[1,210,1,233],[2,219,2,221],[1,249,2,253],[0,237,0,248],[1,237,2,240],[1,241,2,244],[1,245,2,248],[1,254,2,258]]}
[null,"本店情報",null,null,null,null,null,null,null,null,null,null,null,null,null,null,null,"受任者情報",null,null,null,null,null,null,null,null,null,null,null,null,null,"業者登録状況",null,null,null,null,null,null,null,null,null,null,null,null,null,null,null,null,null,null,null,null,null,null,null,null,null,null,"担当者",null,null,null,null,"測量",null,null,null,null,null,null,null,null,"建築関係建設コンサルタント",null,null,null,null,null,null,null,null,null,null,null,null,null,null,null,null,null,null,null,null,null,null,null,null,null,null,null,null,null,null,null,null,null,null,null,null,null,null,null,null,null,null,null,null,"土木関係建設コンサルタント業務",null,null,null,null,null,null,null,null,null,null,null,null,null,null,null,null,null,null,null,null,null,null,null,null,null,null,null,null,null,null,null,null,null,null,null,null,null,null,null,null,null,null,null,null,null,null,null,null,null,null,null,null,null,null,null,null,null,null,null,null,null,null,null,null,null,null,null,null,null,null,null,null,null,null,null,null,null,null,null,null,null,null,null,null,null,null,null,null,null,"地質調査",null,null,"補償関係コンサルタント業務",null,null,null,null,null,null,null,null,null,null,null,null,null,null,null,null,null,null,null,null,null,null,null,null,null,null,"その他",null,null,null,null,null,null,null,null,null,null,null,"実績高",null,null,null,null,null,null,null,null,null,null,null,null,null,null,null,null,null,null,null,null,null,null,null,null,null,null,null,null,null,"計量証明",null,null,null,null,"環境\n調査",null,"職員数"]
[null,"商号",null,"代表者",null,null,"所在地",null,null,null,null,"営業年数","総職員数","技術者数","電話番号","FAX番号","Eメール\nアドレス","商号",null,"受任者",null,null,"所在地",null,null,null,"うち受任先職員数","うち受任先技術者数","電話番号","FAX番号","Eメール\nアドレス","測量業者",null,"地質調査業者",null,"土地家屋調査士",null,"建築士事務所",null,"補償コンサルタント",null,"司法書士",null,"建設コンサルタント",null,"不動産鑑定業者",null,"計量証明業者",null,"その他①",null,null,"その他②",null,null,"その他③",null,null,null,null,null,null,null,null,null,null,null,null,null,null,null,null,null,null,null,null,null,null,null,null,null,null,null,null,null,null,null,null,null,null,null,null,null,null,null,null,null,null,null,null,null,null,null,null,null,null,null,null,null,null,null,null,null,null,null,null,null,"建設コンサルタント",null,null,null,null,null,null,null,null,null,null,null,null,null,null,null,null,null,null,null,null,null,null,null,null,null,null,null,null,null,null,null,null,null,null,null,null,null,null,null,null,null,null,null,null,null,null,null,null,null,null,null,null,null,null,null,null,null,null,null,null,null,null,null,null,null,null,null,null,null,null,null,null,null,null,null,null,null,null,null,null,null,null,null,null,null,null,null,null,null,null,null,null,"補償コンサルタント業務",null,null,null,null,null,null,null,null,null,null,null,null,null,null,null,null,null,null,null,null,null,null,null,"不動産鑑定",null,null,"その他①",null,null,null,"その他②",null,null,null,"その他③",null,null,null,"測量",null,null,null,null,"建築関係建設コンサルタント",null,null,null,null,"土木関係建設コンサルタント",null,null,null,null,"地質調査",null,null,null,null,"補償関係コンサルタント",null,null,null,null,"その他",null,null,null,null,null,null,null,null,null,null,null,"測　　　　　　　　　量　",null,"建築関係建設コンサルタント",null,null,null,null,null,"土木関係建設コンサルタント",null,null,null,null,null,null,null,null,null,null,null,null,null,null,null,null,null,"地質調査",null,null,"補償関係コンサルタント",null,null,null,null,null,"事務職員","その他職員","合計"]
[null,null,null,null,null,null,null,null,null,null,null,null,null,null,null,null,null,null,null,null,null,null,null,null,null,null,null,null,null,null,null,null,null,null,null,null,null,null,null,null,null,null,null,null,null,null,null,null,null,null,null,null,null,null,null,null,null,null,null,null,null,null,null,"測量一般",null,null,"地図の調整",null,null,"航空測量",null,null,"建築一般",null,null,"意匠",null,null,"構造",null,null,"暖冷房",null,null,"衛生",null,null,"電気",null,null,"建築積算",null,null,"機械積算",null,null,"電気積算",null,null,"工事監理（建築）",null,null,"工事監理（電気）",null,null,"工事監理（機械）",null,null,"調査",null,null,"耐震診断",null,null,"地区計画及び地域計画",null,null,"河川、砂防及び海岸・海洋",null,null,"港湾及び空港",null,null,"電力土木",null,null,"道路",null,null,"鉄道",null,null,"上下水道及び工業用水",null,null,"下水道",null,null,"農業土木",null,null,"森林土木",null,null,"水産土木",null,null,"廃棄物",null,null,"造園",null,null,"都市計画及び地方計画",null,null,"地質",null,null,"土質及び基礎",null,null,"鋼構造及びコンクリート",null,null,"トンネル",null,null,"施工計画・施工設備及び積算",null,null,"建設環境",null,null,"機械",null,null,"電気電子",null,null,"交通量調査",null,null,"環境調査",null,null,"経済調査",null,null,"分析・解析",null,null,"宅地造成",null,null,"電算関係",null,null,"計算業務",null,null,"資料等整理",null,null,"施工監理",null,null,null,null,null,"土地調査",null,null,"土地評価",null,null,"物件",null,null,"機械工作物",null,null,"営業補償・特殊補償",null,null,"事業損失",null,null,"補償関連",null,null,"総合補償",null,null,null,null,null,null,null,null,null,null,null,null,null,null,null,null,null,null,null,null,null,null,null,null,null,null,null,null,null,null,null,null,null,null,null,null,null,null,null,null,null,null,null,null,null,null,null,"振動","音圧","濃度","特定濃度","ＭＬＡＰ","作業環境測定","土壌汚染状況調査"]
[null,"名称","フリガナ","役職名","氏名","フリガナ","郵便番号","所在地",null,null,"所在地\nフリガナ",null,null,null,null,null,null,"名称","フリガナ","役職名","氏名","フリガナ","郵便番号","所在地",null,null,null,null,null,null,null,"登録番号","登録年月日","登録番号","登録年月日","登録番号","登録年月日","登録番号","登録年月日","登録番号","登録年月日","登録番号","登録年月日","登録番号","登録年月日","登録番号","登録年月日","登録番号","登録年月日","登録番号","業種名称","登録年月日","登録番号","業種名称","登録年月日","登録番号","業種名称","登録年月日","部署名","氏名","電話番号","FAX番号","Eメールアドレス","登録\n業種","希望\n業種","本・受","登録\n業種","希望\n業種","本・受","登録\n業種","希望\n業種","本・受","登録\n業種","希望\n業種","本・受","登録\n業種","希望\n業種","本・受","登録\n業種","希望\n業種","本・受","登録\n業種","希望\n業種","本・受","登録\n業種","希望\n業種","本・受","登録\n業種","希望\n業種","本・受","登録\n業種","希望\n業種","本・受","登録\n業種","希望\n業種","本・受","登録\n業種","希望\n業種","本・受","登録\n業種","希望\n業種","本・受","登録\n業種","希望\n業種","本・受","登録\n業種","希望\n業種","本・受","登録\n業種","希望\n業種","本・受","登録\n業種","希望\n業種","本・受","登録\n業種","希望\n業種","本・受","登録\n業種","希望\n業種","本・受","登録\n業種","希望\n業種","本・受","登録\n業種","希望\n業種","本・受","登録\n業種","希望\n業種","本・受","登録\n業種","希望\n業種","本・受","登録\n業種","希望\n業種","本・受","登録\n業種","希望\n業種","本・受","登録\n業種","希望\n業種","本・受","登録\n業種","希望\n業種","本・受","登録\n業種","希望\n業種","本・受","登録\n業種","希望\n業種","本・受","登録\n業種","希望\n業種","本・受","登録\n業種","希望\n業種","本・受","登録\n業種","希望\n業種","本・受","登録\n業種","希望\n業種","本・受","登録\n業種","希望\n業種","本・受","登録\n業種","希望\n業種","本・受","登録\n業種","希望\n業種","本・受","登録\n業種","希望\n業種","本・受","登録\n業種","希望\n業種","本・受","登録\n業種","希望\n業種","本・受","登録\n業種","希望\n業種","本・受","登録\n業種","希望\n業種","本・受","登録\n業種","希望\n業種","本・受","登録\n業種","希望\n業種","本・受","登録\n業種","希望\n業種","本・受","登録\n業種","希望\n業種","本・受","登録\n業種","希望\n業種","本・受","登録\n業種","希望\n業種","本・受","登録\n業種","希望\n業種","本・受","登録\n業種","希望\n業種","本・受","登録\n業種","希望\n業種","本・受","登録\n業種","希望\n業種","本・受","登録\n業種","希望\n業種","本・受","登録\n業種","希望\n業種","本・受","登録\n業種","希望\n業種","本・受","登録\n業種","希望\n業種","本・受","登録\n業種","希望\n業種","本・受","登録\n業種","希望\n業種","本・受","登録\n業種","希望\n業種","本・受","業種\n名称","登録\n業種","希望\n業種","本・受","業種\n名称","登録\n業種","希望\n業種","本・受","業種\n名称","登録\n業種","希望\n業種","本・受","直前２年度分決算　①","直前２年度分決算　②","直前１年度分決算　①","直前１年度分決算　②","２年間\n平均実績高","直前２年度分決算　①","直前２年度分決算　②","直前１年度分決算　①","直前１年度分決算　②","２年間\n平均実績高","直前２年度分決算　①","直前２年度分決算　②","直前１年度分決算　①","直前１年度分決算　②","２年間\n平均実績高","直前２年度分決算　①","直前２年度分決算　②","直前１年度分決算　①","直前１年度分決算　②","２年間\n平均実績高","直前２年度分決算　①","直前２年度分決算　②","直前１年度分決算　①","直前１年度分決算　②","２年間\n平均実績高","直前２年度分決算　①","直前２年度分決算　②","直前１年度分決算　①","直前１年度分決算　②","２年間\n平均実績高",null,null,null,null,null,null,null,"測量士","測量士補","１級建築士","２級建築士","構造設計\n１級建築士","設備設計\n１級建築士","建築設備士","建築積算士","１級土木施工管理技士","２級土木施工管理技士","環境計量士","総合監理\n（地質以外）","建設部門","農業部門","森林部門","水産部門","上下水道部門","衛生工学部門","電気電子部門","機械部門","情報工学部門","第１種電気主任技術者","伝送交換主任技術者","線路主任技術者","ＡＰＥＣエンジニア","ＲＣＣＭ","地質調査","総合監理\n（地質）","地質調査技士","不動産鑑定士","不動産鑑定士補","司法書士","補償業務管理士","土地家屋調査士","公共用地経験者"]
["建設関連業務",{"$f":"入力シート１!E7","v":0},{"$f":"入力シート１!E8","v":0},{"$f":"入力シート１!E9","v":0},{"$f":"入力シート１!E10","v":0},{"$f":"入力シート１!E11","v":0},{"$f":"入力シート１!E12","v":0},{"$f":"入力シート１!E13","v":0},{"$f":"入力シート１!E15","v":0},{"$f":"入力シート１!E17","v":0},{"$f":"CONCATENATE(入力シート１!E14,入力シート１!E16,入力シート１!E18)","v":""},{"$f":"入力シート１!E19","v":0},{"$f":"入力シート１!E23","v":0},{"$f":"入力シート１!E20","v":0},{"$f":"入力シート１!E24","v":0},{"$f":"入力シート１!E25","v":0},{"$f":"入力シート１!E26","v":0},{"$f":"入力シート１!E28","v":0},{"$f":"入力シート１!E29","v":0},{"$f":"入力シート１!E30","v":0},{"$f":"入力シート１!E31","v":0},{"$f":"入力シート１!E32","v":0},{"$f":"入力シート１!E33","v":0},{"$f":"入力シート１!E34","v":0},{"$f":"入力シート１!E35","v":0},{"$f":"入力シート１!E36","v":0},{"$f":"入力シート１!E37","v":0},{"$f":"入力シート１!E38","v":0},{"$f":"入力シート１!E39","v":0},{"$f":"入力シート１!E40","v":0},{"$f":"入力シート１!E41","v":0},{"$f":"入力シート１!E71","v":0},{"$f":"入力シート１!E72","v":"00:00:00"},{"$f":"入力シート１!E73","v":0},{"$f":"入力シート１!E74","v":"00:00:00"},{"$f":"入力シート１!E75","v":0},{"$f":"入力シート１!E76","v":"00:00:00"},{"$f":"入力シート１!E77","v":0},{"$f":"入力シート１!E78","v":"00:00:00"},{"$f":"入力シート１!E79","v":0},{"$f":"入力シート１!E80","v":"00:00:00"},{"$f":"入力シート１!E81","v":0},{"$f":"入力シート１!E82","v":"00:00:00"},{"$f":"入力シート１!E83","v":0},{"$f":"入力シート１!E84","v":"00:00:00"},{"$f":"入力シート１!E85","v":0},{"$f":"入力シート１!E86","v":"00:00:00"},{"$f":"入力シート１!E87","v":0},{"$f":"入力シート１!E88","v":"00:00:00"},{"$f":"入力シート１!E89","v":0},{"$f":"入力シート２!E65","v":0},{"$f":"入力シート１!E90","v":"00:00:00"},{"$f":"入力シート１!E91","v":0},{"$f":"入力シート２!E66","v":0},{"$f":"入力シート１!E92","v":"00:00:00"},{"$f":"入力シート１!E93","v":0},{"$f":"入力シート２!E67","v":0},{"$f":"入力シート１!E94","v":"00:00:00"},{"$f":"入力シート１!$E102","v":0},{"$f":"入力シート１!$E103","v":0},{"$f":"入力シート１!E105","v":0},{"$f":"入力シート１!E107","v":0},{"$f":"入力シート１!E108","v":0},null,{"$f":"入力シート２!N7","v":0},{"$f":"入力シート２!P7","v":0},null,{"$f":"入力シート２!N8","v":0},{"$f":"入力シート２!P8","v":0},null,{"$f":"入力シート２!N9","v":0},{"$f":"入力シート２!P9","v":0},null,{"$f":"入力シート２!N10","v":0},{"$f":"入力シート２!P10","v":0},null,{"$f":"入力シート２!N11","v":0},{"$f":"入力シート２!P11","v":0},null,{"$f":"入力シート２!N12","v":0},{"$f":"入力シート２!P12","v":0},null,{"$f":"入力シート２!N13","v":0},{"$f":"入力シート２!P13","v":0},null,{"$f":"入力シート２!N14","v":0},{"$f":"入力シート２!P14","v":0},null,{"$f":"入力シート２!N15","v":0},{"$f":"入力シート２!P15","v":0},null,{"$f":"入力シート２!N16","v":0},{"$f":"入力シート２!P16","v":0},null,{"$f":"入力シート２!N17","v":0},{"$f":"入力シート２!P17","v":0},null,{"$f":"入力シート２!N18","v":0},{"$f":"入力シート２!P18","v":0},null,{"$f":"入力シート２!N19","v":0},{"$f":"入力シート２!P19","v":0},null,{"$f":"入力シート２!N20","v":0},{"$f":"入力シート２!P20","v":0},null,{"$f":"入力シート２!N21","v":0},{"$f":"入力シート２!P21","v":0},null,{"$f":"入力シート２!N22","v":0},{"$f":"入力シート２!P22","v":0},null,{"$f":"入力シート２!N23","v":0},{"$f":"入力シート２!P23","v":0},null,{"$f":"入力シート２!N24","v":0},{"$f":"入力シート２!P24","v":0},{"$f":"入力シート２!L25","v":0},{"$f":"入力シート２!N25","v":0},{"$f":"入力シート２!P25","v":0},{"$f":"入力シート２!L26","v":0},{"$f":"入力シート２!N26","v":0},{"$f":"入力シート２!P26","v":0},{"$f":"入力シート２!L27","v":0},{"$f":"入力シート２!N27","v":0},{"$f":"入力シート２!P27","v":0},{"$f":"入力シート２!L28","v":0},{"$f":"入力シート２!N28","v":0},{"$f":"入力シート２!P28","v":0},{"$f":"入力シート２!L29","v":0},{"$f":"入力シート２!N29","v":0},{"$f":"入力シート２!P29","v":0},{"$f":"入力シート２!L30","v":0},{"$f":"入力シート２!N30","v":0},{"$f":"入力シート２!P30","v":0},{"$f":"入力シート２!L31","v":0},{"$f":"入力シート２!N31","v":0},{"$f":"入力シート２!P31","v":0},{"$f":"入力シート２!L32","v":0},{"$f":"入力シート２!N32","v":0},{"$f":"入力シート２!P32","v":0},{"$f":"入力シート２!L33","v":0},{"$f":"入力シート２!N33","v":0},{"$f":"入力シート２!P33","v":0},{"$f":"入力シート２!L34","v":0},{"$f":"入力シート２!N34","v":0},{"$f":"入力シート２!P34","v":0},{"$f":"入力シート２!L35","v":0},{"$f":"入力シート２!N35","v":0},{"$f":"入力シート２!P35","v":0},{"$f":"入力シート２!L36","v":0},{"$f":"入力シート２!N36","v":0},{"$f":"入力シート２!P36","v":0},{"$f":"入力シート２!L37","v":0},{"$f":"入力シート２!N37","v":0},{"$f":"入力シート２!P37","v":0},{"$f":"入力シート２!L38","v":0},{"$f":"入力シート２!N38","v":0},{"$f":"入力シート２!P38","v":0},{"$f":"入力シート２!L39","v":0},{"$f":"入力シート２!N39","v":0},{"$f":"入力シート２!P39","v":0},{"$f":"入力シート２!L40","v":0},{"$f":"入力シート２!N40","v":0},{"$f":"入力シート２!P40","v":0},{"$f":"入力シート２!L41","v":0},{"$f":"入力シート２!N41","v":0},{"$f":"入力シート２!P41","v":0},{"$f":"入力シート２!L42","v":0},{"$f":"入力シート２!N42","v":0},{"$f":"入力シート２!P42","v":0},{"$f":"入力シート２!L43","v":0},{"$f":"入力シート２!N43","v":0},{"$f":"入力シート２!P43","v":0},{"$f":"入力シート２!L44","v":0},{"$f":"入力シート２!N44","v":0},{"$f":"入力シート２!P44","v":0},{"$f":"入力シート２!L45","v":0},{"$f":"入力シート２!N45","v":0},{"$f":"入力シート２!P45","v":0},null,{"$f":"入力シート２!N46","v":0},{"$f":"入力シート２!P46","v":0},null,{"$f":"入力シート２!N47","v":0},{"$f":"入力シート２!P47","v":0},null,{"$f":"入力シート２!N48","v":0},{"$f":"入力シート２!P48","v":0},null,{"$f":"入力シート２!N49","v":0},{"$f":"入力シート２!P49","v":0},null,{"$f":"入力シート２!N50","v":0},{"$f":"入力シート２!P50","v":0},null,{"$f":"入力シート２!N51","v":0},{"$f":"入力シート２!P51","v":0},null,{"$f":"入力シート２!N52","v":0},{"$f":"入力シート２!P52","v":0},null,{"$f":"入力シート２!N53","v":0},{"$f":"入力シート２!P53","v":0},null,{"$f":"入力シート２!N54","v":0},{"$f":"入力シート２!P54","v":0},null,{"$f":"入力シート２!N55","v":0},{"$f":"入力シート２!P55","v":0},{"$f":"入力シート２!L56","v":0},{"$f":"入力シート２!N56","v":0},{"$f":"入力シート２!P56","v":0},{"$f":"入力シート２!L57","v":0},{"$f":"入力シート２!N57","v":0},{"$f":"入力シート２!P57","v":0},{"$f":"入力シート２!L58","v":0},{"$f":"入力シート２!N58","v":0},{"$f":"入力シート２!P58","v":0},{"$f":"入力シート２!L59","v":0},{"$f":"入力シート２!N59","v":0},{"$f":"入力シート２!P59","v":0},{"$f":"入力シート２!L60","v":0},{"$f":"入力シート２!N60","v":0},{"$f":"入力シート２!P60","v":0},{"$f":"入力シート２!L61","v":0},{"$f":"入力シート２!N61","v":0},{"$f":"入力シート２!P61","v":0},{"$f":"入力シート２!L62","v":0},{"$f":"入力シート２!N62","v":0},{"$f":"入力シート２!P62","v":0},{"$f":"入力シート２!L63","v":0},{"$f":"入力シート２!N63","v":0},{"$f":"入力シート２!P63","v":0},null,{"$f":"入力シート２!N64","v":0},{"$f":"入力シート２!P64","v":0},{"$f":"入力シート１!C90","v":0},{"$f":"入力シート２!L65","v":0},{"$f":"入力シート２!N65","v":0},{"$f":"入力シート２!P65","v":0},{"$f":"入力シート１!C92","v":0},{"$f":"入力シート２!L66","v":0},{"$f":"入力シート２!N66","v":0},{"$f":"入力シート２!P66","v":0},{"$f":"入力シート１!C94","v":0},{"$f":"入力シート２!L67","v":0},{"$f":"入力シート２!N67","v":0},{"$f":"入力シート２!P67","v":0},{"$f":"'入力・印刷シート2(経営規模総括表)'!AD8","v":0},{"$f":"'入力・印刷シート2(経営規模総括表)'!BB8","v":0},{"$f":"'入力・印刷シート2(経営規模総括表)'!BZ8","v":0},{"$f":"'入力・印刷シート2(経営規模総括表)'!CX8","v":0},{"$f":"'入力・印刷シート2(経営規模総括表)'!DV8","v":0},{"$f":"'入力・印刷シート2(経営規模総括表)'!AD9","v":0},{"$f":"'入力・印刷シート2(経営規模総括表)'!BB9","v":0},{"$f":"'入力・印刷シート2(経営規模総括表)'!BZ9","v":0},{"$f":"'入力・印刷シート2(経営規模総括表)'!CX9","v":0},{"$f":"'入力・印刷シート2(経営規模総括表)'!DV9","v":0},{"$f":"'入力・印刷シート2(経営規模総括表)'!AD10","v":0},{"$f":"'入力・印刷シート2(経営規模総括表)'!BB10","v":0},{"$f":"'入力・印刷シート2(経営規模総括表)'!BZ10","v":0},{"$f":"'入力・印刷シート2(経営規模総括表)'!CX10","v":0},{"$f":"'入力・印刷シート2(経営規模総括表)'!DV10","v":0},{"$f":"'入力・印刷シート2(経営規模総括表)'!AD11","v":0},{"$f":"'入力・印刷シート2(経営規模総括表)'!BB11","v":0},{"$f":"'入力・印刷シート2(経営規模総括表)'!BZ11","v":0},{"$f":"'入力・印刷シート2(経営規模総括表)'!CX11","v":0},{"$f":"'入力・印刷シート2(経営規模総括表)'!DV11","v":0},{"$f":"'入力・印刷シート2(経営規模総括表)'!AD12","v":0},{"$f":"'入力・印刷シート2(経営規模総括表)'!BB2","v":0},{"$f":"'入力・印刷シート2(経営規模総括表)'!BZ12","v":0},{"$f":"'入力・印刷シート2(経営規模総括表)'!CX12","v":0},{"$f":"'入力・印刷シート2(経営規模総括表)'!DV12","v":0},{"$f":"'入力・印刷シート2(経営規模総括表)'!AD13","v":0},{"$f":"'入力・印刷シート2(経営規模総括表)'!BB13","v":0},{"$f":"'入力・印刷シート2(経営規模総括表)'!BZ13","v":0},{"$f":"'入力・印刷シート2(経営規模総括表)'!CX13","v":0},{"$f":"'入力・印刷シート2(経営規模総括表)'!DV13","v":0},{"$f":"入力シート１!E95","v":0},{"$f":"入力シート１!E96","v":0},{"$f":"入力シート１!E97","v":0},{"$f":"入力シート１!E98","v":0},{"$f":"入力シート１!E99","v":0},{"$f":"入力シート１!E100","v":0},{"$f":"入力シート１!E101","v":0},{"$f":"'入力・印刷シート2(経営規模総括表)'!DD19","v":0},{"$f":"'入力・印刷シート2(経営規模総括表)'!DP19","v":0},{"$f":"'入力・印刷シート2(経営規模総括表)'!AJ19","v":0},{"$f":"'入力・印刷シート2(経営規模総括表)'!AV19","v":0},{"$f":"'入力・印刷シート2(経営規模総括表)'!L19","v":0},{"$f":"'入力・印刷シート2(経営規模総括表)'!X19","v":0},{"$f":"'入力・印刷シート2(経営規模総括表)'!BH19","v":0},{"$f":"'入力・印刷シート2(経営規模総括表)'!BT19","v":0},{"$f":"'入力・印刷シート2(経営規模総括表)'!CF19","v":0},{"$f":"'入力・印刷シート2(経営規模総括表)'!CR19","v":0},{"$f":"'入力・印刷シート2(経営規模総括表)'!EB19","v":0},{"$f":"'入力・印刷シート2(経営規模総括表)'!L23","v":0},{"$f":"'入力・印刷シート2(経営規模総括表)'!X23","v":0},{"$f":"'入力・印刷シート2(経営規模総括表)'!AJ23","v":0},{"$f":"'入力・印刷シート2(経営規模総括表)'!AV23","v":0},{"$f":"'入力・印刷シート2(経営規模総括表)'!BH23","v":0},{"$f":"'入力・印刷シート2(経営規模総括表)'!BT23","v":0},{"$f":"'入力・印刷シート2(経営規模総括表)'!CF23","v":0},{"$f":"'入力・印刷シート2(経営規模総括表)'!CR23","v":0},{"$f":"'入力・印刷シート2(経営規模総括表)'!DD23","v":0},{"$f":"'入力・印刷シート2(経営規模総括表)'!DP23","v":0},{"$f":"'入力・印刷シート2(経営規模総括表)'!L26","v":0},{"$f":"'入力・印刷シート2(経営規模総括表)'!X26","v":0},{"$f":"'入力・印刷シート2(経営規模総括表)'!AJ26","v":0},{"$f":"'入力・印刷シート2(経営規模総括表)'!AV26","v":0},{"$f":"'入力・印刷シート2(経営規模総括表)'!BH26","v":0},{"$f":"'入力・印刷シート2(経営規模総括表)'!EN23","v":0},{"$f":"'入力・印刷シート2(経営規模総括表)'!EB23","v":0},{"$f":"'入力・印刷シート2(経営規模総括表)'!BT26","v":0},{"$f":"'入力・印刷シート2(経営規模総括表)'!EN19","v":0},{"$f":"'入力・印刷シート2(経営規模総括表)'!EZ19","v":0},{"$f":"'入力・印刷シート2(経営規模総括表)'!DP26","v":0},{"$f":"'入力・印刷シート2(経営規模総括表)'!CF26","v":0},{"$f":"'入力・印刷シート2(経営規模総括表)'!DD26","v":0},{"$f":"'入力・印刷シート2(経営規模総括表)'!CR26","v":0},{"$f":"'入力・印刷シート2(経営規模総括表)'!AV57","v":0},{"$f":"'入力・印刷シート2(経営規模総括表)'!BT57","v":0},{"$f":"'入力・印刷シート2(経営規模総括表)'!CR57","v":0}]

{"sheet":"都道府県","index":13,"n_rows":47,"n_cols":3,"rows_kept":47,"cut":false,"hidden":true,"merged":[]}
[1,"北海道","ﾎｯｶｲﾄﾞｳ"]
[2,"青森県","ｱｵﾓﾘｹﾝ"]
[3,"岩手県","ｲﾜﾃｹﾝ"]
[4,"宮城県","ﾐﾔｷﾞｹﾝ"]
[5,"秋田県","ｱｷﾀｹﾝ"]
[6,"山形県","ﾔﾏｶﾞﾀｹﾝ"]
[7,"福島県","ﾌｸｼﾏｹﾝ"]
[8,"茨城県","ｲﾊﾞﾗｷｹﾝ"]
[9,"栃木県","ﾄﾁｷﾞｹﾝ"]
[10,"群馬県","ｸﾞﾝﾏｹﾝ"]
[11,"埼玉県","ｻｲﾀﾏｹﾝ"]
[12,"千葉県","ﾁﾊﾞｹﾝ"]
[13,"東京都","ﾄｳｷｮｳﾄ"]
[14,"神奈川県","ｶﾅｶﾞﾜｹﾝ"]
[15,"新潟県","ﾆｲｶﾞﾀｹﾝ"]
[16,"富山県","ﾄﾔﾏｹﾝ"]
[17,"石川県","ｲｼｶﾜｹﾝ"]
[18,"福井県","ﾌｸｲｹﾝ"]
[19,"山梨県","ﾔﾏﾅｼｹﾝ"]
[20,"長野県","ﾅｶﾞﾉｹﾝ"]
[21,"岐阜県","ｷﾞﾌｹﾝ"]
[22,"静岡県","ｼｽﾞｵｶｹﾝ"]
[23,"愛知県","ｱｲﾁｹﾝ"]
[24,"三重県","ﾐｴｹﾝ"]
[25,"滋賀県","ｼｶﾞｹﾝ"]
[26,"京都府","ｷｮｳﾄﾌ"]
[27,"大阪府","ｵｵｻｶﾌ"]
[28,"兵庫県","ﾋｮｳｺﾞｹﾝ"]
[29,"奈良県","ﾅﾗｹﾝ"]
[30,"和歌山県","ﾜｶﾔﾏｹﾝ"]
[31,"鳥取県","ﾄｯﾄﾘｹﾝ"]
[32,"島根県","ｼﾏﾈｹﾝ"]
[33,"岡山県","ｵｶﾔﾏｹﾝ"]
[34,"広島県","ﾋﾛｼﾏｹﾝ"]
[35,"山口県","ﾔﾏｸﾞﾁｹﾝ"]
[36,"徳島県","ﾄｸｼﾏｹﾝ"]
[37,"香川県","ｶｶﾞﾜｹﾝ"]
[38,"愛媛県","ｴﾋﾒｹﾝ"]
[39,"高知県","ｺｳﾁｹﾝ"]
[40,"福岡県","ﾌｸｵｶｹﾝ"]
[41,"佐賀県","ｻｶﾞｹﾝ"]
[42,"長崎県","ﾅｶﾞｻｷｹﾝ"]
[43,"熊本県","ｸﾏﾓﾄｹﾝ"]
[44,"大分県","ｵｵｲﾀｹﾝ"]
[45,"宮崎県","ﾐﾔｻﾞｷｹﾝ"]
[46,"鹿児島県","ｶｺﾞｼﾏｹﾝ"]
[47,"沖縄県","ｵｷﾅﾜｹﾝ"]